| Back to Multiple platform build/check report for BioC 3.12 |
|
This page was generated on 2021-05-06 12:26:50 -0400 (Thu, 06 May 2021).
|
To the developers/maintainers of the animalcules package: Please make sure to use the following settings in order to reproduce any error or warning you see on this page. |
| Package 58/1974 | Hostname | OS / Arch | INSTALL | BUILD | CHECK | BUILD BIN | ||||||||
| animalcules 1.6.0 (landing page) Yue Zhao
| malbec1 | Linux (Ubuntu 18.04.5 LTS) / x86_64 | ERROR | ERROR | skipped | |||||||||
| tokay1 | Windows Server 2012 R2 Standard / x64 | ERROR | ERROR | skipped | skipped | |||||||||
| merida1 | macOS 10.14.6 Mojave / x86_64 | ERROR | ERROR | skipped | skipped | |||||||||
| Package: animalcules |
| Version: 1.6.0 |
| Command: /home/biocbuild/bbs-3.12-bioc/R/bin/R CMD build --keep-empty-dirs --no-resave-data animalcules |
| StartedAt: 2021-05-05 17:34:24 -0400 (Wed, 05 May 2021) |
| EndedAt: 2021-05-05 17:34:28 -0400 (Wed, 05 May 2021) |
| EllapsedTime: 3.5 seconds |
| RetCode: 1 |
| Status: ERROR |
| PackageFile: None |
| PackageFileSize: NA |
##############################################################################
##############################################################################
###
### Running command:
###
### /home/biocbuild/bbs-3.12-bioc/R/bin/R CMD build --keep-empty-dirs --no-resave-data animalcules
###
##############################################################################
##############################################################################
* checking for file ‘animalcules/DESCRIPTION’ ... OK
* preparing ‘animalcules’:
* checking DESCRIPTION meta-information ... OK
* installing the package to build vignettes
-----------------------------------
ERROR: dependency ‘DMwR’ is not available for package ‘animalcules’
* removing ‘/tmp/Rtmps2NR0d/Rinst79145c5deed/animalcules’
-----------------------------------
ERROR: package installation failed