| Back to Multiple platform build/check report for BioC 3.12 |
|
This page was generated on 2021-05-06 12:26:48 -0400 (Thu, 06 May 2021).
|
To the developers/maintainers of the amplican package: Please make sure to use the following settings in order to reproduce any error or warning you see on this page. |
| Package 53/1974 | Hostname | OS / Arch | INSTALL | BUILD | CHECK | BUILD BIN | ||||||||
| amplican 1.12.0 (landing page) Eivind Valen
| malbec1 | Linux (Ubuntu 18.04.5 LTS) / x86_64 | OK | OK | OK | |||||||||
| tokay1 | Windows Server 2012 R2 Standard / x64 | OK | OK | OK | OK | |||||||||
| merida1 | macOS 10.14.6 Mojave / x86_64 | OK | OK | OK | OK | |||||||||
| Package: amplican |
| Version: 1.12.0 |
| Command: /home/biocbuild/bbs-3.12-bioc/R/bin/R CMD check --install=check:amplican.install-out.txt --library=/home/biocbuild/bbs-3.12-bioc/R/library --no-vignettes --timings amplican_1.12.0.tar.gz |
| StartedAt: 2021-05-05 22:56:39 -0400 (Wed, 05 May 2021) |
| EndedAt: 2021-05-05 22:59:37 -0400 (Wed, 05 May 2021) |
| EllapsedTime: 177.9 seconds |
| RetCode: 0 |
| Status: OK |
| CheckDir: amplican.Rcheck |
| Warnings: 0 |
##############################################################################
##############################################################################
###
### Running command:
###
### /home/biocbuild/bbs-3.12-bioc/R/bin/R CMD check --install=check:amplican.install-out.txt --library=/home/biocbuild/bbs-3.12-bioc/R/library --no-vignettes --timings amplican_1.12.0.tar.gz
###
##############################################################################
##############################################################################
* using log directory ‘/home/biocbuild/bbs-3.12-bioc/meat/amplican.Rcheck’
* using R version 4.0.5 (2021-03-31)
* using platform: x86_64-pc-linux-gnu (64-bit)
* using session charset: UTF-8
* using option ‘--no-vignettes’
* checking for file ‘amplican/DESCRIPTION’ ... OK
* checking extension type ... Package
* this is package ‘amplican’ version ‘1.12.0’
* package encoding: UTF-8
* checking package namespace information ... OK
* checking package dependencies ... OK
* checking if this is a source package ... OK
* checking if there is a namespace ... OK
* checking for hidden files and directories ... OK
* checking for portable file names ... OK
* checking for sufficient/correct file permissions ... OK
* checking whether package ‘amplican’ can be installed ... OK
* checking installed package size ... OK
* checking package directory ... OK
* checking ‘build’ directory ... OK
* checking DESCRIPTION meta-information ... OK
* checking top-level files ... OK
* checking for left-over files ... OK
* checking index information ... OK
* checking package subdirectories ... OK
* checking R files for non-ASCII characters ... OK
* checking R files for syntax errors ... OK
* checking whether the package can be loaded ... OK
* checking whether the package can be loaded with stated dependencies ... OK
* checking whether the package can be unloaded cleanly ... OK
* checking whether the namespace can be loaded with stated dependencies ... OK
* checking whether the namespace can be unloaded cleanly ... OK
* checking dependencies in R code ... OK
* checking S3 generic/method consistency ... OK
* checking replacement functions ... OK
* checking foreign function calls ... OK
* checking R code for possible problems ... OK
* checking Rd files ... OK
* checking Rd metadata ... OK
* checking Rd cross-references ... OK
* checking for missing documentation entries ... OK
* checking for code/documentation mismatches ... OK
* checking Rd \usage sections ... OK
* checking Rd contents ... OK
* checking for unstated dependencies in examples ... OK
* checking line endings in C/C++/Fortran sources/headers ... OK
* checking compiled code ... NOTE
Note: information on .o files is not available
* checking files in ‘vignettes’ ... OK
* checking examples ... OK
Examples with CPU (user + system) or elapsed time > 5s
user system elapsed
amplicanAlign 8.200 0.228 8.471
amplicanPipeline 5.496 0.040 5.582
* checking for unstated dependencies in ‘tests’ ... OK
* checking tests ...
Running ‘testthat.R’
OK
* checking for unstated dependencies in vignettes ... OK
* checking package vignettes in ‘inst/doc’ ... OK
* checking running R code from vignettes ... SKIPPED
* checking re-building of vignette outputs ... SKIPPED
* checking PDF version of manual ... OK
* DONE
Status: 1 NOTE
See
‘/home/biocbuild/bbs-3.12-bioc/meat/amplican.Rcheck/00check.log’
for details.
amplican.Rcheck/00install.out
############################################################################## ############################################################################## ### ### Running command: ### ### /home/biocbuild/bbs-3.12-bioc/R/bin/R CMD INSTALL amplican ### ############################################################################## ############################################################################## * installing to library ‘/home/biocbuild/bbs-3.12-bioc/R/library’ * installing *source* package ‘amplican’ ... ** using staged installation ** libs g++ -std=gnu++11 -I"/home/biocbuild/bbs-3.12-bioc/R/include" -DNDEBUG -I'/home/biocbuild/bbs-3.12-bioc/R/library/Rcpp/include' -I/usr/local/include -fpic -g -O2 -Wall -c RcppExports.cpp -o RcppExports.o g++ -std=gnu++11 -I"/home/biocbuild/bbs-3.12-bioc/R/include" -DNDEBUG -I'/home/biocbuild/bbs-3.12-bioc/R/library/Rcpp/include' -I/usr/local/include -fpic -g -O2 -Wall -c bezier.cpp -o bezier.o g++ -std=gnu++11 -shared -L/home/biocbuild/bbs-3.12-bioc/R/lib -L/usr/local/lib -o amplican.so RcppExports.o bezier.o -L/home/biocbuild/bbs-3.12-bioc/R/lib -lR installing to /home/biocbuild/bbs-3.12-bioc/R/library/00LOCK-amplican/00new/amplican/libs ** R ** inst ** byte-compile and prepare package for lazy loading ** help *** installing help indices ** building package indices ** installing vignettes ** testing if installed package can be loaded from temporary location ** checking absolute paths in shared objects and dynamic libraries ** testing if installed package can be loaded from final location ** testing if installed package keeps a record of temporary installation path * DONE (amplican)
amplican.Rcheck/tests/testthat.Rout
R version 4.0.5 (2021-03-31) -- "Shake and Throw"
Copyright (C) 2021 The R Foundation for Statistical Computing
Platform: x86_64-pc-linux-gnu (64-bit)
R is free software and comes with ABSOLUTELY NO WARRANTY.
You are welcome to redistribute it under certain conditions.
Type 'license()' or 'licence()' for distribution details.
R is a collaborative project with many contributors.
Type 'contributors()' for more information and
'citation()' on how to cite R or R packages in publications.
Type 'demo()' for some demos, 'help()' for on-line help, or
'help.start()' for an HTML browser interface to help.
Type 'q()' to quit R.
> library(testthat)
> library(amplican)
Loading required package: BiocGenerics
Loading required package: parallel
Attaching package: 'BiocGenerics'
The following objects are masked from 'package:parallel':
clusterApply, clusterApplyLB, clusterCall, clusterEvalQ,
clusterExport, clusterMap, parApply, parCapply, parLapply,
parLapplyLB, parRapply, parSapply, parSapplyLB
The following objects are masked from 'package:stats':
IQR, mad, sd, var, xtabs
The following objects are masked from 'package:base':
Filter, Find, Map, Position, Reduce, anyDuplicated, append,
as.data.frame, basename, cbind, colnames, dirname, do.call,
duplicated, eval, evalq, get, grep, grepl, intersect, is.unsorted,
lapply, mapply, match, mget, order, paste, pmax, pmax.int, pmin,
pmin.int, rank, rbind, rownames, sapply, setdiff, sort, table,
tapply, union, unique, unsplit, which.max, which.min
Loading required package: Biostrings
Loading required package: S4Vectors
Loading required package: stats4
Attaching package: 'S4Vectors'
The following object is masked from 'package:base':
expand.grid
Loading required package: IRanges
Loading required package: XVector
Attaching package: 'Biostrings'
The following object is masked from 'package:base':
strsplit
Loading required package: data.table
Attaching package: 'data.table'
The following object is masked from 'package:IRanges':
shift
The following objects are masked from 'package:S4Vectors':
first, second
Pease consider supporting this software by citing:
Labun et al. 2019
Accurate analysis of genuine CRISPR editing events with ampliCan.
Genome Res. 2019 Mar 8
doi: 10.1101/gr.244293.118
Without appreciation scientific software is usually abandoned and eventually deprecated, but you can easily support authors by citations.
>
> test_check("amplican")
[ FAIL 0 | WARN 3 | SKIP 0 | PASS 56 ]
>
> proc.time()
user system elapsed
30.092 0.436 30.556
amplican.Rcheck/amplican-Ex.timings
| name | user | system | elapsed | |
| AlignmentsExperimentSet-class | 2.356 | 0.032 | 2.404 | |
| amplicanAlign | 8.200 | 0.228 | 8.471 | |
| amplicanConsensus | 0.076 | 0.004 | 0.093 | |
| amplicanFilter | 0.032 | 0.004 | 0.057 | |
| amplicanMap | 0.344 | 0.004 | 0.358 | |
| amplicanNormalize | 0.060 | 0.000 | 0.052 | |
| amplicanOverlap | 0.032 | 0.000 | 0.030 | |
| amplicanPipeline | 5.496 | 0.040 | 5.582 | |
| amplicanReport | 0.024 | 0.000 | 0.021 | |
| amplicanSummarize | 0.032 | 0.000 | 0.025 | |
| amplican_print_reads | 0.440 | 0.000 | 0.444 | |
| assignedCount | 0.056 | 0.000 | 0.066 | |
| barcodeData-set | 0.020 | 0.000 | 0.021 | |
| barcodeData | 0.020 | 0.000 | 0.023 | |
| comb_along | 0.020 | 0.004 | 0.021 | |
| experimentData-set | 0.024 | 0.000 | 0.022 | |
| experimentData | 0.024 | 0.000 | 0.026 | |
| extractEvents | 3.540 | 0.052 | 3.595 | |
| findEOP | 0.008 | 0.000 | 0.005 | |
| findLQR | 0.004 | 0.004 | 0.006 | |
| findPD | 0.004 | 0.000 | 0.005 | |
| fwdReads-set | 0.040 | 0.000 | 0.042 | |
| fwdReads | 0.760 | 0.000 | 0.765 | |
| fwdReadsType-set | 0.040 | 0.000 | 0.041 | |
| fwdReadsType | 0.040 | 0.000 | 0.041 | |
| geom_bezier | 0.488 | 0.000 | 0.489 | |
| lookupAlignment | 0.488 | 0.004 | 0.493 | |
| metaplot_deletions | 0.316 | 0.004 | 0.318 | |
| metaplot_insertions | 0.384 | 0.008 | 0.392 | |
| metaplot_mismatches | 0.384 | 0.000 | 0.382 | |
| plot_cuts | 0.360 | 0.004 | 0.361 | |
| plot_deletions | 0.188 | 0.000 | 0.190 | |
| plot_height | 0.004 | 0.000 | 0.001 | |
| plot_heterogeneity | 0.236 | 0.000 | 0.234 | |
| plot_insertions | 0.356 | 0.000 | 0.356 | |
| plot_mismatches | 0.492 | 0.000 | 0.489 | |
| plot_variants | 0.984 | 0.000 | 0.984 | |
| readCounts-set | 0.044 | 0.000 | 0.043 | |
| readCounts | 0.040 | 0.000 | 0.041 | |
| rveReads-set | 0.040 | 0.000 | 0.042 | |
| rveReads | 0.724 | 0.000 | 0.723 | |
| rveReadsType-set | 0.044 | 0.000 | 0.041 | |
| rveReadsType | 0.040 | 0.000 | 0.039 | |
| unassignedCount | 0.040 | 0.000 | 0.039 | |
| unassignedData-set | 0.040 | 0.000 | 0.041 | |
| unassignedData | 0.040 | 0.000 | 0.042 | |
| writeAlignments | 0.08 | 0.00 | 0.08 | |