| Back to Multiple platform build/check report for BioC 3.12 |
|
This page was generated on 2021-05-06 12:29:50 -0400 (Thu, 06 May 2021).
|
To the developers/maintainers of the affylmGUI package: Please make sure to use the following settings in order to reproduce any error or warning you see on this page. |
| Package 32/1974 | Hostname | OS / Arch | INSTALL | BUILD | CHECK | BUILD BIN | ||||||||
| affylmGUI 1.64.0 (landing page) Gordon Smyth
| malbec1 | Linux (Ubuntu 18.04.5 LTS) / x86_64 | OK | OK | OK | |||||||||
| tokay1 | Windows Server 2012 R2 Standard / x64 | OK | OK | OK | OK | |||||||||
| merida1 | macOS 10.14.6 Mojave / x86_64 | OK | OK | OK | OK | |||||||||
| Package: affylmGUI |
| Version: 1.64.0 |
| Command: rm -rf affylmGUI.buildbin-libdir && mkdir affylmGUI.buildbin-libdir && C:\Users\biocbuild\bbs-3.12-bioc\R\bin\R.exe CMD INSTALL --merge-multiarch --build --library=affylmGUI.buildbin-libdir affylmGUI_1.64.0.tar.gz |
| StartedAt: 2021-05-06 08:23:12 -0400 (Thu, 06 May 2021) |
| EndedAt: 2021-05-06 08:25:00 -0400 (Thu, 06 May 2021) |
| EllapsedTime: 108.4 seconds |
| RetCode: 0 |
| Status: OK |
| PackageFile: affylmGUI_1.64.0.zip |
| PackageFileSize: 2.101 MiB |
##############################################################################
##############################################################################
###
### Running command:
###
### rm -rf affylmGUI.buildbin-libdir && mkdir affylmGUI.buildbin-libdir && C:\Users\biocbuild\bbs-3.12-bioc\R\bin\R.exe CMD INSTALL --merge-multiarch --build --library=affylmGUI.buildbin-libdir affylmGUI_1.64.0.tar.gz
###
##############################################################################
##############################################################################
install for i386
* installing *source* package 'affylmGUI' ...
** using staged installation
** R
** inst
** byte-compile and prepare package for lazy loading
** help
*** installing help indices
converting help for package 'affylmGUI'
finding HTML links ... done
affylmGU-package html
finding level-2 HTML links ... done
affylmGUI html
internal html
** building package indices
** installing vignettes
** testing if installed package can be loaded from temporary location
** testing if installed package can be loaded from final location
** testing if installed package keeps a record of temporary installation path
install for x64
* installing *source* package 'affylmGUI' ...
** testing if installed package can be loaded
* MD5 sums
packaged installation of 'affylmGUI' as affylmGUI_1.64.0.zip
* DONE (affylmGUI)