| Back to Multiple platform build/check report for BioC 3.12 |
|
This page was generated on 2021-05-06 12:29:49 -0400 (Thu, 06 May 2021).
|
To the developers/maintainers of the adaptest package: Please make sure to use the following settings in order to reproduce any error or warning you see on this page. |
| Package 18/1974 | Hostname | OS / Arch | INSTALL | BUILD | CHECK | BUILD BIN | ||||||||
Weixin Cai
| malbec1 | Linux (Ubuntu 18.04.5 LTS) / x86_64 | OK | OK | ERROR | |||||||||
| tokay1 | Windows Server 2012 R2 Standard / x64 | OK | OK | ERROR | OK | |||||||||
| merida1 | macOS 10.14.6 Mojave / x86_64 | OK | OK | ERROR | OK | |||||||||
| Package: adaptest |
| Version: 1.10.0 |
| Command: rm -rf adaptest.buildbin-libdir && mkdir adaptest.buildbin-libdir && C:\Users\biocbuild\bbs-3.12-bioc\R\bin\R.exe CMD INSTALL --merge-multiarch --build --library=adaptest.buildbin-libdir adaptest_1.10.0.tar.gz |
| StartedAt: 2021-05-06 08:21:58 -0400 (Thu, 06 May 2021) |
| EndedAt: 2021-05-06 08:22:35 -0400 (Thu, 06 May 2021) |
| EllapsedTime: 36.7 seconds |
| RetCode: 0 |
| Status: OK |
| PackageFile: adaptest_1.10.0.zip |
| PackageFileSize: 1.097 MiB |
##############################################################################
##############################################################################
###
### Running command:
###
### rm -rf adaptest.buildbin-libdir && mkdir adaptest.buildbin-libdir && C:\Users\biocbuild\bbs-3.12-bioc\R\bin\R.exe CMD INSTALL --merge-multiarch --build --library=adaptest.buildbin-libdir adaptest_1.10.0.tar.gz
###
##############################################################################
##############################################################################
install for i386
* installing *source* package 'adaptest' ...
** using staged installation
** R
** data
*** moving datasets to lazyload DB
** inst
** byte-compile and prepare package for lazy loading
** help
*** installing help indices
converting help for package 'adaptest'
finding HTML links ... done
adapTMLE-class html
adaptest html
adaptest_old html
bioadaptest html
cv_param_est html
data_adapt html
get_composition html
get_pval html
get_results_adaptmle html
get_significant_biomarker html
plot.data_adapt html
print.data_adapt html
rank_DE html
rank_ttest html
simulated_array html
simulated_treatment html
summary.data_adapt html
** building package indices
** installing vignettes
** testing if installed package can be loaded from temporary location
Warning: Package 'adaptest' is deprecated and will be removed from Bioconductor
version 3.13
** testing if installed package can be loaded from final location
Warning: Package 'adaptest' is deprecated and will be removed from Bioconductor
version 3.13
** testing if installed package keeps a record of temporary installation path
install for x64
* installing *source* package 'adaptest' ...
** testing if installed package can be loaded
Warning: Package 'adaptest' is deprecated and will be removed from Bioconductor
version 3.13
* MD5 sums
packaged installation of 'adaptest' as adaptest_1.10.0.zip
* DONE (adaptest)