| Back to Multiple platform build/check report for BioC 3.12 | 
 | 
This page was generated on 2021-05-06 12:34:15 -0400 (Thu, 06 May 2021).
| To the developers/maintainers of the a4Core package: Please make sure to use the following settings in order to reproduce any error or warning you see on this page. | 
| Package 4/1974 | Hostname | OS / Arch | INSTALL | BUILD | CHECK | BUILD BIN | ||||||||
| a4Core 1.38.0  (landing page) Laure Cougnaud 
 | malbec1 | Linux (Ubuntu 18.04.5 LTS) / x86_64 | OK | OK | OK |  | ||||||||
| tokay1 | Windows Server 2012 R2 Standard / x64 | OK | OK | OK | OK |  | ||||||||
| merida1 | macOS 10.14.6 Mojave / x86_64 | OK | OK | OK | OK |  | ||||||||
| Package: a4Core | 
| Version: 1.38.0 | 
| Command: rm -rf a4Core.buildbin-libdir && mkdir a4Core.buildbin-libdir && /Users/biocbuild/BBS/utils/build-universal.sh a4Core_1.38.0.tar.gz /Library/Frameworks/R.framework/Versions/Current/Resources/bin/R a4Core.buildbin-libdir | 
| StartedAt: 2021-05-06 07:49:40 -0400 (Thu, 06 May 2021) | 
| EndedAt: 2021-05-06 07:50:33 -0400 (Thu, 06 May 2021) | 
| EllapsedTime: 53.4 seconds | 
| RetCode: 0 | 
| Status: OK | 
| PackageFile: a4Core_1.38.0.tgz | 
| PackageFileSize: 296.7 KiB | 
############################################################################## ############################################################################## ### ### Running command: ### ### rm -rf a4Core.buildbin-libdir && mkdir a4Core.buildbin-libdir && /Users/biocbuild/BBS/utils/build-universal.sh a4Core_1.38.0.tar.gz /Library/Frameworks/R.framework/Versions/Current/Resources/bin/R a4Core.buildbin-libdir ### ############################################################################## ############################################################################## >>>>>>> >>>>>>> INSTALLATION WITH 'R CMD INSTALL --preclean --no-multiarch --library=a4Core.buildbin-libdir a4Core_1.38.0.tar.gz' >>>>>>> * installing *source* package ‘a4Core’ ... ** using staged installation ** R ** inst ** byte-compile and prepare package for lazy loading ** help *** installing help indices ** building package indices ** installing vignettes ** testing if installed package can be loaded from temporary location ** testing if installed package can be loaded from final location ** testing if installed package keeps a record of temporary installation path * DONE (a4Core)