| Back to Multiple platform build/check report for BioC 3.12 |
|
This page was generated on 2021-05-06 12:29:42 -0400 (Thu, 06 May 2021).
|
To the developers/maintainers of the YAPSA package: Please make sure to use the following settings in order to reproduce any error or warning you see on this page. |
| Package 1968/1974 | Hostname | OS / Arch | INSTALL | BUILD | CHECK | BUILD BIN | ||||||||
| YAPSA 1.16.0 (landing page) Daniel Huebschmann
| malbec1 | Linux (Ubuntu 18.04.5 LTS) / x86_64 | OK | OK | OK | |||||||||
| tokay1 | Windows Server 2012 R2 Standard / x64 | OK | OK | WARNINGS | OK | |||||||||
| merida1 | macOS 10.14.6 Mojave / x86_64 | OK | OK | OK | OK | |||||||||
| Package: YAPSA |
| Version: 1.16.0 |
| Command: /home/biocbuild/bbs-3.12-bioc/R/bin/R CMD check --install=check:YAPSA.install-out.txt --library=/home/biocbuild/bbs-3.12-bioc/R/library --no-vignettes --timings YAPSA_1.16.0.tar.gz |
| StartedAt: 2021-05-06 07:09:19 -0400 (Thu, 06 May 2021) |
| EndedAt: 2021-05-06 07:17:02 -0400 (Thu, 06 May 2021) |
| EllapsedTime: 462.7 seconds |
| RetCode: 0 |
| Status: OK |
| CheckDir: YAPSA.Rcheck |
| Warnings: 0 |
##############################################################################
##############################################################################
###
### Running command:
###
### /home/biocbuild/bbs-3.12-bioc/R/bin/R CMD check --install=check:YAPSA.install-out.txt --library=/home/biocbuild/bbs-3.12-bioc/R/library --no-vignettes --timings YAPSA_1.16.0.tar.gz
###
##############################################################################
##############################################################################
* using log directory ‘/home/biocbuild/bbs-3.12-bioc/meat/YAPSA.Rcheck’
* using R version 4.0.5 (2021-03-31)
* using platform: x86_64-pc-linux-gnu (64-bit)
* using session charset: UTF-8
* using option ‘--no-vignettes’
* checking for file ‘YAPSA/DESCRIPTION’ ... OK
* checking extension type ... Package
* this is package ‘YAPSA’ version ‘1.16.0’
* package encoding: UTF-8
* checking package namespace information ... OK
* checking package dependencies ... OK
* checking if this is a source package ... OK
* checking if there is a namespace ... OK
* checking for hidden files and directories ... OK
* checking for portable file names ... OK
* checking for sufficient/correct file permissions ... OK
* checking whether package ‘YAPSA’ can be installed ... OK
* checking installed package size ... OK
* checking package directory ... OK
* checking ‘build’ directory ... OK
* checking DESCRIPTION meta-information ... OK
* checking top-level files ... OK
* checking for left-over files ... OK
* checking index information ... OK
* checking package subdirectories ... OK
* checking R files for non-ASCII characters ... OK
* checking R files for syntax errors ... OK
* checking whether the package can be loaded ... OK
* checking whether the package can be loaded with stated dependencies ... OK
* checking whether the package can be unloaded cleanly ... OK
* checking whether the namespace can be loaded with stated dependencies ... OK
* checking whether the namespace can be unloaded cleanly ... OK
* checking dependencies in R code ... OK
* checking S3 generic/method consistency ... OK
* checking replacement functions ... OK
* checking foreign function calls ... OK
* checking R code for possible problems ... OK
* checking Rd files ... OK
* checking Rd metadata ... OK
* checking Rd cross-references ... OK
* checking for missing documentation entries ... OK
* checking for code/documentation mismatches ... OK
* checking Rd \usage sections ... OK
* checking Rd contents ... OK
* checking for unstated dependencies in examples ... OK
* checking contents of ‘data’ directory ... OK
* checking data for non-ASCII characters ... OK
* checking data for ASCII and uncompressed saves ... OK
* checking installed files from ‘inst/doc’ ... OK
* checking files in ‘vignettes’ ... OK
* checking examples ... OK
Examples with CPU (user + system) or elapsed time > 5s
user system elapsed
confidence_indel_only_calulation 20.092 0.028 20.163
create_indel_mutation_catalogue_from_df 13.272 0.236 13.540
build_gene_list_for_pathway 4.736 0.088 20.963
* checking for unstated dependencies in ‘tests’ ... OK
* checking tests ...
Running ‘testthat.R’
OK
* checking for unstated dependencies in vignettes ... OK
* checking package vignettes in ‘inst/doc’ ... OK
* checking running R code from vignettes ... SKIPPED
* checking re-building of vignette outputs ... SKIPPED
* checking PDF version of manual ... OK
* DONE
Status: OK
YAPSA.Rcheck/00install.out
############################################################################## ############################################################################## ### ### Running command: ### ### /home/biocbuild/bbs-3.12-bioc/R/bin/R CMD INSTALL YAPSA ### ############################################################################## ############################################################################## * installing to library ‘/home/biocbuild/bbs-3.12-bioc/R/library’ * installing *source* package ‘YAPSA’ ... ** using staged installation ** R ** data ** inst ** byte-compile and prepare package for lazy loading ** help *** installing help indices ** building package indices ** installing vignettes ** testing if installed package can be loaded from temporary location ** testing if installed package can be loaded from final location ** testing if installed package keeps a record of temporary installation path * DONE (YAPSA)
YAPSA.Rcheck/tests/testthat.Rout
R version 4.0.5 (2021-03-31) -- "Shake and Throw"
Copyright (C) 2021 The R Foundation for Statistical Computing
Platform: x86_64-pc-linux-gnu (64-bit)
R is free software and comes with ABSOLUTELY NO WARRANTY.
You are welcome to redistribute it under certain conditions.
Type 'license()' or 'licence()' for distribution details.
R is a collaborative project with many contributors.
Type 'contributors()' for more information and
'citation()' on how to cite R or R packages in publications.
Type 'demo()' for some demos, 'help()' for on-line help, or
'help.start()' for an HTML browser interface to help.
Type 'q()' to quit R.
> Sys.setenv(R_TESTS=" ")
> library(testthat)
> library(YAPSA)
Loading required package: GenomicRanges
Loading required package: stats4
Loading required package: BiocGenerics
Loading required package: parallel
Attaching package: 'BiocGenerics'
The following objects are masked from 'package:parallel':
clusterApply, clusterApplyLB, clusterCall, clusterEvalQ,
clusterExport, clusterMap, parApply, parCapply, parLapply,
parLapplyLB, parRapply, parSapply, parSapplyLB
The following objects are masked from 'package:stats':
IQR, mad, sd, var, xtabs
The following objects are masked from 'package:base':
Filter, Find, Map, Position, Reduce, anyDuplicated, append,
as.data.frame, basename, cbind, colnames, dirname, do.call,
duplicated, eval, evalq, get, grep, grepl, intersect, is.unsorted,
lapply, mapply, match, mget, order, paste, pmax, pmax.int, pmin,
pmin.int, rank, rbind, rownames, sapply, setdiff, sort, table,
tapply, union, unique, unsplit, which.max, which.min
Loading required package: S4Vectors
Attaching package: 'S4Vectors'
The following object is masked from 'package:base':
expand.grid
Loading required package: IRanges
Loading required package: GenomeInfoDb
Loading required package: ggplot2
Loading required package: grid
>
> test_check("YAPSA")
YAPSA:::shapiro_if_possible::error: Non-numeric inputYAPSA:::makeVRangesFromDataFrame::warning:strand information missing, set to "+".
YAPSA:::makeVRangesFromDataFrame::in_PID.field found. Retrieving PID information.
YAPSA:::makeVRangesFromDataFrame::in_subgroup.field found. Retrieving subgroup information.
[ FAIL 0 | WARN 0 | SKIP 0 | PASS 62 ]
>
> proc.time()
user system elapsed
14.712 0.432 17.298
YAPSA.Rcheck/YAPSA-Ex.timings
| name | user | system | elapsed | |
| GenomeOfNl_raw | 0.008 | 0.000 | 0.007 | |
| LCD | 0.008 | 0.000 | 0.007 | |
| LCD_complex_cutoff | 0 | 0 | 0 | |
| MutCat_indel_df | 0.004 | 0.000 | 0.003 | |
| SMC | 0 | 0 | 0 | |
| SMC_perPID | 0 | 0 | 0 | |
| add_annotation | 0 | 0 | 0 | |
| add_as_fist_to_list | 0 | 0 | 0 | |
| aggregate_exposures_by_category | 0 | 0 | 0 | |
| annotate_intermut_dist_PID | 0.016 | 0.000 | 0.016 | |
| annotate_intermut_dist_cohort | 0.016 | 0.004 | 0.021 | |
| annotation_exposures_barplot | 0 | 0 | 0 | |
| annotation_exposures_list_barplot | 0 | 0 | 0 | |
| annotation_heatmap_exposures | 0 | 0 | 0 | |
| attribute_nucleotide_exchanges | 0.004 | 0.000 | 0.002 | |
| attribute_sequence_contex_indel | 1.364 | 0.004 | 1.370 | |
| attribution_of_indels | 0.404 | 0.044 | 0.447 | |
| build_gene_list_for_pathway | 4.736 | 0.088 | 20.963 | |
| classify_indels | 0.000 | 0.000 | 0.001 | |
| compare_SMCs | 0 | 0 | 0 | |
| compare_exposures | 0 | 0 | 0 | |
| compare_expousre_sets | 0.004 | 0.000 | 0.003 | |
| compare_sets | 0.004 | 0.000 | 0.003 | |
| compare_to_catalogues | 0 | 0 | 0 | |
| complex_heatmap_exposures | 0.828 | 0.004 | 0.835 | |
| computeLogLik | 0 | 0 | 0 | |
| compute_comparison_stat_df | 0 | 0 | 0 | |
| confIntExp | 1.216 | 0.052 | 1.271 | |
| confidence_indel_calulation | 0.000 | 0.000 | 0.001 | |
| confidence_indel_only_calulation | 20.092 | 0.028 | 20.163 | |
| correct_rounded | 0 | 0 | 0 | |
| cosineDist | 0 | 0 | 0 | |
| cosineMatchDist | 0.004 | 0.000 | 0.001 | |
| create_indel_mut_cat_from_df | 0.424 | 0.008 | 0.434 | |
| create_indel_mutation_catalogue_from_df | 13.272 | 0.236 | 13.540 | |
| create_mutation_catalogue_from_VR | 1.296 | 0.036 | 1.335 | |
| create_mutation_catalogue_from_df | 0.952 | 0.052 | 1.009 | |
| cut_breaks_as_intervals | 0.112 | 0.004 | 0.115 | |
| deriveSigInd_df | 0 | 0 | 0 | |
| disambiguateVector | 0 | 0 | 0 | |
| enrichSigs | 0 | 0 | 0 | |
| exampleYAPSA | 0.088 | 0.000 | 0.091 | |
| exome_mutCatRaw_df | 0.008 | 0.000 | 0.010 | |
| exposures_barplot | 3.556 | 0.000 | 3.562 | |
| extract_names_from_gene_list | 0 | 0 | 0 | |
| find_affected_PIDs | 0 | 0 | 0 | |
| getSequenceContext | 0.116 | 0.000 | 0.114 | |
| get_extreme_PIDs | 0.024 | 0.000 | 0.023 | |
| hclust_exposures | 0.008 | 0.000 | 0.005 | |
| logLikelihood | 0.800 | 0.084 | 0.888 | |
| lymphomaNature2013_mutCat_df | 0.000 | 0.004 | 0.005 | |
| makeVRangesFromDataFrame | 0.120 | 0.000 | 0.117 | |
| make_catalogue_strata_df | 0 | 0 | 0 | |
| make_comparison_matrix | 0.068 | 0.012 | 0.081 | |
| make_strata_df | 0 | 0 | 0 | |
| make_subgroups_df | 0.028 | 0.004 | 0.030 | |
| melt_exposures | 0 | 0 | 0 | |
| merge_exposures | 0 | 0 | 0 | |
| normalizeMotifs_otherRownames | 0 | 0 | 0 | |
| normalize_df_per_dim | 0.004 | 0.000 | 0.008 | |
| plotExchangeSpectra | 0 | 0 | 0 | |
| plotExchangeSpectra_indel | 0.932 | 0.012 | 0.944 | |
| plotExposuresConfidence | 0 | 0 | 0 | |
| plotExposuresConfidence_indel | 0 | 0 | 0 | |
| plot_SMC | 0 | 0 | 0 | |
| plot_exposures | 0.372 | 0.000 | 0.372 | |
| plot_strata | 0 | 0 | 0 | |
| read_entry | 0 | 0 | 0 | |
| relateSigs | 0 | 0 | 0 | |
| repeat_df | 0.000 | 0.000 | 0.002 | |
| round_precision | 0 | 0 | 0 | |
| run_SMC | 4.084 | 0.108 | 4.195 | |
| run_annotate_vcf_pl | 0 | 0 | 0 | |
| run_comparison_catalogues | 0 | 0 | 0 | |
| run_comparison_general | 0 | 0 | 0 | |
| run_kmer_frequency_correction | 0 | 0 | 0 | |
| run_kmer_frequency_normalization | 0 | 0 | 0 | |
| run_plot_strata_general | 0 | 0 | 0 | |
| shapiro_if_possible | 0.004 | 0.000 | 0.001 | |
| split_exposures_by_subgroups | 0 | 0 | 0 | |
| stat_plot_subgroups | 0 | 0 | 0 | |
| stat_test_SMC | 0.000 | 0.000 | 0.001 | |
| stat_test_subgroups | 0 | 0 | 0 | |
| stderrmean | 0.000 | 0.000 | 0.001 | |
| sum_over_list_of_df | 0.000 | 0.004 | 0.002 | |
| temp_trellis_rainfall_plot | 1.520 | 0.000 | 1.685 | |
| testSigs | 0 | 0 | 0 | |
| test_exposureAffected | 0 | 0 | 0 | |
| test_gene_list_in_exposures | 0 | 0 | 0 | |
| transform_rownames_R_to_MATLAB | 0 | 0 | 0 | |
| translate_to_hg19 | 0.004 | 0.000 | 0.004 | |
| trellis_rainfall_plot | 1.520 | 0.008 | 1.531 | |
| trellis_rainfall_plot_old | 1.636 | 0.000 | 1.642 | |
| variateExp | 2.364 | 0.060 | 2.432 | |
| variateExpSingle | 0.880 | 0.016 | 0.898 | |