| Back to Multiple platform build/check report for BioC 3.12 |
|
This page was generated on 2021-05-06 12:34:13 -0400 (Thu, 06 May 2021).
|
To the developers/maintainers of the Xeva package: Please make sure to use the following settings in order to reproduce any error or warning you see on this page. |
| Package 1962/1974 | Hostname | OS / Arch | INSTALL | BUILD | CHECK | BUILD BIN | ||||||||
| Xeva 1.6.0 (landing page) Benjamin Haibe-Kains
| malbec1 | Linux (Ubuntu 18.04.5 LTS) / x86_64 | OK | OK | OK | |||||||||
| tokay1 | Windows Server 2012 R2 Standard / x64 | OK | OK | OK | OK | |||||||||
| merida1 | macOS 10.14.6 Mojave / x86_64 | OK | OK | OK | OK | |||||||||
| Package: Xeva |
| Version: 1.6.0 |
| Command: rm -rf Xeva.buildbin-libdir && mkdir Xeva.buildbin-libdir && C:\Users\biocbuild\bbs-3.12-bioc\R\bin\R.exe CMD INSTALL --merge-multiarch --build --library=Xeva.buildbin-libdir Xeva_1.6.0.tar.gz |
| StartedAt: 2021-05-06 10:22:01 -0400 (Thu, 06 May 2021) |
| EndedAt: 2021-05-06 10:22:47 -0400 (Thu, 06 May 2021) |
| EllapsedTime: 46.6 seconds |
| RetCode: 0 |
| Status: OK |
| PackageFile: Xeva_1.6.0.zip |
| PackageFileSize: 1.448 MiB |
##############################################################################
##############################################################################
###
### Running command:
###
### rm -rf Xeva.buildbin-libdir && mkdir Xeva.buildbin-libdir && C:\Users\biocbuild\bbs-3.12-bioc\R\bin\R.exe CMD INSTALL --merge-multiarch --build --library=Xeva.buildbin-libdir Xeva_1.6.0.tar.gz
###
##############################################################################
##############################################################################
install for i386
* installing *source* package 'Xeva' ...
** using staged installation
** R
** data
** inst
** byte-compile and prepare package for lazy loading
** help
*** installing help indices
converting help for package 'Xeva'
finding HTML links ... done
ABC html
AUC html
PDXMI html
TGI html
addExperimentalDesign html
angle html
batchInfo html
brca html
createXevaSet html
dosePlot html
downloadXevaSet html
drugInform html
drugSensitivitySig html
getExperiment html
getMolecularProfiles html
lmm html
mRECIST html
modelInfo html
plotPDX html
plotmRECIST html
print.batchResponse html
print.modelResponse html
print.pdxBatch html
repdx html
response html
selectModelIds html
sensitivity html
setResponse html
slope html
subsetXeva html
summarizeMolecularProfiles html
summarizeResponse html
waterfall html
** building package indices
** installing vignettes
** testing if installed package can be loaded from temporary location
** testing if installed package can be loaded from final location
** testing if installed package keeps a record of temporary installation path
install for x64
* installing *source* package 'Xeva' ...
** testing if installed package can be loaded
* MD5 sums
packaged installation of 'Xeva' as Xeva_1.6.0.zip
* DONE (Xeva)