| Back to Multiple platform build/check report for BioC 3.12 | 
  | 
This page was generated on 2021-05-06 12:34:13 -0400 (Thu, 06 May 2021).
| 
To the developers/maintainers of the XVector package: Please make sure to use the following settings in order to reproduce any error or warning you see on this page.  | 
| Package 1966/1974 | Hostname | OS / Arch | INSTALL | BUILD | CHECK | BUILD BIN | ||||||||
| XVector 0.30.0  (landing page) Hervé Pagès 
  | malbec1 | Linux (Ubuntu 18.04.5 LTS) / x86_64 | OK | OK | WARNINGS | |||||||||
| tokay1 | Windows Server 2012 R2 Standard / x64 | OK | OK | WARNINGS | OK | |||||||||
| merida1 | macOS 10.14.6 Mojave / x86_64 | OK | OK | WARNINGS | OK | |||||||||
| Package: XVector | 
| Version: 0.30.0 | 
| Command: chmod a+r XVector -R && C:\Users\biocbuild\bbs-3.12-bioc\R\bin\R.exe CMD build --keep-empty-dirs --no-resave-data XVector | 
| StartedAt: 2021-05-06 00:05:01 -0400 (Thu, 06 May 2021) | 
| EndedAt: 2021-05-06 00:05:03 -0400 (Thu, 06 May 2021) | 
| EllapsedTime: 1.2 seconds | 
| RetCode: 0 | 
| Status: OK | 
| PackageFile: XVector_0.30.0.tar.gz | 
| PackageFileSize: 66.21 KiB | 
############################################################################## ############################################################################## ### ### Running command: ### ### chmod a+r XVector -R && C:\Users\biocbuild\bbs-3.12-bioc\R\bin\R.exe CMD build --keep-empty-dirs --no-resave-data XVector ### ############################################################################## ############################################################################## * checking for file 'XVector/DESCRIPTION' ... OK * preparing 'XVector': * checking DESCRIPTION meta-information ... OK * cleaning src * checking for LF line-endings in source and make files and shell scripts * checking for empty or unneeded directories * building 'XVector_0.30.0.tar.gz'