| Back to Multiple platform build/check report for BioC 3.12 |
|
This page was generated on 2021-05-06 12:34:13 -0400 (Thu, 06 May 2021).
|
To the developers/maintainers of the XINA package: Please make sure to use the following settings in order to reproduce any error or warning you see on this page. |
| Package 1963/1974 | Hostname | OS / Arch | INSTALL | BUILD | CHECK | BUILD BIN | ||||||||
| XINA 1.8.0 (landing page) Lang Ho Lee
| malbec1 | Linux (Ubuntu 18.04.5 LTS) / x86_64 | OK | OK | OK | |||||||||
| tokay1 | Windows Server 2012 R2 Standard / x64 | OK | OK | OK | OK | |||||||||
| merida1 | macOS 10.14.6 Mojave / x86_64 | OK | OK | OK | OK | |||||||||
| Package: XINA |
| Version: 1.8.0 |
| Command: rm -rf XINA.buildbin-libdir && mkdir XINA.buildbin-libdir && C:\Users\biocbuild\bbs-3.12-bioc\R\bin\R.exe CMD INSTALL --merge-multiarch --build --library=XINA.buildbin-libdir XINA_1.8.0.tar.gz |
| StartedAt: 2021-05-06 10:22:04 -0400 (Thu, 06 May 2021) |
| EndedAt: 2021-05-06 10:22:26 -0400 (Thu, 06 May 2021) |
| EllapsedTime: 21.7 seconds |
| RetCode: 0 |
| Status: OK |
| PackageFile: XINA_1.8.0.zip |
| PackageFileSize: 1.266 MiB |
##############################################################################
##############################################################################
###
### Running command:
###
### rm -rf XINA.buildbin-libdir && mkdir XINA.buildbin-libdir && C:\Users\biocbuild\bbs-3.12-bioc\R\bin\R.exe CMD INSTALL --merge-multiarch --build --library=XINA.buildbin-libdir XINA_1.8.0.tar.gz
###
##############################################################################
##############################################################################
install for i386
* installing *source* package 'XINA' ...
** using staged installation
** R
** data
** inst
** byte-compile and prepare package for lazy loading
** help
*** installing help indices
converting help for package 'XINA'
finding HTML links ... done
add_legend html
alluvial_enriched html
alluvial_enrichment_tests html
calculate_centrality_scores html
default_size html
draw_alluvial_plot html
example_clusters html
extract_data_column html
find_similar_clusters html
generate_count_table html
generate_superset html
get_color_for_nodes html
get_colors html
get_comigrations_by_name html
get_condition_biased_comigrations html
get_layout html
get_mTOR_proteins html
get_random_data html
get_stats html
get_theme_blank html
get_unknown_ppi_nodes html
gn html
gn_desc html
hprd_ppi html
length2 html
load_previous_results html
make_random_xina_data html
mutate_colors html
organize_clusters html
plot_NA html
plot_clusters html
plot_clusters_all html
plot_condition_compositions html
plot_enrichment_results html
rank_centrality html
string_example html
xina_analysis html
xina_clustering html
xina_enrichment html
xina_plot_all html
xina_plot_bycluster html
xina_plot_single html
xina_result_example html
** building package indices
** installing vignettes
** testing if installed package can be loaded from temporary location
** testing if installed package can be loaded from final location
** testing if installed package keeps a record of temporary installation path
install for x64
* installing *source* package 'XINA' ...
** testing if installed package can be loaded
* MD5 sums
packaged installation of 'XINA' as XINA_1.8.0.zip
* DONE (XINA)