| Back to Multiple platform build/check report for BioC 3.12 |
|
This page was generated on 2021-05-06 12:34:09 -0400 (Thu, 06 May 2021).
|
To the developers/maintainers of the VegaMC package: Please make sure to use the following settings in order to reproduce any error or warning you see on this page. |
| Package 1937/1974 | Hostname | OS / Arch | INSTALL | BUILD | CHECK | BUILD BIN | ||||||||
| VegaMC 3.28.0 (landing page) Sandro Morganella
| malbec1 | Linux (Ubuntu 18.04.5 LTS) / x86_64 | OK | OK | OK | |||||||||
| tokay1 | Windows Server 2012 R2 Standard / x64 | OK | OK | OK | OK | |||||||||
| merida1 | macOS 10.14.6 Mojave / x86_64 | OK | OK | WARNINGS | OK | |||||||||
| Package: VegaMC |
| Version: 3.28.0 |
| Command: rm -rf VegaMC.buildbin-libdir && mkdir VegaMC.buildbin-libdir && C:\Users\biocbuild\bbs-3.12-bioc\R\bin\R.exe CMD INSTALL --merge-multiarch --build --library=VegaMC.buildbin-libdir VegaMC_3.28.0.tar.gz |
| StartedAt: 2021-05-06 10:20:33 -0400 (Thu, 06 May 2021) |
| EndedAt: 2021-05-06 10:21:28 -0400 (Thu, 06 May 2021) |
| EllapsedTime: 55.6 seconds |
| RetCode: 0 |
| Status: OK |
| PackageFile: VegaMC_3.28.0.zip |
| PackageFileSize: 1.767 MiB |
##############################################################################
##############################################################################
###
### Running command:
###
### rm -rf VegaMC.buildbin-libdir && mkdir VegaMC.buildbin-libdir && C:\Users\biocbuild\bbs-3.12-bioc\R\bin\R.exe CMD INSTALL --merge-multiarch --build --library=VegaMC.buildbin-libdir VegaMC_3.28.0.tar.gz
###
##############################################################################
##############################################################################
install for i386
* installing *source* package 'VegaMC' ...
** using staged installation
** libs
"C:/rtools40/mingw32/bin/"gcc -I"C:/Users/BIOCBU~1/BBS-3~1.12-/R/include" -DNDEBUG -I"C:/extsoft/include" -O2 -Wall -std=gnu99 -mfpmath=sse -msse2 -mstackrealign -c run_vegaMC.c -o run_vegaMC.o
run_vegaMC.c: In function 'read_params':
run_vegaMC.c:618:18: warning: unused variable 'brkt' [-Wunused-variable]
char *elem, *brkt;
^~~~
run_vegaMC.c: In function 'load_data':
run_vegaMC.c:534:32: warning: 'chr' may be used uninitialized in this function [-Wmaybe-uninitialized]
temp_probe->chromosome = chr;
~~~~~~~~~~~~~~~~~~~~~~~^~~~~
run_vegaMC.c:535:30: warning: 'position' may be used uninitialized in this function [-Wmaybe-uninitialized]
temp_probe->position = position;
~~~~~~~~~~~~~~~~~~~~~^~~~~~~~~~
run_vegaMC.c:564:14: warning: 'first_probe' may be used uninitialized in this function [-Wmaybe-uninitialized]
prev_chr = temp_probe->chromosome;
~~~~~~~~~^~~~~~~~~~~~~~~~~~~~~~~~
run_vegaMC.c: In function 'call_VegaMC':
run_vegaMC.c:466:38: warning: 'first_seg' may be used uninitialized in this function [-Wmaybe-uninitialized]
seg_chromosomes[j] = (tmp->chromosome) + 1;
~~~~^~~~~~~~~~~~~
run_vegaMC.c:435:32: warning: 'prev_seg' may be used uninitialized in this function [-Wmaybe-uninitialized]
prev_seg->next = tmp;
~~~~~~~~~~~~~~~^~~~~
"C:/rtools40/mingw32/bin/"gcc -I"C:/Users/BIOCBU~1/BBS-3~1.12-/R/include" -DNDEBUG -I"C:/extsoft/include" -O2 -Wall -std=gnu99 -mfpmath=sse -msse2 -mstackrealign -c sort_data.c -o sort_data.o
"C:/rtools40/mingw32/bin/"gcc -I"C:/Users/BIOCBU~1/BBS-3~1.12-/R/include" -DNDEBUG -I"C:/extsoft/include" -O2 -Wall -std=gnu99 -mfpmath=sse -msse2 -mstackrealign -c vegaMC.c -o vegaMC.o
vegaMC.c: In function 'heap_delete':
vegaMC.c:235:10: warning: variable 'deleted' set but not used [-Wunused-but-set-variable]
node deleted;
^~~~~~~
vegaMC.c: In function 'init_trivial_segmentation':
vegaMC.c:592:15: warning: variable 'index' set but not used [-Wunused-but-set-variable]
int i, j, index;
^~~~~
C:/rtools40/mingw32/bin/gcc -shared -s -static-libgcc -o VegaMC.dll tmp.def run_vegaMC.o sort_data.o vegaMC.o -LC:/extsoft/lib/i386 -LC:/extsoft/lib -LC:/Users/BIOCBU~1/BBS-3~1.12-/R/bin/i386 -lR
installing to C:/Users/biocbuild/bbs-3.12-bioc/meat/VegaMC.buildbin-libdir/00LOCK-VegaMC/00new/VegaMC/libs/i386
** R
** inst
** byte-compile and prepare package for lazy loading
** help
*** installing help indices
converting help for package 'VegaMC'
finding HTML links ... done
VegaMC-package html
sortData html
vegaMC-methods html
** building package indices
** installing vignettes
** testing if installed package can be loaded from temporary location
** testing if installed package can be loaded from final location
** testing if installed package keeps a record of temporary installation path
install for x64
* installing *source* package 'VegaMC' ...
** libs
"C:/rtools40/mingw64/bin/"gcc -I"C:/Users/BIOCBU~1/BBS-3~1.12-/R/include" -DNDEBUG -I"C:/extsoft/include" -O2 -Wall -std=gnu99 -mfpmath=sse -msse2 -mstackrealign -c run_vegaMC.c -o run_vegaMC.o
run_vegaMC.c: In function 'read_params':
run_vegaMC.c:618:18: warning: unused variable 'brkt' [-Wunused-variable]
char *elem, *brkt;
^~~~
run_vegaMC.c: In function 'load_data':
run_vegaMC.c:534:32: warning: 'chr' may be used uninitialized in this function [-Wmaybe-uninitialized]
temp_probe->chromosome = chr;
~~~~~~~~~~~~~~~~~~~~~~~^~~~~
run_vegaMC.c:535:30: warning: 'position' may be used uninitialized in this function [-Wmaybe-uninitialized]
temp_probe->position = position;
~~~~~~~~~~~~~~~~~~~~~^~~~~~~~~~
run_vegaMC.c:564:14: warning: 'first_probe' may be used uninitialized in this function [-Wmaybe-uninitialized]
prev_chr = temp_probe->chromosome;
~~~~~~~~~^~~~~~~~~~~~~~~~~~~~~~~~
run_vegaMC.c: In function 'call_VegaMC':
run_vegaMC.c:466:38: warning: 'first_seg' may be used uninitialized in this function [-Wmaybe-uninitialized]
seg_chromosomes[j] = (tmp->chromosome) + 1;
~~~~^~~~~~~~~~~~~
run_vegaMC.c:435:32: warning: 'prev_seg' may be used uninitialized in this function [-Wmaybe-uninitialized]
prev_seg->next = tmp;
~~~~~~~~~~~~~~~^~~~~
"C:/rtools40/mingw64/bin/"gcc -I"C:/Users/BIOCBU~1/BBS-3~1.12-/R/include" -DNDEBUG -I"C:/extsoft/include" -O2 -Wall -std=gnu99 -mfpmath=sse -msse2 -mstackrealign -c sort_data.c -o sort_data.o
"C:/rtools40/mingw64/bin/"gcc -I"C:/Users/BIOCBU~1/BBS-3~1.12-/R/include" -DNDEBUG -I"C:/extsoft/include" -O2 -Wall -std=gnu99 -mfpmath=sse -msse2 -mstackrealign -c vegaMC.c -o vegaMC.o
vegaMC.c: In function 'heap_delete':
vegaMC.c:235:10: warning: variable 'deleted' set but not used [-Wunused-but-set-variable]
node deleted;
^~~~~~~
vegaMC.c: In function 'init_trivial_segmentation':
vegaMC.c:592:15: warning: variable 'index' set but not used [-Wunused-but-set-variable]
int i, j, index;
^~~~~
C:/rtools40/mingw64/bin/gcc -shared -s -static-libgcc -o VegaMC.dll tmp.def run_vegaMC.o sort_data.o vegaMC.o -LC:/extsoft/lib/x64 -LC:/extsoft/lib -LC:/Users/BIOCBU~1/BBS-3~1.12-/R/bin/x64 -lR
installing to C:/Users/biocbuild/bbs-3.12-bioc/meat/VegaMC.buildbin-libdir/VegaMC/libs/x64
** testing if installed package can be loaded
* MD5 sums
packaged installation of 'VegaMC' as VegaMC_3.28.0.zip
* DONE (VegaMC)