| Back to Multiple platform build/check report for BioC 3.12 |
|
This page was generated on 2021-05-06 12:37:19 -0400 (Thu, 06 May 2021).
|
To the developers/maintainers of the VariantExperiment package: Please make sure to use the following settings in order to reproduce any error or warning you see on this page. |
| Package 1931/1974 | Hostname | OS / Arch | INSTALL | BUILD | CHECK | BUILD BIN | ||||||||
| VariantExperiment 1.4.2 (landing page) Qian Liu
| malbec1 | Linux (Ubuntu 18.04.5 LTS) / x86_64 | OK | OK | OK | |||||||||
| tokay1 | Windows Server 2012 R2 Standard / x64 | OK | OK | OK | OK | |||||||||
| merida1 | macOS 10.14.6 Mojave / x86_64 | OK | OK | OK | OK | |||||||||
| Package: VariantExperiment |
| Version: 1.4.2 |
| Command: rm -rf VariantExperiment.buildbin-libdir && mkdir VariantExperiment.buildbin-libdir && /Users/biocbuild/BBS/utils/build-universal.sh VariantExperiment_1.4.2.tar.gz /Library/Frameworks/R.framework/Versions/Current/Resources/bin/R VariantExperiment.buildbin-libdir |
| StartedAt: 2021-05-06 10:19:07 -0400 (Thu, 06 May 2021) |
| EndedAt: 2021-05-06 10:19:53 -0400 (Thu, 06 May 2021) |
| EllapsedTime: 46.7 seconds |
| RetCode: 0 |
| Status: OK |
| PackageFile: VariantExperiment_1.4.2.tgz |
| PackageFileSize: 739.7 KiB |
############################################################################## ############################################################################## ### ### Running command: ### ### rm -rf VariantExperiment.buildbin-libdir && mkdir VariantExperiment.buildbin-libdir && /Users/biocbuild/BBS/utils/build-universal.sh VariantExperiment_1.4.2.tar.gz /Library/Frameworks/R.framework/Versions/Current/Resources/bin/R VariantExperiment.buildbin-libdir ### ############################################################################## ############################################################################## >>>>>>> >>>>>>> INSTALLATION WITH 'R CMD INSTALL --preclean --no-multiarch --library=VariantExperiment.buildbin-libdir VariantExperiment_1.4.2.tar.gz' >>>>>>> * installing *source* package ‘VariantExperiment’ ... ** using staged installation ** R ** inst ** byte-compile and prepare package for lazy loading Creating a new generic function for ‘seqAlleleFreq’ in package ‘VariantExperiment’ Creating a new generic function for ‘seqAlleleCount’ in package ‘VariantExperiment’ Creating a new generic function for ‘seqMissing’ in package ‘VariantExperiment’ ** help *** installing help indices ** building package indices ** installing vignettes ** testing if installed package can be loaded from temporary location ** testing if installed package can be loaded from final location ** testing if installed package keeps a record of temporary installation path * DONE (VariantExperiment)