| Back to Multiple platform build/check report for BioC 3.12 |
|
This page was generated on 2021-05-06 12:37:18 -0400 (Thu, 06 May 2021).
|
To the developers/maintainers of the UniProt.ws package: Please make sure to use the following settings in order to reproduce any error or warning you see on this page. |
| Package 1924/1974 | Hostname | OS / Arch | INSTALL | BUILD | CHECK | BUILD BIN | ||||||||
| UniProt.ws 2.30.0 (landing page) Bioconductor Package Maintainer
| malbec1 | Linux (Ubuntu 18.04.5 LTS) / x86_64 | OK | ERROR | skipped | |||||||||
| tokay1 | Windows Server 2012 R2 Standard / x64 | OK | ERROR | skipped | skipped | |||||||||
| merida1 | macOS 10.14.6 Mojave / x86_64 | OK | OK | TIMEOUT | OK | |||||||||
| Package: UniProt.ws |
| Version: 2.30.0 |
| Command: /Library/Frameworks/R.framework/Versions/Current/Resources/bin/R CMD build --keep-empty-dirs --no-resave-data UniProt.ws |
| StartedAt: 2021-05-05 22:43:54 -0400 (Wed, 05 May 2021) |
| EndedAt: 2021-05-05 22:45:14 -0400 (Wed, 05 May 2021) |
| EllapsedTime: 79.9 seconds |
| RetCode: 0 |
| Status: OK |
| PackageFile: UniProt.ws_2.30.0.tar.gz |
| PackageFileSize: 793.1 KiB |
############################################################################## ############################################################################## ### ### Running command: ### ### /Library/Frameworks/R.framework/Versions/Current/Resources/bin/R CMD build --keep-empty-dirs --no-resave-data UniProt.ws ### ############################################################################## ############################################################################## * checking for file ‘UniProt.ws/DESCRIPTION’ ... OK * preparing ‘UniProt.ws’: * checking DESCRIPTION meta-information ... OK * installing the package to build vignettes * creating vignettes ... OK * checking for LF line-endings in source and make files and shell scripts * checking for empty or unneeded directories * building ‘UniProt.ws_2.30.0.tar.gz’