| Back to Multiple platform build/check report for BioC 3.12 |
|
This page was generated on 2021-05-06 12:34:06 -0400 (Thu, 06 May 2021).
|
To the developers/maintainers of the Ularcirc package: Please make sure to use the following settings in order to reproduce any error or warning you see on this page. |
| Package 1919/1974 | Hostname | OS / Arch | INSTALL | BUILD | CHECK | BUILD BIN | ||||||||
| Ularcirc 1.8.0 (landing page) David Humphreys
| malbec1 | Linux (Ubuntu 18.04.5 LTS) / x86_64 | OK | OK | OK | |||||||||
| tokay1 | Windows Server 2012 R2 Standard / x64 | OK | OK | OK | OK | |||||||||
| merida1 | macOS 10.14.6 Mojave / x86_64 | OK | OK | OK | OK | |||||||||
| Package: Ularcirc |
| Version: 1.8.0 |
| Command: C:\cygwin\bin\curl.exe -O http://172.29.0.3/BBS/3.12/bioc/src/contrib/Ularcirc_1.8.0.tar.gz && rm -rf Ularcirc.buildbin-libdir && mkdir Ularcirc.buildbin-libdir && C:\Users\biocbuild\bbs-3.12-bioc\R\bin\R.exe CMD INSTALL --merge-multiarch --build --library=Ularcirc.buildbin-libdir Ularcirc_1.8.0.tar.gz && C:\Users\biocbuild\bbs-3.12-bioc\R\bin\R.exe CMD INSTALL Ularcirc_1.8.0.zip && rm Ularcirc_1.8.0.tar.gz Ularcirc_1.8.0.zip |
| StartedAt: 2021-05-05 18:13:32 -0400 (Wed, 05 May 2021) |
| EndedAt: 2021-05-05 18:13:58 -0400 (Wed, 05 May 2021) |
| EllapsedTime: 25.9 seconds |
| RetCode: 0 |
| Status: OK |
##############################################################################
##############################################################################
###
### Running command:
###
### C:\cygwin\bin\curl.exe -O http://172.29.0.3/BBS/3.12/bioc/src/contrib/Ularcirc_1.8.0.tar.gz && rm -rf Ularcirc.buildbin-libdir && mkdir Ularcirc.buildbin-libdir && C:\Users\biocbuild\bbs-3.12-bioc\R\bin\R.exe CMD INSTALL --merge-multiarch --build --library=Ularcirc.buildbin-libdir Ularcirc_1.8.0.tar.gz && C:\Users\biocbuild\bbs-3.12-bioc\R\bin\R.exe CMD INSTALL Ularcirc_1.8.0.zip && rm Ularcirc_1.8.0.tar.gz Ularcirc_1.8.0.zip
###
##############################################################################
##############################################################################
% Total % Received % Xferd Average Speed Time Time Time Current
Dload Upload Total Spent Left Speed
0 0 0 0 0 0 0 0 --:--:-- --:--:-- --:--:-- 0
100 4764k 100 4764k 0 0 45.2M 0 --:--:-- --:--:-- --:--:-- 45.6M
install for i386
* installing *source* package 'Ularcirc' ...
** using staged installation
** R
** inst
** byte-compile and prepare package for lazy loading
** help
*** installing help indices
converting help for package 'Ularcirc'
finding HTML links ... done
Compatible_Annotation_DBs html
Ularcirc html
bsj_fastq_generate html
bsj_to_circRNA_sequence html
** building package indices
** installing vignettes
** testing if installed package can be loaded from temporary location
** testing if installed package can be loaded from final location
** testing if installed package keeps a record of temporary installation path
install for x64
* installing *source* package 'Ularcirc' ...
** testing if installed package can be loaded
* MD5 sums
packaged installation of 'Ularcirc' as Ularcirc_1.8.0.zip
* DONE (Ularcirc)
* installing to library 'C:/Users/biocbuild/bbs-3.12-bioc/R/library'
package 'Ularcirc' successfully unpacked and MD5 sums checked