| Back to Multiple platform build/check report for BioC 3.12 |
|
This page was generated on 2021-05-06 12:34:07 -0400 (Thu, 06 May 2021).
|
To the developers/maintainers of the UMI4Cats package: Please make sure to use the following settings in order to reproduce any error or warning you see on this page. |
| Package 1920/1974 | Hostname | OS / Arch | INSTALL | BUILD | CHECK | BUILD BIN | ||||||||
| UMI4Cats 1.0.1 (landing page) Mireia Ramos-Rodriguez
| malbec1 | Linux (Ubuntu 18.04.5 LTS) / x86_64 | OK | OK | OK | |||||||||
| tokay1 | Windows Server 2012 R2 Standard / x64 | OK | OK | OK | OK | |||||||||
| merida1 | macOS 10.14.6 Mojave / x86_64 | OK | OK | OK | OK | |||||||||
| Package: UMI4Cats |
| Version: 1.0.1 |
| Command: rm -rf UMI4Cats.buildbin-libdir && mkdir UMI4Cats.buildbin-libdir && C:\Users\biocbuild\bbs-3.12-bioc\R\bin\R.exe CMD INSTALL --merge-multiarch --build --library=UMI4Cats.buildbin-libdir UMI4Cats_1.0.1.tar.gz |
| StartedAt: 2021-05-06 10:19:37 -0400 (Thu, 06 May 2021) |
| EndedAt: 2021-05-06 10:20:43 -0400 (Thu, 06 May 2021) |
| EllapsedTime: 66.7 seconds |
| RetCode: 0 |
| Status: OK |
| PackageFile: UMI4Cats_1.0.1.zip |
| PackageFileSize: 2.843 MiB |
##############################################################################
##############################################################################
###
### Running command:
###
### rm -rf UMI4Cats.buildbin-libdir && mkdir UMI4Cats.buildbin-libdir && C:\Users\biocbuild\bbs-3.12-bioc\R\bin\R.exe CMD INSTALL --merge-multiarch --build --library=UMI4Cats.buildbin-libdir UMI4Cats_1.0.1.tar.gz
###
##############################################################################
##############################################################################
install for i386
* installing *source* package 'UMI4Cats' ...
** using staged installation
** R
** data
** inst
** byte-compile and prepare package for lazy loading
** help
*** installing help indices
converting help for package 'UMI4Cats'
finding HTML links ... done
UMI4C-methods html
finding level-2 HTML links ... done
UMI4C html
UMI4C2dds html
UMI4Cats html
addGrouping html
addStepping html
alignmentUMI4C html
calculateAdaptativeTrend html
calculateDomainogram html
contactsUMI4C html
counterUMI4C html
createGeneAnnotation html
createStatsTable html
darken html
demultiplexFastq html
deseq2UMI4C html
differentialNbinomWaldTestUMI4C html
digestGenome html
dot-getCache html
dot-getSummaryBam html
dot-singleAlignmentUMI4C html
dot-singleCounterUMI4C html
dot-singlePrepUMI4C html
dot-singleSplitUMI4C html
dot-smoothMonotone html
downloadUMI4CexampleData html
ex_ciita_umi4c html
fisherUMI4C html
formatPlotsUMI4C html
geoMeanCoordinates html
getColors html
getFactors html
getNormalizationMatrix html
getViewpointCoordinates html
groupSamplesUMI4C html
nbinomWaldTestUMI4C html
pipe html
plotDifferential html
plotDomainogram html
plotGenes html
plotTrend html
plotUMI4C html
prepUMI4C html
smoothMonotoneUMI4C html
splitUMI4C html
statsUMI4C html
theme html
themeXYblank html
themeXblank html
themeYblank html
vstUMI4C html
*** copying figures
** building package indices
** installing vignettes
** testing if installed package can be loaded from temporary location
** testing if installed package can be loaded from final location
** testing if installed package keeps a record of temporary installation path
install for x64
* installing *source* package 'UMI4Cats' ...
** testing if installed package can be loaded
* MD5 sums
packaged installation of 'UMI4Cats' as UMI4Cats_1.0.1.zip
* DONE (UMI4Cats)