| Back to Multiple platform build/check report for BioC 3.12 |
|
This page was generated on 2021-05-06 12:34:06 -0400 (Thu, 06 May 2021).
|
To the developers/maintainers of the TypeInfo package: Please make sure to use the following settings in order to reproduce any error or warning you see on this page. |
| Package 1918/1974 | Hostname | OS / Arch | INSTALL | BUILD | CHECK | BUILD BIN | ||||||||
| TypeInfo 1.56.0 (landing page) Duncan Temple Lang
| malbec1 | Linux (Ubuntu 18.04.5 LTS) / x86_64 | OK | OK | OK | |||||||||
| tokay1 | Windows Server 2012 R2 Standard / x64 | OK | OK | OK | OK | |||||||||
| merida1 | macOS 10.14.6 Mojave / x86_64 | OK | OK | OK | OK | |||||||||
| Package: TypeInfo |
| Version: 1.56.0 |
| Command: rm -rf TypeInfo.buildbin-libdir && mkdir TypeInfo.buildbin-libdir && C:\Users\biocbuild\bbs-3.12-bioc\R\bin\R.exe CMD INSTALL --merge-multiarch --build --library=TypeInfo.buildbin-libdir TypeInfo_1.56.0.tar.gz |
| StartedAt: 2021-05-06 10:19:30 -0400 (Thu, 06 May 2021) |
| EndedAt: 2021-05-06 10:20:15 -0400 (Thu, 06 May 2021) |
| EllapsedTime: 45.4 seconds |
| RetCode: 0 |
| Status: OK |
| PackageFile: TypeInfo_1.56.0.zip |
| PackageFileSize: 334.4 KiB |
##############################################################################
##############################################################################
###
### Running command:
###
### rm -rf TypeInfo.buildbin-libdir && mkdir TypeInfo.buildbin-libdir && C:\Users\biocbuild\bbs-3.12-bioc\R\bin\R.exe CMD INSTALL --merge-multiarch --build --library=TypeInfo.buildbin-libdir TypeInfo_1.56.0.tar.gz
###
##############################################################################
##############################################################################
install for i386
* installing *source* package 'TypeInfo' ...
** using staged installation
** R
** inst
** byte-compile and prepare package for lazy loading
** help
*** installing help indices
converting help for package 'TypeInfo'
finding HTML links ... done
ClassNameOrExpression-class html
DynamicTypeTest-class html
IndependentTypeSpecification-class html
IndependentTypeSpecification html
NamedTypeTest-class html
ReturnTypeSpecification html
SimultaneousTypeSpecification html
TypedSignature-class html
TypedSignature html
checkArgs html
checkReturnValue html
hasParameterType html
paramNames html
rewriteTypeCheck html
showTypeInfo html
typeInfo html
** building package indices
** installing vignettes
** testing if installed package can be loaded from temporary location
** testing if installed package can be loaded from final location
** testing if installed package keeps a record of temporary installation path
install for x64
* installing *source* package 'TypeInfo' ...
** testing if installed package can be loaded
* MD5 sums
packaged installation of 'TypeInfo' as TypeInfo_1.56.0.zip
* DONE (TypeInfo)