| Back to Multiple platform build/check report for BioC 3.12 |
|
This page was generated on 2021-05-06 12:37:15 -0400 (Thu, 06 May 2021).
|
To the developers/maintainers of the TreeSummarizedExperiment package: Please make sure to use the following settings in order to reproduce any error or warning you see on this page. |
| Package 1895/1974 | Hostname | OS / Arch | INSTALL | BUILD | CHECK | BUILD BIN | ||||||||
| TreeSummarizedExperiment 1.6.2 (landing page) Ruizhu Huang
| malbec1 | Linux (Ubuntu 18.04.5 LTS) / x86_64 | OK | OK | OK | |||||||||
| tokay1 | Windows Server 2012 R2 Standard / x64 | OK | OK | OK | OK | |||||||||
| merida1 | macOS 10.14.6 Mojave / x86_64 | OK | OK | OK | OK | |||||||||
| Package: TreeSummarizedExperiment |
| Version: 1.6.2 |
| Command: /Library/Frameworks/R.framework/Versions/Current/Resources/bin/R CMD check --install=check:TreeSummarizedExperiment.install-out.txt --library=/Library/Frameworks/R.framework/Versions/Current/Resources/library --no-vignettes --timings TreeSummarizedExperiment_1.6.2.tar.gz |
| StartedAt: 2021-05-06 07:01:47 -0400 (Thu, 06 May 2021) |
| EndedAt: 2021-05-06 07:05:57 -0400 (Thu, 06 May 2021) |
| EllapsedTime: 249.6 seconds |
| RetCode: 0 |
| Status: OK |
| CheckDir: TreeSummarizedExperiment.Rcheck |
| Warnings: 0 |
############################################################################## ############################################################################## ### ### Running command: ### ### /Library/Frameworks/R.framework/Versions/Current/Resources/bin/R CMD check --install=check:TreeSummarizedExperiment.install-out.txt --library=/Library/Frameworks/R.framework/Versions/Current/Resources/library --no-vignettes --timings TreeSummarizedExperiment_1.6.2.tar.gz ### ############################################################################## ############################################################################## * using log directory ‘/Users/biocbuild/bbs-3.12-bioc/meat/TreeSummarizedExperiment.Rcheck’ * using R version 4.0.5 (2021-03-31) * using platform: x86_64-apple-darwin17.0 (64-bit) * using session charset: UTF-8 * using option ‘--no-vignettes’ * checking for file ‘TreeSummarizedExperiment/DESCRIPTION’ ... OK * checking extension type ... Package * this is package ‘TreeSummarizedExperiment’ version ‘1.6.2’ * package encoding: UTF-8 * checking package namespace information ... OK * checking package dependencies ... OK * checking if this is a source package ... OK * checking if there is a namespace ... OK * checking for hidden files and directories ... OK * checking for portable file names ... OK * checking for sufficient/correct file permissions ... OK * checking whether package ‘TreeSummarizedExperiment’ can be installed ... OK * checking installed package size ... OK * checking package directory ... OK * checking ‘build’ directory ... OK * checking DESCRIPTION meta-information ... OK * checking top-level files ... OK * checking for left-over files ... OK * checking index information ... OK * checking package subdirectories ... OK * checking R files for non-ASCII characters ... OK * checking R files for syntax errors ... OK * checking whether the package can be loaded ... OK * checking whether the package can be loaded with stated dependencies ... OK * checking whether the package can be unloaded cleanly ... OK * checking whether the namespace can be loaded with stated dependencies ... OK * checking whether the namespace can be unloaded cleanly ... OK * checking dependencies in R code ... NOTE Unexported object imported by a ':::' call: ‘BiocGenerics:::replaceSlots’ See the note in ?`:::` about the use of this operator. * checking S3 generic/method consistency ... OK * checking replacement functions ... OK * checking foreign function calls ... OK * checking R code for possible problems ... OK * checking Rd files ... OK * checking Rd metadata ... OK * checking Rd cross-references ... OK * checking for missing documentation entries ... OK * checking for code/documentation mismatches ... OK * checking Rd \usage sections ... OK * checking Rd contents ... OK * checking for unstated dependencies in examples ... OK * checking contents of ‘data’ directory ... OK * checking data for non-ASCII characters ... OK * checking data for ASCII and uncompressed saves ... OK * checking files in ‘vignettes’ ... OK * checking examples ... OK * checking for unstated dependencies in ‘tests’ ... OK * checking tests ... Running ‘testthat.R’ OK * checking for unstated dependencies in vignettes ... OK * checking package vignettes in ‘inst/doc’ ... OK * checking running R code from vignettes ... SKIPPED * checking re-building of vignette outputs ... SKIPPED * checking PDF version of manual ... OK * DONE Status: 1 NOTE See ‘/Users/biocbuild/bbs-3.12-bioc/meat/TreeSummarizedExperiment.Rcheck/00check.log’ for details.
TreeSummarizedExperiment.Rcheck/00install.out
############################################################################## ############################################################################## ### ### Running command: ### ### /Library/Frameworks/R.framework/Versions/Current/Resources/bin/R CMD INSTALL TreeSummarizedExperiment ### ############################################################################## ############################################################################## * installing to library ‘/Library/Frameworks/R.framework/Versions/4.0/Resources/library’ * installing *source* package ‘TreeSummarizedExperiment’ ... ** using staged installation ** R ** data *** moving datasets to lazyload DB ** byte-compile and prepare package for lazy loading ** help *** installing help indices ** building package indices ** installing vignettes ** testing if installed package can be loaded from temporary location ** testing if installed package can be loaded from final location ** testing if installed package keeps a record of temporary installation path * DONE (TreeSummarizedExperiment)
TreeSummarizedExperiment.Rcheck/tests/testthat.Rout
R version 4.0.5 (2021-03-31) -- "Shake and Throw"
Copyright (C) 2021 The R Foundation for Statistical Computing
Platform: x86_64-apple-darwin17.0 (64-bit)
R is free software and comes with ABSOLUTELY NO WARRANTY.
You are welcome to redistribute it under certain conditions.
Type 'license()' or 'licence()' for distribution details.
R is a collaborative project with many contributors.
Type 'contributors()' for more information and
'citation()' on how to cite R or R packages in publications.
Type 'demo()' for some demos, 'help()' for on-line help, or
'help.start()' for an HTML browser interface to help.
Type 'q()' to quit R.
> library(testthat)
> library(TreeSummarizedExperiment)
Loading required package: SingleCellExperiment
Loading required package: SummarizedExperiment
Loading required package: MatrixGenerics
Loading required package: matrixStats
Attaching package: 'MatrixGenerics'
The following objects are masked from 'package:matrixStats':
colAlls, colAnyNAs, colAnys, colAvgsPerRowSet, colCollapse,
colCounts, colCummaxs, colCummins, colCumprods, colCumsums,
colDiffs, colIQRDiffs, colIQRs, colLogSumExps, colMadDiffs,
colMads, colMaxs, colMeans2, colMedians, colMins, colOrderStats,
colProds, colQuantiles, colRanges, colRanks, colSdDiffs, colSds,
colSums2, colTabulates, colVarDiffs, colVars, colWeightedMads,
colWeightedMeans, colWeightedMedians, colWeightedSds,
colWeightedVars, rowAlls, rowAnyNAs, rowAnys, rowAvgsPerColSet,
rowCollapse, rowCounts, rowCummaxs, rowCummins, rowCumprods,
rowCumsums, rowDiffs, rowIQRDiffs, rowIQRs, rowLogSumExps,
rowMadDiffs, rowMads, rowMaxs, rowMeans2, rowMedians, rowMins,
rowOrderStats, rowProds, rowQuantiles, rowRanges, rowRanks,
rowSdDiffs, rowSds, rowSums2, rowTabulates, rowVarDiffs, rowVars,
rowWeightedMads, rowWeightedMeans, rowWeightedMedians,
rowWeightedSds, rowWeightedVars
Loading required package: GenomicRanges
Loading required package: stats4
Loading required package: BiocGenerics
Loading required package: parallel
Attaching package: 'BiocGenerics'
The following objects are masked from 'package:parallel':
clusterApply, clusterApplyLB, clusterCall, clusterEvalQ,
clusterExport, clusterMap, parApply, parCapply, parLapply,
parLapplyLB, parRapply, parSapply, parSapplyLB
The following objects are masked from 'package:stats':
IQR, mad, sd, var, xtabs
The following objects are masked from 'package:base':
Filter, Find, Map, Position, Reduce, anyDuplicated, append,
as.data.frame, basename, cbind, colnames, dirname, do.call,
duplicated, eval, evalq, get, grep, grepl, intersect, is.unsorted,
lapply, mapply, match, mget, order, paste, pmax, pmax.int, pmin,
pmin.int, rank, rbind, rownames, sapply, setdiff, sort, table,
tapply, union, unique, unsplit, which.max, which.min
Loading required package: S4Vectors
Attaching package: 'S4Vectors'
The following object is masked from 'package:base':
expand.grid
Loading required package: IRanges
Loading required package: GenomeInfoDb
Loading required package: Biobase
Welcome to Bioconductor
Vignettes contain introductory material; view with
'browseVignettes()'. To cite Bioconductor, see
'citation("Biobase")', and for packages 'citation("pkgname")'.
Attaching package: 'Biobase'
The following object is masked from 'package:MatrixGenerics':
rowMedians
The following objects are masked from 'package:matrixStats':
anyMissing, rowMedians
>
> test_check("TreeSummarizedExperiment")
[ FAIL 0 | WARN 0 | SKIP 0 | PASS 185 ]
>
> proc.time()
user system elapsed
22.747 0.692 23.444
TreeSummarizedExperiment.Rcheck/TreeSummarizedExperiment-Ex.timings
| name | user | system | elapsed | |
| LinkDataFrame-constructor | 0.090 | 0.002 | 0.091 | |
| TreeSummarizedExperiment-accessor | 0.867 | 0.014 | 0.883 | |
| TreeSummarizedExperiment-constructor | 0.272 | 0.004 | 0.276 | |
| addLabel | 1.147 | 0.046 | 1.359 | |
| aggValue | 0.832 | 0.008 | 0.841 | |
| asLeaf | 1.237 | 0.010 | 1.251 | |
| changeTree | 0.743 | 0.020 | 0.786 | |
| convertNode | 0.205 | 0.027 | 0.233 | |
| countLeaf | 0.203 | 0.026 | 0.230 | |
| countNode | 0.219 | 0.027 | 0.247 | |
| detectLoop | 0.087 | 0.011 | 0.098 | |
| distNode | 0.249 | 0.010 | 0.260 | |
| findAncestor | 0.160 | 0.003 | 0.164 | |
| findChild | 0.198 | 0.003 | 0.202 | |
| findDescendant | 0.219 | 0.003 | 0.223 | |
| findSibling | 0.182 | 0.003 | 0.187 | |
| isLeaf | 0.186 | 0.005 | 0.192 | |
| matTree | 0.150 | 0.004 | 0.156 | |
| printNode | 0.200 | 0.006 | 0.207 | |
| resolveLoop | 0.338 | 0.003 | 0.342 | |
| shareNode | 0.185 | 0.004 | 0.190 | |
| showNode | 0.189 | 0.005 | 0.195 | |
| signalNode | 0.226 | 0.006 | 0.232 | |
| toTree | 0.748 | 0.006 | 0.757 | |
| trackNode | 0.339 | 0.006 | 0.347 | |
| unionLeaf | 0.231 | 0.006 | 0.237 | |