| Back to Multiple platform build/check report for BioC 3.12 |
|
This page was generated on 2021-05-06 12:34:00 -0400 (Thu, 06 May 2021).
|
To the developers/maintainers of the ToxicoGx package: Please make sure to use the following settings in order to reproduce any error or warning you see on this page. |
| Package 1880/1974 | Hostname | OS / Arch | INSTALL | BUILD | CHECK | BUILD BIN | ||||||||
| ToxicoGx 1.0.1 (landing page) Benjamin Haibe-Kains
| malbec1 | Linux (Ubuntu 18.04.5 LTS) / x86_64 | OK | OK | OK | |||||||||
| tokay1 | Windows Server 2012 R2 Standard / x64 | OK | OK | OK | OK | |||||||||
| merida1 | macOS 10.14.6 Mojave / x86_64 | OK | OK | OK | OK | |||||||||
| Package: ToxicoGx |
| Version: 1.0.1 |
| Command: rm -rf ToxicoGx.buildbin-libdir && mkdir ToxicoGx.buildbin-libdir && C:\Users\biocbuild\bbs-3.12-bioc\R\bin\R.exe CMD INSTALL --merge-multiarch --build --library=ToxicoGx.buildbin-libdir ToxicoGx_1.0.1.tar.gz |
| StartedAt: 2021-05-06 10:17:22 -0400 (Thu, 06 May 2021) |
| EndedAt: 2021-05-06 10:18:08 -0400 (Thu, 06 May 2021) |
| EllapsedTime: 46.3 seconds |
| RetCode: 0 |
| Status: OK |
| PackageFile: ToxicoGx_1.0.1.zip |
| PackageFileSize: 4.387 MiB |
##############################################################################
##############################################################################
###
### Running command:
###
### rm -rf ToxicoGx.buildbin-libdir && mkdir ToxicoGx.buildbin-libdir && C:\Users\biocbuild\bbs-3.12-bioc\R\bin\R.exe CMD INSTALL --merge-multiarch --build --library=ToxicoGx.buildbin-libdir ToxicoGx_1.0.1.tar.gz
###
##############################################################################
##############################################################################
install for i386
* installing *source* package 'ToxicoGx' ...
** using staged installation
** R
** data
*** moving datasets to lazyload DB
** inst
** byte-compile and prepare package for lazy loading
** help
*** installing help indices
converting help for package 'ToxicoGx'
finding HTML links ... done
HCC_sig html
TGGATESsmall html
ToxicoSet-class html
ToxicoSet html
ToxicoSig html
annotation-set html
annotation html
availableTSets html
checkTSetStructure html
computeAUC html
computeICn html
computeLimmaDiffExpr-ToxicoSet-method html
computeLimmaDiffExpr html
curation-set html
curation html
datasetType-set html
datasetType html
dim-ToxicoSet-method html
downloadTSet html
drugGeneResponseCurve html
drugInfo-set html
drugInfo html
drugNames-set html
drugNames html
drugPerturbationSig html
drugTimeResponseCurve html
geneDrugPerturbation html
logLogisticRegression html
mDataNames-ToxicoSet-method html
name-ToxicoSet-method html
sensitivityRaw-set html
sensitivityRaw html
sensitivitySlot-set html
sensitivitySlot html
show-ToxicoSet-method html
show-ToxicoSig-method html
showSigAnnot html
sub-ToxicoSet-ANY-ANY-ANY-method html
subsetTo html
summarizeMolecularProfiles html
summarizeSensitivityProfiles html
updateCellId html
updateDrugId html
** building package indices
** installing vignettes
** testing if installed package can be loaded from temporary location
** testing if installed package can be loaded from final location
** testing if installed package keeps a record of temporary installation path
install for x64
* installing *source* package 'ToxicoGx' ...
** testing if installed package can be loaded
* MD5 sums
packaged installation of 'ToxicoGx' as ToxicoGx_1.0.1.zip
* DONE (ToxicoGx)