| Back to Multiple platform build/check report for BioC 3.12 |
|
This page was generated on 2021-05-06 12:33:59 -0400 (Thu, 06 May 2021).
|
To the developers/maintainers of the TnT package: Please make sure to use the following settings in order to reproduce any error or warning you see on this page. |
| Package 1872/1974 | Hostname | OS / Arch | INSTALL | BUILD | CHECK | BUILD BIN | ||||||||
| TnT 1.12.0 (landing page) Jialin Ma
| malbec1 | Linux (Ubuntu 18.04.5 LTS) / x86_64 | OK | OK | OK | |||||||||
| tokay1 | Windows Server 2012 R2 Standard / x64 | OK | OK | WARNINGS | OK | |||||||||
| merida1 | macOS 10.14.6 Mojave / x86_64 | OK | OK | OK | OK | |||||||||
| Package: TnT |
| Version: 1.12.0 |
| Command: rm -rf TnT.buildbin-libdir && mkdir TnT.buildbin-libdir && C:\Users\biocbuild\bbs-3.12-bioc\R\bin\R.exe CMD INSTALL --merge-multiarch --build --library=TnT.buildbin-libdir TnT_1.12.0.tar.gz |
| StartedAt: 2021-05-06 10:16:53 -0400 (Thu, 06 May 2021) |
| EndedAt: 2021-05-06 10:17:35 -0400 (Thu, 06 May 2021) |
| EllapsedTime: 42.8 seconds |
| RetCode: 0 |
| Status: OK |
| PackageFile: TnT_1.12.0.zip |
| PackageFileSize: 492.8 KiB |
##############################################################################
##############################################################################
###
### Running command:
###
### rm -rf TnT.buildbin-libdir && mkdir TnT.buildbin-libdir && C:\Users\biocbuild\bbs-3.12-bioc\R\bin\R.exe CMD INSTALL --merge-multiarch --build --library=TnT.buildbin-libdir TnT_1.12.0.tar.gz
###
##############################################################################
##############################################################################
install for i386
* installing *source* package 'TnT' ...
** using staged installation
** R
** inst
** byte-compile and prepare package for lazy loading
** help
*** installing help indices
converting help for package 'TnT'
finding HTML links ... done
TnT-shiny html
composite-track html
knit_print.TnTBoard html
mapcol html
Rd warning: C:/Users/biocbuild/bbs-3.12-bioc/tmpdir/RtmpUnclDd/R.INSTALL2f747712e9f/TnT/man/mapcol.Rd:13: file link 'terrain.colors' in package 'grDevices' does not exist and so has been treated as a topic
range-TnTBoard-method html
Rd warning: C:/Users/biocbuild/bbs-3.12-bioc/tmpdir/RtmpUnclDd/R.INSTALL2f747712e9f/TnT/man/range-TnTBoard-method.Rd:12: file link 'range,GenomicRanges-method' in package 'GenomicRanges' does not exist and so has been treated as a topic
range-TnTTrack html
Rd warning: C:/Users/biocbuild/bbs-3.12-bioc/tmpdir/RtmpUnclDd/R.INSTALL2f747712e9f/TnT/man/range-TnTTrack.Rd:16: file link 'range,GenomicRanges-method' in package 'GenomicRanges' does not exist and so has been treated as a topic
saveTnT html
seqinfo html
strandlabel html
tntboard html
tooltip html
track-constructors html
trackSpec html
trackWidget html
trackdata html
tracklist html
** building package indices
** installing vignettes
** testing if installed package can be loaded from temporary location
** testing if installed package can be loaded from final location
** testing if installed package keeps a record of temporary installation path
install for x64
* installing *source* package 'TnT' ...
** testing if installed package can be loaded
* MD5 sums
packaged installation of 'TnT' as TnT_1.12.0.zip
* DONE (TnT)