| Back to Multiple platform build/check report for BioC 3.12 |
|
This page was generated on 2021-05-06 12:37:12 -0400 (Thu, 06 May 2021).
|
To the developers/maintainers of the TimiRGeN package: Please make sure to use the following settings in order to reproduce any error or warning you see on this page. |
| Package 1865/1974 | Hostname | OS / Arch | INSTALL | BUILD | CHECK | BUILD BIN | ||||||||
| TimiRGeN 1.0.6 (landing page) Krutik Patel
| malbec1 | Linux (Ubuntu 18.04.5 LTS) / x86_64 | OK | OK | OK | |||||||||
| tokay1 | Windows Server 2012 R2 Standard / x64 | OK | OK | OK | OK | |||||||||
| merida1 | macOS 10.14.6 Mojave / x86_64 | OK | OK | OK | OK | |||||||||
| Package: TimiRGeN |
| Version: 1.0.6 |
| Command: /Library/Frameworks/R.framework/Versions/Current/Resources/bin/R CMD check --install=check:TimiRGeN.install-out.txt --library=/Library/Frameworks/R.framework/Versions/Current/Resources/library --no-vignettes --timings TimiRGeN_1.0.6.tar.gz |
| StartedAt: 2021-05-06 06:54:31 -0400 (Thu, 06 May 2021) |
| EndedAt: 2021-05-06 07:04:45 -0400 (Thu, 06 May 2021) |
| EllapsedTime: 614.5 seconds |
| RetCode: 0 |
| Status: OK |
| CheckDir: TimiRGeN.Rcheck |
| Warnings: 0 |
##############################################################################
##############################################################################
###
### Running command:
###
### /Library/Frameworks/R.framework/Versions/Current/Resources/bin/R CMD check --install=check:TimiRGeN.install-out.txt --library=/Library/Frameworks/R.framework/Versions/Current/Resources/library --no-vignettes --timings TimiRGeN_1.0.6.tar.gz
###
##############################################################################
##############################################################################
* using log directory ‘/Users/biocbuild/bbs-3.12-bioc/meat/TimiRGeN.Rcheck’
* using R version 4.0.5 (2021-03-31)
* using platform: x86_64-apple-darwin17.0 (64-bit)
* using session charset: UTF-8
* using option ‘--no-vignettes’
* checking for file ‘TimiRGeN/DESCRIPTION’ ... OK
* checking extension type ... Package
* this is package ‘TimiRGeN’ version ‘1.0.6’
* package encoding: UTF-8
* checking package namespace information ... OK
* checking package dependencies ... OK
* checking if this is a source package ... OK
* checking if there is a namespace ... OK
* checking for hidden files and directories ... OK
* checking for portable file names ... OK
* checking for sufficient/correct file permissions ... OK
* checking whether package ‘TimiRGeN’ can be installed ... OK
* checking installed package size ... OK
* checking package directory ... OK
* checking ‘build’ directory ... OK
* checking DESCRIPTION meta-information ... OK
* checking top-level files ... OK
* checking for left-over files ... OK
* checking index information ... OK
* checking package subdirectories ... OK
* checking R files for non-ASCII characters ... OK
* checking R files for syntax errors ... OK
* checking whether the package can be loaded ... OK
* checking whether the package can be loaded with stated dependencies ... OK
* checking whether the package can be unloaded cleanly ... OK
* checking whether the namespace can be loaded with stated dependencies ... OK
* checking whether the namespace can be unloaded cleanly ... OK
* checking dependencies in R code ... OK
* checking S3 generic/method consistency ... OK
* checking replacement functions ... OK
* checking foreign function calls ... OK
* checking R code for possible problems ... OK
* checking Rd files ... OK
* checking Rd metadata ... OK
* checking Rd cross-references ... OK
* checking for missing documentation entries ... OK
* checking for code/documentation mismatches ... OK
* checking Rd \usage sections ... OK
* checking Rd contents ... OK
* checking for unstated dependencies in examples ... OK
* checking contents of ‘data’ directory ... OK
* checking data for non-ASCII characters ... NOTE
Note: found 3 marked UTF-8 strings
* checking data for ASCII and uncompressed saves ... OK
* checking files in ‘vignettes’ ... OK
* checking examples ... OK
Examples with CPU (user + system) or elapsed time > 5s
user system elapsed
quickTCPred 8.779 0.635 14.564
clusterList 8.139 0.669 12.501
wikiMrna 8.035 0.580 14.189
quickReg 7.803 0.640 11.520
quickPathwayTC 7.849 0.571 12.180
quickTC 7.295 0.602 9.979
addIds 7.069 0.679 9.248
multiReg 6.899 0.591 8.785
quickDMap 6.807 0.600 8.720
quickDendro 6.655 0.597 8.648
quickHClust 6.457 0.620 8.363
linearRegr 6.505 0.537 9.195
quickCrossCorr 6.338 0.582 8.383
makeDynamic 6.227 0.542 8.053
makeMapp 5.853 0.468 7.858
eNames 5.617 0.470 7.544
diffExpressRes 5.588 0.420 8.516
getIdsMrna 3.732 0.236 6.091
dloadGmt 1.849 0.226 9.725
* checking for unstated dependencies in ‘tests’ ... OK
* checking tests ...
Running ‘testthat.R’
OK
* checking for unstated dependencies in vignettes ... OK
* checking package vignettes in ‘inst/doc’ ... OK
* checking running R code from vignettes ... SKIPPED
* checking re-building of vignette outputs ... SKIPPED
* checking PDF version of manual ... OK
* DONE
Status: 1 NOTE
See
‘/Users/biocbuild/bbs-3.12-bioc/meat/TimiRGeN.Rcheck/00check.log’
for details.
TimiRGeN.Rcheck/00install.out
############################################################################## ############################################################################## ### ### Running command: ### ### /Library/Frameworks/R.framework/Versions/Current/Resources/bin/R CMD INSTALL TimiRGeN ### ############################################################################## ############################################################################## * installing to library ‘/Library/Frameworks/R.framework/Versions/4.0/Resources/library’ * installing *source* package ‘TimiRGeN’ ... ** using staged installation ** R ** data *** moving datasets to lazyload DB ** inst ** byte-compile and prepare package for lazy loading ** help *** installing help indices ** building package indices ** installing vignettes ** testing if installed package can be loaded from temporary location ** testing if installed package can be loaded from final location ** testing if installed package keeps a record of temporary installation path * DONE (TimiRGeN)
TimiRGeN.Rcheck/tests/testthat.Rout
R version 4.0.5 (2021-03-31) -- "Shake and Throw"
Copyright (C) 2021 The R Foundation for Statistical Computing
Platform: x86_64-apple-darwin17.0 (64-bit)
R is free software and comes with ABSOLUTELY NO WARRANTY.
You are welcome to redistribute it under certain conditions.
Type 'license()' or 'licence()' for distribution details.
R is a collaborative project with many contributors.
Type 'contributors()' for more information and
'citation()' on how to cite R or R packages in publications.
Type 'demo()' for some demos, 'help()' for on-line help, or
'help.start()' for an HTML browser interface to help.
Type 'q()' to quit R.
> #unit test check
> library(testthat)
> library(TimiRGeN)
Loading required package: Mfuzz
Loading required package: Biobase
Loading required package: BiocGenerics
Loading required package: parallel
Attaching package: 'BiocGenerics'
The following objects are masked from 'package:parallel':
clusterApply, clusterApplyLB, clusterCall, clusterEvalQ,
clusterExport, clusterMap, parApply, parCapply, parLapply,
parLapplyLB, parRapply, parSapply, parSapplyLB
The following objects are masked from 'package:stats':
IQR, mad, sd, var, xtabs
The following objects are masked from 'package:base':
Filter, Find, Map, Position, Reduce, anyDuplicated, append,
as.data.frame, basename, cbind, colnames, dirname, do.call,
duplicated, eval, evalq, get, grep, grepl, intersect, is.unsorted,
lapply, mapply, match, mget, order, paste, pmax, pmax.int, pmin,
pmin.int, rank, rbind, rownames, sapply, setdiff, sort, table,
tapply, union, unique, unsplit, which.max, which.min
Welcome to Bioconductor
Vignettes contain introductory material; view with
'browseVignettes()'. To cite Bioconductor, see
'citation("Biobase")', and for packages 'citation("pkgname")'.
Loading required package: e1071
Attaching package: 'DynDoc'
The following object is masked from 'package:BiocGenerics':
path
Loading required package: MultiAssayExperiment
Loading required package: SummarizedExperiment
Loading required package: MatrixGenerics
Loading required package: matrixStats
Attaching package: 'matrixStats'
The following objects are masked from 'package:Biobase':
anyMissing, rowMedians
Attaching package: 'MatrixGenerics'
The following objects are masked from 'package:matrixStats':
colAlls, colAnyNAs, colAnys, colAvgsPerRowSet, colCollapse,
colCounts, colCummaxs, colCummins, colCumprods, colCumsums,
colDiffs, colIQRDiffs, colIQRs, colLogSumExps, colMadDiffs,
colMads, colMaxs, colMeans2, colMedians, colMins, colOrderStats,
colProds, colQuantiles, colRanges, colRanks, colSdDiffs, colSds,
colSums2, colTabulates, colVarDiffs, colVars, colWeightedMads,
colWeightedMeans, colWeightedMedians, colWeightedSds,
colWeightedVars, rowAlls, rowAnyNAs, rowAnys, rowAvgsPerColSet,
rowCollapse, rowCounts, rowCummaxs, rowCummins, rowCumprods,
rowCumsums, rowDiffs, rowIQRDiffs, rowIQRs, rowLogSumExps,
rowMadDiffs, rowMads, rowMaxs, rowMeans2, rowMedians, rowMins,
rowOrderStats, rowProds, rowQuantiles, rowRanges, rowRanks,
rowSdDiffs, rowSds, rowSums2, rowTabulates, rowVarDiffs, rowVars,
rowWeightedMads, rowWeightedMeans, rowWeightedMedians,
rowWeightedSds, rowWeightedVars
The following object is masked from 'package:Biobase':
rowMedians
Loading required package: GenomicRanges
Loading required package: stats4
Loading required package: S4Vectors
Attaching package: 'S4Vectors'
The following object is masked from 'package:base':
expand.grid
Loading required package: IRanges
Loading required package: GenomeInfoDb
> test_check(package = "TimiRGeN")
[ FAIL 0 | WARN 2 | SKIP 0 | PASS 125 ]
>
> proc.time()
user system elapsed
32.463 4.237 39.645
TimiRGeN.Rcheck/TimiRGeN-Ex.timings
| name | user | system | elapsed | |
| UUO_data | 0.007 | 0.003 | 0.009 | |
| addIds | 7.069 | 0.679 | 9.248 | |
| addPrefix | 0.909 | 0.122 | 1.028 | |
| clusterCheck | 1.368 | 0.190 | 1.995 | |
| clusterList | 8.139 | 0.669 | 12.501 | |
| combineGenes | 0.616 | 0.099 | 0.712 | |
| createClusters | 1.378 | 0.285 | 2.069 | |
| createClusters2 | 1.259 | 0.224 | 1.465 | |
| cytoMake | 0.000 | 0.000 | 0.001 | |
| diffExpressRes | 5.588 | 0.420 | 8.516 | |
| dloadGmt | 1.849 | 0.226 | 9.725 | |
| dloadMirdb | 0 | 0 | 0 | |
| dloadMirtarbase | 0.466 | 0.056 | 0.520 | |
| dloadTargetscan | 0.000 | 0.001 | 0.000 | |
| eNames | 5.617 | 0.470 | 7.544 | |
| e_list_mouse | 0.001 | 0.002 | 0.004 | |
| enrichWiki | 2.796 | 0.453 | 3.894 | |
| genesList | 1.291 | 0.158 | 1.444 | |
| getIdsMir | 1.253 | 0.134 | 1.381 | |
| getIdsMrna | 3.732 | 0.236 | 6.091 | |
| gmtEnsembl | 1.944 | 0.189 | 2.914 | |
| hs_mRNA | 0.002 | 0.002 | 0.004 | |
| hs_miR | 0.001 | 0.002 | 0.004 | |
| hs_probes | 0.001 | 0.002 | 0.005 | |
| linearRegr | 6.505 | 0.537 | 9.195 | |
| long_data | 0.005 | 0.003 | 0.009 | |
| makeDynamic | 6.227 | 0.542 | 8.053 | |
| makeMapp | 5.853 | 0.468 | 7.858 | |
| makeNet | 0.119 | 0.016 | 0.134 | |
| matrixFilter | 0.463 | 0.054 | 0.514 | |
| miRTarBase | 0.002 | 0.004 | 0.006 | |
| mirMrnaInt | 0.474 | 0.060 | 0.530 | |
| mm_mRNA | 0.002 | 0.003 | 0.005 | |
| mm_miR | 0.002 | 0.002 | 0.003 | |
| multiReg | 6.899 | 0.591 | 8.785 | |
| quickBar | 3.262 | 0.376 | 4.306 | |
| quickCrossCorr | 6.338 | 0.582 | 8.383 | |
| quickDMap | 6.807 | 0.600 | 8.720 | |
| quickDendro | 6.655 | 0.597 | 8.648 | |
| quickFuzz | 1.268 | 0.167 | 1.835 | |
| quickHClust | 6.457 | 0.620 | 8.363 | |
| quickMap | 0.469 | 0.058 | 0.528 | |
| quickNet | 0.203 | 0.022 | 0.225 | |
| quickPathwayTC | 7.849 | 0.571 | 12.180 | |
| quickReg | 7.803 | 0.640 | 11.520 | |
| quickTC | 7.295 | 0.602 | 9.979 | |
| quickTCPred | 8.779 | 0.635 | 14.564 | |
| reduceWiki | 0.468 | 0.056 | 0.526 | |
| returnCluster | 1.739 | 0.229 | 2.411 | |
| significantVals | 0.570 | 0.071 | 0.639 | |
| startObject | 0.217 | 0.031 | 0.249 | |
| turnPercent | 0.726 | 0.093 | 0.816 | |
| w_list_mouse | 0.002 | 0.003 | 0.005 | |
| wikiMatrix | 0.411 | 0.051 | 0.460 | |
| wikiMrna | 8.035 | 0.580 | 14.189 | |