| Back to Multiple platform build/check report for BioC 3.12 |
|
This page was generated on 2021-05-06 12:29:24 -0400 (Thu, 06 May 2021).
|
To the developers/maintainers of the TargetSearch package: Please make sure to use the following settings in order to reproduce any error or warning you see on this page. |
| Package 1838/1974 | Hostname | OS / Arch | INSTALL | BUILD | CHECK | BUILD BIN | ||||||||
| TargetSearch 1.46.3 (landing page) Alvaro Cuadros-Inostroza
| malbec1 | Linux (Ubuntu 18.04.5 LTS) / x86_64 | OK | OK | OK | |||||||||
| tokay1 | Windows Server 2012 R2 Standard / x64 | OK | OK | OK | OK | |||||||||
| merida1 | macOS 10.14.6 Mojave / x86_64 | OK | OK | OK | OK | |||||||||
| Package: TargetSearch |
| Version: 1.46.3 |
| Command: /home/biocbuild/bbs-3.12-bioc/R/bin/R CMD check --install=check:TargetSearch.install-out.txt --library=/home/biocbuild/bbs-3.12-bioc/R/library --no-vignettes --timings TargetSearch_1.46.3.tar.gz |
| StartedAt: 2021-05-06 06:33:58 -0400 (Thu, 06 May 2021) |
| EndedAt: 2021-05-06 06:35:01 -0400 (Thu, 06 May 2021) |
| EllapsedTime: 63.2 seconds |
| RetCode: 0 |
| Status: OK |
| CheckDir: TargetSearch.Rcheck |
| Warnings: 0 |
##############################################################################
##############################################################################
###
### Running command:
###
### /home/biocbuild/bbs-3.12-bioc/R/bin/R CMD check --install=check:TargetSearch.install-out.txt --library=/home/biocbuild/bbs-3.12-bioc/R/library --no-vignettes --timings TargetSearch_1.46.3.tar.gz
###
##############################################################################
##############################################################################
* using log directory ‘/home/biocbuild/bbs-3.12-bioc/meat/TargetSearch.Rcheck’
* using R version 4.0.5 (2021-03-31)
* using platform: x86_64-pc-linux-gnu (64-bit)
* using session charset: UTF-8
* using option ‘--no-vignettes’
* checking for file ‘TargetSearch/DESCRIPTION’ ... OK
* checking extension type ... Package
* this is package ‘TargetSearch’ version ‘1.46.3’
* checking package namespace information ... OK
* checking package dependencies ... OK
* checking if this is a source package ... OK
* checking if there is a namespace ... OK
* checking for hidden files and directories ... OK
* checking for portable file names ... OK
* checking for sufficient/correct file permissions ... OK
* checking whether package ‘TargetSearch’ can be installed ... OK
* checking installed package size ... OK
* checking package directory ... OK
* checking ‘build’ directory ... OK
* checking DESCRIPTION meta-information ... OK
* checking top-level files ... OK
* checking for left-over files ... OK
* checking index information ... OK
* checking package subdirectories ... OK
* checking R files for non-ASCII characters ... OK
* checking R files for syntax errors ... OK
* checking whether the package can be loaded ... OK
* checking whether the package can be loaded with stated dependencies ... OK
* checking whether the package can be unloaded cleanly ... OK
* checking whether the namespace can be loaded with stated dependencies ... OK
* checking whether the namespace can be unloaded cleanly ... OK
* checking dependencies in R code ... OK
* checking S3 generic/method consistency ... OK
* checking replacement functions ... OK
* checking foreign function calls ... OK
* checking R code for possible problems ... OK
* checking Rd files ... OK
* checking Rd metadata ... OK
* checking Rd cross-references ... OK
* checking for missing documentation entries ... OK
* checking for code/documentation mismatches ... OK
* checking Rd \usage sections ... OK
* checking Rd contents ... OK
* checking for unstated dependencies in examples ... OK
* checking contents of ‘data’ directory ... OK
* checking data for non-ASCII characters ... OK
* checking data for ASCII and uncompressed saves ... OK
* checking line endings in C/C++/Fortran sources/headers ... OK
* checking compiled code ... NOTE
Note: information on .o files is not available
* checking installed files from ‘inst/doc’ ... OK
* checking files in ‘vignettes’ ... OK
* checking examples ... OK
Examples with CPU (user + system) or elapsed time > 5s
user system elapsed
RIcorrect 12.112 0.36 13.013
* checking for unstated dependencies in ‘tests’ ... OK
* checking tests ...
Running ‘tinytest.R’
OK
* checking for unstated dependencies in vignettes ... OK
* checking package vignettes in ‘inst/doc’ ... OK
* checking running R code from vignettes ... SKIPPED
* checking re-building of vignette outputs ... SKIPPED
* checking PDF version of manual ... OK
* DONE
Status: 1 NOTE
See
‘/home/biocbuild/bbs-3.12-bioc/meat/TargetSearch.Rcheck/00check.log’
for details.
TargetSearch.Rcheck/00install.out
############################################################################## ############################################################################## ### ### Running command: ### ### /home/biocbuild/bbs-3.12-bioc/R/bin/R CMD INSTALL TargetSearch ### ############################################################################## ############################################################################## * installing to library ‘/home/biocbuild/bbs-3.12-bioc/R/library’ * installing *source* package ‘TargetSearch’ ... ** using staged installation ** libs gcc -I"/home/biocbuild/bbs-3.12-bioc/R/include" -DNDEBUG -I/usr/local/include -fpic -g -O2 -Wall -c Rinit.c -o Rinit.o gcc -I"/home/biocbuild/bbs-3.12-bioc/R/include" -DNDEBUG -I/usr/local/include -fpic -g -O2 -Wall -c baseline.c -o baseline.o gcc -I"/home/biocbuild/bbs-3.12-bioc/R/include" -DNDEBUG -I/usr/local/include -fpic -g -O2 -Wall -c detection.c -o detection.o gcc -I"/home/biocbuild/bbs-3.12-bioc/R/include" -DNDEBUG -I/usr/local/include -fpic -g -O2 -Wall -c file.c -o file.o gcc -I"/home/biocbuild/bbs-3.12-bioc/R/include" -DNDEBUG -I/usr/local/include -fpic -g -O2 -Wall -c find_peaks.c -o find_peaks.o gcc -I"/home/biocbuild/bbs-3.12-bioc/R/include" -DNDEBUG -I/usr/local/include -fpic -g -O2 -Wall -c getLine.c -o getLine.o gcc -I"/home/biocbuild/bbs-3.12-bioc/R/include" -DNDEBUG -I/usr/local/include -fpic -g -O2 -Wall -c hpf.c -o hpf.o gcc -I"/home/biocbuild/bbs-3.12-bioc/R/include" -DNDEBUG -I/usr/local/include -fpic -g -O2 -Wall -c matrix.c -o matrix.o gcc -I"/home/biocbuild/bbs-3.12-bioc/R/include" -DNDEBUG -I/usr/local/include -fpic -g -O2 -Wall -c ncdf.c -o ncdf.o gcc -I"/home/biocbuild/bbs-3.12-bioc/R/include" -DNDEBUG -I/usr/local/include -fpic -g -O2 -Wall -c peak.c -o peak.o gcc -I"/home/biocbuild/bbs-3.12-bioc/R/include" -DNDEBUG -I/usr/local/include -fpic -g -O2 -Wall -c utils.c -o utils.o gcc -shared -L/home/biocbuild/bbs-3.12-bioc/R/lib -L/usr/local/lib -o TargetSearch.so Rinit.o baseline.o detection.o file.o find_peaks.o getLine.o hpf.o matrix.o ncdf.o peak.o utils.o -L/home/biocbuild/bbs-3.12-bioc/R/lib -lR installing to /home/biocbuild/bbs-3.12-bioc/R/library/00LOCK-TargetSearch/00new/TargetSearch/libs ** R ** data ** inst ** byte-compile and prepare package for lazy loading ** help *** installing help indices ** building package indices ** installing vignettes ‘RICorrection.Rnw’ ‘TargetSearch.Rnw’ ** testing if installed package can be loaded from temporary location ** checking absolute paths in shared objects and dynamic libraries ** testing if installed package can be loaded from final location ** testing if installed package keeps a record of temporary installation path * DONE (TargetSearch)
TargetSearch.Rcheck/tests/tinytest.Rout
R version 4.0.5 (2021-03-31) -- "Shake and Throw"
Copyright (C) 2021 The R Foundation for Statistical Computing
Platform: x86_64-pc-linux-gnu (64-bit)
R is free software and comes with ABSOLUTELY NO WARRANTY.
You are welcome to redistribute it under certain conditions.
Type 'license()' or 'licence()' for distribution details.
R is a collaborative project with many contributors.
Type 'contributors()' for more information and
'citation()' on how to cite R or R packages in publications.
Type 'demo()' for some demos, 'help()' for on-line help, or
'help.start()' for an HTML browser interface to help.
Type 'q()' to quit R.
> if ( requireNamespace("tinytest", quietly=TRUE) && requireNamespace("TargetSearchData", quietly=TRUE)) {
+ tinytest::test_package("TargetSearch")
+ }
Loading required package: ncdf4
Loading required package: TargetSearchData
Running test_file.R................... 0 tests
Running test_file.R................... 0 tests
Running test_file.R................... 0 tests
Running test_file.R................... 0 tests
Running test_file.R................... 1 tests [0;32mOK[0m
Running test_file.R................... 1 tests [0;32mOK[0m
Running test_file.R................... 1 tests [0;32mOK[0m
Running test_file.R................... 2 tests [0;32mOK[0m
Running test_file.R................... 2 tests [0;32mOK[0m
Running test_file.R................... 3 tests [0;32mOK[0m
Running test_file.R................... 3 tests [0;32mOK[0m
Running test_file.R................... 3 tests [0;32mOK[0m
Running test_file.R................... 4 tests [0;32mOK[0m [0;34m0.1s[0m
Running test_ncdf4_plot_peak.R........ 0 tests
Running test_ncdf4_plot_peak.R........ 0 tests
Running test_ncdf4_plot_peak.R........ 0 tests
Running test_ncdf4_plot_peak.R........ 0 tests
Running test_ncdf4_plot_peak.R........ 0 tests
Running test_ncdf4_plot_peak.R........ 0 tests
Running test_ncdf4_plot_peak.R........ 0 tests
Running test_ncdf4_plot_peak.R........ 0 tests
Running test_ncdf4_plot_peak.R........ 0 tests
Running test_ncdf4_plot_peak.R........ 5 tests [0;32mOK[0m
Running test_ncdf4_plot_peak.R........ 6 tests [0;32mOK[0m
Running test_ncdf4_plot_peak.R........ 7 tests [0;32mOK[0m
Running test_ncdf4_plot_peak.R........ 7 tests [0;32mOK[0m [0;34m0.3s[0m
Running test_ri_data_extract.R........ 0 tests
Running test_ri_data_extract.R........ 0 tests
Running test_ri_data_extract.R........ 0 tests
Running test_ri_data_extract.R........ 0 tests
Running test_ri_data_extract.R........ 1 tests [0;32mOK[0m
Running test_ri_data_extract.R........ 1 tests [0;32mOK[0m
Running test_ri_data_extract.R........ 1 tests [0;32mOK[0m
Running test_ri_data_extract.R........ 2 tests [0;32mOK[0m
Running test_ri_data_extract.R........ 2 tests [0;32mOK[0m
Running test_ri_data_extract.R........ 2 tests [0;32mOK[0m
Running test_ri_data_extract.R........ 3 tests [0;32mOK[0m
Running test_ri_data_extract.R........ 3 tests [0;32mOK[0m
Running test_ri_data_extract.R........ 4 tests [0;32mOK[0m
Running test_ri_data_extract.R........ 4 tests [0;32mOK[0m
Running test_ri_data_extract.R........ 4 tests [0;32mOK[0m
Running test_ri_data_extract.R........ 4 tests [0;32mOK[0m
Running test_ri_data_extract.R........ 4 tests [0;32mOK[0m
Running test_ri_data_extract.R........ 4 tests [0;32mOK[0m
Running test_ri_data_extract.R........ 5 tests [0;32mOK[0m
Running test_ri_data_extract.R........ 5 tests [0;32mOK[0m
Running test_ri_data_extract.R........ 6 tests [0;32mOK[0m [0;34m0.2s[0m
Running test_ri_plot_peak.R........... 0 tests
Running test_ri_plot_peak.R........... 0 tests
Running test_ri_plot_peak.R........... 0 tests
Running test_ri_plot_peak.R........... 0 tests
Running test_ri_plot_peak.R........... 0 tests
Running test_ri_plot_peak.R........... 0 tests
Running test_ri_plot_peak.R........... 0 tests
Running test_ri_plot_peak.R........... 0 tests
Running test_ri_plot_peak.R........... 0 tests
Running test_ri_plot_peak.R........... 0 tests
Running test_ri_plot_peak.R........... 10 tests [0;32mOK[0m
Running test_ri_plot_peak.R........... 11 tests [0;32mOK[0m
Running test_ri_plot_peak.R........... 12 tests [0;32mOK[0m
Running test_ri_plot_peak.R........... 12 tests [0;32mOK[0m [0;34m0.1s[0m
All ok, 29 results (0.8s)
>
> proc.time()
user system elapsed
1.108 0.072 1.198
TargetSearch.Rcheck/TargetSearch-Ex.timings
| name | user | system | elapsed | |
| FAMEoutliers | 0.048 | 0.000 | 0.050 | |
| FindAllPeaks | 0.476 | 0.016 | 0.599 | |
| FindPeaks | 0.176 | 0.008 | 0.185 | |
| ImportFameSettings | 0.008 | 0.000 | 0.008 | |
| ImportLibrary | 0.020 | 0.000 | 0.032 | |
| ImportSamples | 0.004 | 0.000 | 0.006 | |
| NetCDFPeakFinding | 0.132 | 0.012 | 0.182 | |
| Profile | 0.716 | 0.016 | 0.736 | |
| ProfileCleanUp | 0.576 | 0.016 | 0.591 | |
| RIcorrect | 12.112 | 0.360 | 13.013 | |
| TSExample | 2.136 | 0.060 | 2.201 | |
| checkRimLim | 0.448 | 0.000 | 0.450 | |
| file | 0.108 | 0.000 | 0.109 | |
| fixRI | 1.064 | 0.028 | 1.091 | |
| medianRILib | 0.240 | 0.004 | 0.243 | |
| ncdf4Convert-method | 0.136 | 0.000 | 0.135 | |
| ncdf4_convert | 0.024 | 0.000 | 0.025 | |
| ncdf4_convert_from_path | 0 | 0 | 0 | |
| ncdf4_data_extract | 0.000 | 0.000 | 0.001 | |
| ncdf4_plot_peak | 1.256 | 0.024 | 1.282 | |
| peakFind | 0.136 | 0.000 | 0.139 | |
| plotFAME | 0.008 | 0.004 | 0.012 | |
| plotPeak | 0.128 | 0.008 | 0.138 | |
| plotPeakRI | 0.288 | 0.012 | 0.297 | |
| plotPeakSimple | 0.236 | 0.008 | 0.244 | |
| plotRIdev | 0.344 | 0.004 | 0.348 | |
| plotSpectra | 0.144 | 0.008 | 0.153 | |
| quantMatrix | 0.648 | 0.004 | 0.654 | |
| ri2rt | 0.008 | 0.000 | 0.006 | |
| riMatrix | 1.008 | 0.020 | 1.034 | |
| ri_data_extract | 0.032 | 0.000 | 0.032 | |
| ri_plot_peak | 0.968 | 0.044 | 1.014 | |
| rt2ri | 0.008 | 0.000 | 0.006 | |
| sampleRI | 0.312 | 0.008 | 0.324 | |
| tsLib-class | 0.012 | 0.000 | 0.015 | |
| tsMSdata-class | 0.004 | 0.000 | 0.001 | |
| tsProfile-class | 0 | 0 | 0 | |
| tsRim-class | 0.000 | 0.000 | 0.001 | |
| tsSample-class | 0.016 | 0.000 | 0.020 | |
| tsUpdate-method | 0 | 0 | 0 | |
| updateRI | 1.120 | 0.040 | 1.165 | |
| writeLibText | 0.028 | 0.000 | 0.030 | |