| Back to Multiple platform build/check report for BioC 3.12 |
|
This page was generated on 2021-05-06 12:29:24 -0400 (Thu, 06 May 2021).
|
To the developers/maintainers of the TarSeqQC package: Please make sure to use the following settings in order to reproduce any error or warning you see on this page. |
| Package 1839/1974 | Hostname | OS / Arch | INSTALL | BUILD | CHECK | BUILD BIN | ||||||||
| TarSeqQC 1.20.0 (landing page) Gabriela Merino
| malbec1 | Linux (Ubuntu 18.04.5 LTS) / x86_64 | OK | OK | OK | |||||||||
| tokay1 | Windows Server 2012 R2 Standard / x64 | OK | OK | TIMEOUT | OK | |||||||||
| merida1 | macOS 10.14.6 Mojave / x86_64 | OK | OK | OK | OK | |||||||||
| Package: TarSeqQC |
| Version: 1.20.0 |
| Command: /home/biocbuild/bbs-3.12-bioc/R/bin/R CMD check --install=check:TarSeqQC.install-out.txt --library=/home/biocbuild/bbs-3.12-bioc/R/library --no-vignettes --timings TarSeqQC_1.20.0.tar.gz |
| StartedAt: 2021-05-06 06:34:16 -0400 (Thu, 06 May 2021) |
| EndedAt: 2021-05-06 06:40:00 -0400 (Thu, 06 May 2021) |
| EllapsedTime: 343.7 seconds |
| RetCode: 0 |
| Status: OK |
| CheckDir: TarSeqQC.Rcheck |
| Warnings: 0 |
##############################################################################
##############################################################################
###
### Running command:
###
### /home/biocbuild/bbs-3.12-bioc/R/bin/R CMD check --install=check:TarSeqQC.install-out.txt --library=/home/biocbuild/bbs-3.12-bioc/R/library --no-vignettes --timings TarSeqQC_1.20.0.tar.gz
###
##############################################################################
##############################################################################
* using log directory ‘/home/biocbuild/bbs-3.12-bioc/meat/TarSeqQC.Rcheck’
* using R version 4.0.5 (2021-03-31)
* using platform: x86_64-pc-linux-gnu (64-bit)
* using session charset: UTF-8
* using option ‘--no-vignettes’
* checking for file ‘TarSeqQC/DESCRIPTION’ ... OK
* checking extension type ... Package
* this is package ‘TarSeqQC’ version ‘1.20.0’
* checking package namespace information ... OK
* checking package dependencies ... OK
* checking if this is a source package ... OK
* checking if there is a namespace ... OK
* checking for hidden files and directories ... OK
* checking for portable file names ... OK
* checking for sufficient/correct file permissions ... OK
* checking whether package ‘TarSeqQC’ can be installed ... OK
* checking installed package size ... OK
* checking package directory ... OK
* checking ‘build’ directory ... OK
* checking DESCRIPTION meta-information ... OK
* checking top-level files ... OK
* checking for left-over files ... OK
* checking index information ... OK
* checking package subdirectories ... OK
* checking R files for non-ASCII characters ... OK
* checking R files for syntax errors ... OK
* checking whether the package can be loaded ... OK
* checking whether the package can be loaded with stated dependencies ... OK
* checking whether the package can be unloaded cleanly ... OK
* checking whether the namespace can be loaded with stated dependencies ... OK
* checking whether the namespace can be unloaded cleanly ... OK
* checking dependencies in R code ... OK
* checking S3 generic/method consistency ... OK
* checking replacement functions ... OK
* checking foreign function calls ... OK
* checking R code for possible problems ... NOTE
plotNtdPercentage,TargetExperiment: no visible global function
definition for ‘path’
plotRegion,TargetExperiment: no visible global function definition for
‘path’
readFrequencies,TargetExperiment: no visible global function definition
for ‘path’
Undefined global functions or variables:
path
* checking Rd files ... OK
* checking Rd metadata ... OK
* checking Rd cross-references ... OK
* checking for missing documentation entries ... OK
* checking for code/documentation mismatches ... OK
* checking Rd \usage sections ... OK
* checking Rd contents ... OK
* checking for unstated dependencies in examples ... OK
* checking contents of ‘data’ directory ... OK
* checking data for non-ASCII characters ... OK
* checking data for ASCII and uncompressed saves ... OK
* checking files in ‘vignettes’ ... OK
* checking examples ... OK
Examples with CPU (user + system) or elapsed time > 5s
user system elapsed
TargetExperiment-class 84.536 14.156 33.735
TargetExperiment-plotRegion 67.180 6.392 19.509
TargetExperiment-plotFeature 2.864 2.196 1.678
* checking for unstated dependencies in ‘tests’ ... OK
* checking tests ...
Running ‘runTests.R’
OK
* checking for unstated dependencies in vignettes ... OK
* checking package vignettes in ‘inst/doc’ ... OK
* checking running R code from vignettes ... SKIPPED
* checking re-building of vignette outputs ... SKIPPED
* checking PDF version of manual ... OK
* DONE
Status: 1 NOTE
See
‘/home/biocbuild/bbs-3.12-bioc/meat/TarSeqQC.Rcheck/00check.log’
for details.
TarSeqQC.Rcheck/00install.out
############################################################################## ############################################################################## ### ### Running command: ### ### /home/biocbuild/bbs-3.12-bioc/R/bin/R CMD INSTALL TarSeqQC ### ############################################################################## ############################################################################## * installing to library ‘/home/biocbuild/bbs-3.12-bioc/R/library’ * installing *source* package ‘TarSeqQC’ ... ** using staged installation ** R ** data ** inst ** byte-compile and prepare package for lazy loading ** help *** installing help indices ** building package indices ** installing vignettes ** testing if installed package can be loaded from temporary location ** testing if installed package can be loaded from final location ** testing if installed package keeps a record of temporary installation path * DONE (TarSeqQC)
TarSeqQC.Rcheck/tests/runTests.Rout
R version 4.0.5 (2021-03-31) -- "Shake and Throw"
Copyright (C) 2021 The R Foundation for Statistical Computing
Platform: x86_64-pc-linux-gnu (64-bit)
R is free software and comes with ABSOLUTELY NO WARRANTY.
You are welcome to redistribute it under certain conditions.
Type 'license()' or 'licence()' for distribution details.
R is a collaborative project with many contributors.
Type 'contributors()' for more information and
'citation()' on how to cite R or R packages in publications.
Type 'demo()' for some demos, 'help()' for on-line help, or
'help.start()' for an HTML browser interface to help.
Type 'q()' to quit R.
> BiocGenerics:::testPackage("TarSeqQC")
Attaching package: 'BiocGenerics'
The following objects are masked from 'package:parallel':
clusterApply, clusterApplyLB, clusterCall, clusterEvalQ,
clusterExport, clusterMap, parApply, parCapply, parLapply,
parLapplyLB, parRapply, parSapply, parSapplyLB
The following objects are masked from 'package:stats':
IQR, mad, sd, var, xtabs
The following objects are masked from 'package:base':
Filter, Find, Map, Position, Reduce, anyDuplicated, append,
as.data.frame, basename, cbind, colnames, dirname, do.call,
duplicated, eval, evalq, get, grep, grepl, intersect, is.unsorted,
lapply, mapply, match, mget, order, paste, pmax, pmax.int, pmin,
pmin.int, rank, rbind, rownames, sapply, setdiff, sort, table,
tapply, union, unique, unsplit, which.max, which.min
Attaching package: 'S4Vectors'
The following object is masked from 'package:base':
expand.grid
Attaching package: 'Biostrings'
The following object is masked from 'package:base':
strsplit
Attaching package: 'plyr'
The following object is masked from 'package:XVector':
compact
The following object is masked from 'package:IRanges':
desc
The following object is masked from 'package:S4Vectors':
rename
RUNIT TEST PROTOCOL -- Thu May 6 06:39:55 2021
***********************************************
Number of test functions: 33
Number of errors: 0
Number of failures: 0
1 Test Suite :
TarSeqQC RUnit Tests - 33 test functions, 0 errors, 0 failures
Number of test functions: 33
Number of errors: 0
Number of failures: 0
>
> proc.time()
user system elapsed
23.204 4.088 21.021
TarSeqQC.Rcheck/TarSeqQC-Ex.timings
| name | user | system | elapsed | |
| TargetExperiment-biasExploration | 0.072 | 0.000 | 0.073 | |
| TargetExperiment-buildFeaturePanel | 1.380 | 0.076 | 1.837 | |
| TargetExperiment-buildReport | 1.560 | 0.004 | 1.565 | |
| TargetExperiment-class | 84.536 | 14.156 | 33.735 | |
| TargetExperiment-constructor | 2.564 | 0.444 | 2.322 | |
| TargetExperiment-getters | 0.572 | 0.092 | 0.337 | |
| TargetExperiment-initialize | 0 | 0 | 0 | |
| TargetExperiment-plot | 0.32 | 0.02 | 0.34 | |
| TargetExperiment-plotAttrExpl | 0.136 | 0.008 | 0.146 | |
| TargetExperiment-plotAttrPerform | 0.032 | 0.000 | 0.032 | |
| TargetExperiment-plotFeatPerform | 0.616 | 0.036 | 0.657 | |
| TargetExperiment-plotFeature | 2.864 | 2.196 | 1.678 | |
| TargetExperiment-plotGeneAttrPerFeat | 0.736 | 0.044 | 0.783 | |
| TargetExperiment-plotMetaDataExpl | 0.060 | 0.004 | 0.067 | |
| TargetExperiment-plotNtdPercentage | 2.324 | 1.652 | 1.320 | |
| TargetExperiment-plotRegion | 67.180 | 6.392 | 19.509 | |
| TargetExperiment-print | 0.040 | 0.008 | 0.048 | |
| TargetExperiment-readFrequencies | 0.428 | 0.344 | 0.435 | |
| TargetExperiment-setters | 0.000 | 0.004 | 0.003 | |
| TargetExperiment-show | 0.044 | 0.004 | 0.047 | |
| TargetExperiment-statistics | 0.064 | 0.012 | 0.075 | |
| TargetExperiment-summarizePanel | 0.780 | 0.412 | 0.468 | |
| TargetExperimentList-class | 0.840 | 0.144 | 0.625 | |
| TargetExperimentList-constructor | 0.072 | 0.004 | 0.076 | |
| TargetExperimentList-initialize | 0.072 | 0.000 | 0.073 | |
| TargetExperimentList-plotGlobalAttrExpl | 0.020 | 0.004 | 0.022 | |
| TargetExperimentList-plotPoolPerformance | 0.012 | 0.000 | 0.014 | |
| checkBedFasta | 0.040 | 0.004 | 0.042 | |
| pileupCounts | 2.148 | 1.276 | 1.316 | |
| plotInOutFeatures | 1.304 | 0.784 | 0.631 | |