| Back to Multiple platform build/check report for BioC 3.12 |
|
This page was generated on 2021-05-06 12:34:03 -0400 (Thu, 06 May 2021).
|
To the developers/maintainers of the TSCAN package: Please make sure to use the following settings in order to reproduce any error or warning you see on this page. |
| Package 1905/1974 | Hostname | OS / Arch | INSTALL | BUILD | CHECK | BUILD BIN | ||||||||
| TSCAN 1.28.0 (landing page) Zhicheng Ji
| malbec1 | Linux (Ubuntu 18.04.5 LTS) / x86_64 | OK | OK | WARNINGS | |||||||||
| tokay1 | Windows Server 2012 R2 Standard / x64 | OK | OK | WARNINGS | OK | |||||||||
| merida1 | macOS 10.14.6 Mojave / x86_64 | OK | OK | WARNINGS | OK | |||||||||
| Package: TSCAN |
| Version: 1.28.0 |
| Command: rm -rf TSCAN.buildbin-libdir && mkdir TSCAN.buildbin-libdir && C:\Users\biocbuild\bbs-3.12-bioc\R\bin\R.exe CMD INSTALL --merge-multiarch --build --library=TSCAN.buildbin-libdir TSCAN_1.28.0.tar.gz |
| StartedAt: 2021-05-06 10:18:51 -0400 (Thu, 06 May 2021) |
| EndedAt: 2021-05-06 10:19:40 -0400 (Thu, 06 May 2021) |
| EllapsedTime: 48.7 seconds |
| RetCode: 0 |
| Status: OK |
| PackageFile: TSCAN_1.28.0.zip |
| PackageFileSize: 2.795 MiB |
##############################################################################
##############################################################################
###
### Running command:
###
### rm -rf TSCAN.buildbin-libdir && mkdir TSCAN.buildbin-libdir && C:\Users\biocbuild\bbs-3.12-bioc\R\bin\R.exe CMD INSTALL --merge-multiarch --build --library=TSCAN.buildbin-libdir TSCAN_1.28.0.tar.gz
###
##############################################################################
##############################################################################
install for i386
* installing *source* package 'TSCAN' ...
** using staged installation
** R
** data
** inst
** byte-compile and prepare package for lazy loading
** help
*** installing help indices
converting help for package 'TSCAN'
finding HTML links ... done
TSCAN html
TSCANorder html
TSCANui html
createClusterMST html
finding level-2 HTML links ... done
difftest html
exprmclust html
lpsdata html
mapCellsToEdges html
orderCells html
orderscore html
perCellEntropy html
plotmclust html
preprocess html
quickPseudotime html
reportEdges html
rowmean html
singlegeneplot html
testPseudotime html
** building package indices
** installing vignettes
** testing if installed package can be loaded from temporary location
** testing if installed package can be loaded from final location
** testing if installed package keeps a record of temporary installation path
install for x64
* installing *source* package 'TSCAN' ...
** testing if installed package can be loaded
* MD5 sums
packaged installation of 'TSCAN' as TSCAN_1.28.0.zip
* DONE (TSCAN)