| Back to Multiple platform build/check report for BioC 3.12 |
|
This page was generated on 2021-05-06 12:34:00 -0400 (Thu, 06 May 2021).
|
To the developers/maintainers of the TPP package: Please make sure to use the following settings in order to reproduce any error or warning you see on this page. |
| Package 1881/1974 | Hostname | OS / Arch | INSTALL | BUILD | CHECK | BUILD BIN | ||||||||
| TPP 3.18.0 (landing page) Dorothee Childs
| malbec1 | Linux (Ubuntu 18.04.5 LTS) / x86_64 | OK | OK | OK | |||||||||
| tokay1 | Windows Server 2012 R2 Standard / x64 | OK | OK | OK | OK | |||||||||
| merida1 | macOS 10.14.6 Mojave / x86_64 | OK | OK | OK | OK | |||||||||
| Package: TPP |
| Version: 3.18.0 |
| Command: rm -rf TPP.buildbin-libdir && mkdir TPP.buildbin-libdir && C:\Users\biocbuild\bbs-3.12-bioc\R\bin\R.exe CMD INSTALL --merge-multiarch --build --library=TPP.buildbin-libdir TPP_3.18.0.tar.gz |
| StartedAt: 2021-05-06 10:17:25 -0400 (Thu, 06 May 2021) |
| EndedAt: 2021-05-06 10:18:12 -0400 (Thu, 06 May 2021) |
| EllapsedTime: 46.4 seconds |
| RetCode: 0 |
| Status: OK |
| PackageFile: TPP_3.18.0.zip |
| PackageFileSize: 8.893 MiB |
##############################################################################
##############################################################################
###
### Running command:
###
### rm -rf TPP.buildbin-libdir && mkdir TPP.buildbin-libdir && C:\Users\biocbuild\bbs-3.12-bioc\R\bin\R.exe CMD INSTALL --merge-multiarch --build --library=TPP.buildbin-libdir TPP_3.18.0.tar.gz
###
##############################################################################
##############################################################################
install for i386
* installing *source* package 'TPP' ...
** using staged installation
** R
** data
** inst
** byte-compile and prepare package for lazy loading
** help
*** installing help indices
converting help for package 'TPP'
finding HTML links ... done
TPP-defunct html
TPP-deprecated html
TPP html
TPPTR_reference_results_HepG2 html
analyze2DTPP html
finding level-2 HTML links ... done
analyzeTPPCCR html
analyzeTPPTR html
hdacCCR_config html
hdacCCR_data html
hdacCCR_smallExample html
hdacTR_config html
hdacTR_data html
hdacTR_resultsTable_smallExample html
hdacTR_smallExample html
panobinostat_2DTPP_config html
panobinostat_2DTPP_data html
panobinostat_2DTPP_smallExample html
resultTable html
tpp2dAddAdditionalInfo html
tpp2dCalcFractAbundance html
tpp2dComputeFoldChanges html
tpp2dCreateDRplots html
tpp2dCreateReport html
tpp2dCreateTPPTRreference html
tpp2dCurveFit html
tpp2dExport html
tpp2dExportPlots html
tpp2dImport html
tpp2dMerge2dRef html
tpp2dNormalize html
tpp2dPlotQChist html
tpp2dPlotQCpEC50 html
tpp2dSplineFitAndTest html
tpp2dSplinePlot html
tpp2dTRReferenceObject html
tppDefaultTheme html
tppExport html
tppQCPlotsCorrelateExperiments html
tppRefData html
tppccrCurveFit html
tppccrImport html
tppccrNormalize html
tppccrNormalizeToReference html
tppccrPlotCurves html
tppccrResultTable html
tppccrTransform html
tpptrAnalyzeMeltingCurves html
tpptrCurveFit html
tpptrDefaultNormReqs html
tpptrFTest html
tpptrFitSplines html
tpptrImport html
tpptrNormalize html
tpptrPlotSplines html
tpptrSplineFitAndTest html
tpptrTidyUpESets html
** building package indices
** installing vignettes
** testing if installed package can be loaded from temporary location
** testing if installed package can be loaded from final location
** testing if installed package keeps a record of temporary installation path
install for x64
* installing *source* package 'TPP' ...
** testing if installed package can be loaded
* MD5 sums
packaged installation of 'TPP' as TPP_3.18.0.zip
* DONE (TPP)