| Back to Multiple platform build/check report for BioC 3.12 |
|
This page was generated on 2021-05-06 12:33:57 -0400 (Thu, 06 May 2021).
|
To the developers/maintainers of the TFutils package: Please make sure to use the following settings in order to reproduce any error or warning you see on this page. |
| Package 1854/1974 | Hostname | OS / Arch | INSTALL | BUILD | CHECK | BUILD BIN | ||||||||
| TFutils 1.10.1 (landing page) Shweta Gopaulakrishnan
| malbec1 | Linux (Ubuntu 18.04.5 LTS) / x86_64 | OK | OK | OK | |||||||||
| tokay1 | Windows Server 2012 R2 Standard / x64 | OK | ERROR | skipped | skipped | |||||||||
| merida1 | macOS 10.14.6 Mojave / x86_64 | OK | OK | OK | OK | |||||||||
| Package: TFutils |
| Version: 1.10.1 |
| Command: C:\cygwin\bin\curl.exe -O http://172.29.0.3/BBS/3.12/bioc/src/contrib/TFutils_1.10.1.tar.gz && rm -rf TFutils.buildbin-libdir && mkdir TFutils.buildbin-libdir && C:\Users\biocbuild\bbs-3.12-bioc\R\bin\R.exe CMD INSTALL --merge-multiarch --build --library=TFutils.buildbin-libdir TFutils_1.10.1.tar.gz && C:\Users\biocbuild\bbs-3.12-bioc\R\bin\R.exe CMD INSTALL TFutils_1.10.1.zip && rm TFutils_1.10.1.tar.gz TFutils_1.10.1.zip |
| StartedAt: 2021-05-05 18:08:45 -0400 (Wed, 05 May 2021) |
| EndedAt: 2021-05-05 18:10:08 -0400 (Wed, 05 May 2021) |
| EllapsedTime: 82.9 seconds |
| RetCode: 0 |
| Status: OK |
##############################################################################
##############################################################################
###
### Running command:
###
### C:\cygwin\bin\curl.exe -O http://172.29.0.3/BBS/3.12/bioc/src/contrib/TFutils_1.10.1.tar.gz && rm -rf TFutils.buildbin-libdir && mkdir TFutils.buildbin-libdir && C:\Users\biocbuild\bbs-3.12-bioc\R\bin\R.exe CMD INSTALL --merge-multiarch --build --library=TFutils.buildbin-libdir TFutils_1.10.1.tar.gz && C:\Users\biocbuild\bbs-3.12-bioc\R\bin\R.exe CMD INSTALL TFutils_1.10.1.zip && rm TFutils_1.10.1.tar.gz TFutils_1.10.1.zip
###
##############################################################################
##############################################################################
% Total % Received % Xferd Average Speed Time Time Time Current
Dload Upload Total Spent Left Speed
0 0 0 0 0 0 0 0 --:--:-- --:--:-- --:--:-- 0
100 4303k 100 4303k 0 0 30.0M 0 --:--:-- --:--:-- --:--:-- 30.2M
install for i386
Warning in untar2(tarfile, files, list, exdir, restore_times) :
restoring symbolic link as a file copy
* installing *source* package 'TFutils' ...
** using staged installation
** R
** data
*** moving datasets to lazyload DB
** inst
** byte-compile and prepare package for lazy loading
** help
*** installing help indices
converting help for package 'TFutils'
finding HTML links ... done
HGNCmap html
TFCatalog-class html
TFCatalog html
TFtargs html
URL_s3_tf html
anchor_pmids html
browse_lambert_gwaslinks html
browse_lambert_main html
cisbpTFcat html
cisbpTFcat_2.0 html
defaultCircosParms html
demo_fimo_granges html
directHitsInCISBP html
encode690 html
fimo16 html
fimoMap html
fimo_granges html
genemodForGviz html
genemodelDF html
get_rslocs_38 html
grabTab html
gwascat_hg19_chr17 html
hocomoco.mono html
hocomoco.mono.sep2018 html
importFIMO html
importFIMO_local_split html
lambert_snps html
metadata_tf html
named_tf html
retrieve_lambert_main html
seqinfo_hg19_chr17 html
setupHIZE html
show-TFCatalog-method html
tffamCirc.plot html
tffamCirc.prep html
tfhash html
tftColl html
tftCollMap html
topTraitsOfTargets html
** building package indices
** installing vignettes
** testing if installed package can be loaded from temporary location
** testing if installed package can be loaded from final location
** testing if installed package keeps a record of temporary installation path
install for x64
Warning in untar2(tarfile, files, list, exdir, restore_times) :
restoring symbolic link as a file copy
* installing *source* package 'TFutils' ...
** testing if installed package can be loaded
* MD5 sums
packaged installation of 'TFutils' as TFutils_1.10.1.zip
* DONE (TFutils)
* installing to library 'C:/Users/biocbuild/bbs-3.12-bioc/R/library'
package 'TFutils' successfully unpacked and MD5 sums checked