| Back to Multiple platform build/check report for BioC 3.12 |
|
This page was generated on 2021-05-06 12:33:57 -0400 (Thu, 06 May 2021).
|
To the developers/maintainers of the TFEA.ChIP package: Please make sure to use the following settings in order to reproduce any error or warning you see on this page. |
| Package 1852/1974 | Hostname | OS / Arch | INSTALL | BUILD | CHECK | BUILD BIN | ||||||||
| TFEA.ChIP 1.10.0 (landing page) Laura Puente SantamarĂa
| malbec1 | Linux (Ubuntu 18.04.5 LTS) / x86_64 | OK | OK | OK | |||||||||
| tokay1 | Windows Server 2012 R2 Standard / x64 | OK | OK | OK | OK | |||||||||
| merida1 | macOS 10.14.6 Mojave / x86_64 | OK | OK | OK | OK | |||||||||
| Package: TFEA.ChIP |
| Version: 1.10.0 |
| Command: C:\Users\biocbuild\bbs-3.12-bioc\R\bin\R.exe CMD check --force-multiarch --install=check:TFEA.ChIP.install-out.txt --library=C:\Users\biocbuild\bbs-3.12-bioc\R\library --no-vignettes --timings TFEA.ChIP_1.10.0.tar.gz |
| StartedAt: 2021-05-06 07:30:12 -0400 (Thu, 06 May 2021) |
| EndedAt: 2021-05-06 07:39:55 -0400 (Thu, 06 May 2021) |
| EllapsedTime: 582.5 seconds |
| RetCode: 0 |
| Status: OK |
| CheckDir: TFEA.ChIP.Rcheck |
| Warnings: 0 |
##############################################################################
##############################################################################
###
### Running command:
###
### C:\Users\biocbuild\bbs-3.12-bioc\R\bin\R.exe CMD check --force-multiarch --install=check:TFEA.ChIP.install-out.txt --library=C:\Users\biocbuild\bbs-3.12-bioc\R\library --no-vignettes --timings TFEA.ChIP_1.10.0.tar.gz
###
##############################################################################
##############################################################################
* using log directory 'C:/Users/biocbuild/bbs-3.12-bioc/meat/TFEA.ChIP.Rcheck'
* using R version 4.0.5 (2021-03-31)
* using platform: x86_64-w64-mingw32 (64-bit)
* using session charset: ISO8859-1
* using option '--no-vignettes'
* checking for file 'TFEA.ChIP/DESCRIPTION' ... OK
* checking extension type ... Package
* this is package 'TFEA.ChIP' version '1.10.0'
* package encoding: UTF-8
* checking package namespace information ... OK
* checking package dependencies ... OK
* checking if this is a source package ... OK
* checking if there is a namespace ... OK
* checking for hidden files and directories ... OK
* checking for portable file names ... OK
* checking whether package 'TFEA.ChIP' can be installed ... OK
* checking installed package size ... OK
* checking package directory ... OK
* checking 'build' directory ... OK
* checking DESCRIPTION meta-information ... OK
* checking top-level files ... OK
* checking for left-over files ... OK
* checking index information ... OK
* checking package subdirectories ... OK
* checking R files for non-ASCII characters ... OK
* checking R files for syntax errors ... OK
* loading checks for arch 'i386'
** checking whether the package can be loaded ... OK
** checking whether the package can be loaded with stated dependencies ... OK
** checking whether the package can be unloaded cleanly ... OK
** checking whether the namespace can be loaded with stated dependencies ... OK
** checking whether the namespace can be unloaded cleanly ... OK
* loading checks for arch 'x64'
** checking whether the package can be loaded ... OK
** checking whether the package can be loaded with stated dependencies ... OK
** checking whether the package can be unloaded cleanly ... OK
** checking whether the namespace can be loaded with stated dependencies ... OK
** checking whether the namespace can be unloaded cleanly ... OK
* checking dependencies in R code ... OK
* checking S3 generic/method consistency ... OK
* checking replacement functions ... OK
* checking foreign function calls ... OK
* checking R code for possible problems ... OK
* checking Rd files ... OK
* checking Rd metadata ... OK
* checking Rd cross-references ... OK
* checking for missing documentation entries ... OK
* checking for code/documentation mismatches ... OK
* checking Rd \usage sections ... OK
* checking Rd contents ... OK
* checking for unstated dependencies in examples ... OK
* checking contents of 'data' directory ... OK
* checking data for non-ASCII characters ... OK
* checking data for ASCII and uncompressed saves ... OK
* checking files in 'vignettes' ... OK
* checking examples ...
** running examples for arch 'i386' ... OK
Examples with CPU (user + system) or elapsed time > 5s
user system elapsed
GeneID2entrez 12.79 0.19 27.70
contingency_matrix 9.44 0.52 9.95
GSEA_run 9.29 0.41 9.70
set_user_data 7.19 0.12 7.31
** running examples for arch 'x64' ... OK
Examples with CPU (user + system) or elapsed time > 5s
user system elapsed
GSEA_run 7.45 0.37 7.83
contingency_matrix 7.09 0.19 7.28
GeneID2entrez 6.64 0.11 12.85
* checking for unstated dependencies in 'tests' ... OK
* checking tests ...
** running tests for arch 'i386' ...
Running 'runTests.R'
OK
** running tests for arch 'x64' ...
Running 'runTests.R'
OK
* checking for unstated dependencies in vignettes ... OK
* checking package vignettes in 'inst/doc' ... OK
* checking running R code from vignettes ... SKIPPED
* checking re-building of vignette outputs ... SKIPPED
* checking PDF version of manual ... OK
* DONE
Status: OK
TFEA.ChIP.Rcheck/00install.out
##############################################################################
##############################################################################
###
### Running command:
###
### C:\cygwin\bin\curl.exe -O http://172.29.0.3/BBS/3.12/bioc/src/contrib/TFEA.ChIP_1.10.0.tar.gz && rm -rf TFEA.ChIP.buildbin-libdir && mkdir TFEA.ChIP.buildbin-libdir && C:\Users\biocbuild\bbs-3.12-bioc\R\bin\R.exe CMD INSTALL --merge-multiarch --build --library=TFEA.ChIP.buildbin-libdir TFEA.ChIP_1.10.0.tar.gz && C:\Users\biocbuild\bbs-3.12-bioc\R\bin\R.exe CMD INSTALL TFEA.ChIP_1.10.0.zip && rm TFEA.ChIP_1.10.0.tar.gz TFEA.ChIP_1.10.0.zip
###
##############################################################################
##############################################################################
% Total % Received % Xferd Average Speed Time Time Time Current
Dload Upload Total Spent Left Speed
0 0 0 0 0 0 0 0 --:--:-- --:--:-- --:--:-- 0
100 3910k 100 3910k 0 0 60.7M 0 --:--:-- --:--:-- --:--:-- 61.5M
install for i386
* installing *source* package 'TFEA.ChIP' ...
** using staged installation
** R
** data
** inst
** byte-compile and prepare package for lazy loading
** help
*** installing help indices
converting help for package 'TFEA.ChIP'
finding HTML links ... done
ARNT.metadata html
ARNT.peaks.bed html
CM_list html
DnaseHS_db html
Entrez.gene.IDs html
GR2tfbs_db html
GSEA.result html
GSEA_ESpermutations html
GSEA_EnrichmentScore html
GSEA_run html
GeneID2entrez html
Genes.Upreg html
Mat01 html
MetaData html
Select_genes html
contingency_matrix html
getCMstats html
get_LFC_bar html
get_chip_index html
gr.list html
highlight_TF html
hypoxia html
hypoxia_DESeq html
log2.FC html
makeTFBSmatrix html
plot_CM html
plot_ES html
plot_RES html
preprocessInputData html
rankTFs html
set_user_data html
stat_mat html
tfbs.database html
txt2GR html
** building package indices
** installing vignettes
** testing if installed package can be loaded from temporary location
** testing if installed package can be loaded from final location
** testing if installed package keeps a record of temporary installation path
install for x64
* installing *source* package 'TFEA.ChIP' ...
** testing if installed package can be loaded
* MD5 sums
packaged installation of 'TFEA.ChIP' as TFEA.ChIP_1.10.0.zip
* DONE (TFEA.ChIP)
* installing to library 'C:/Users/biocbuild/bbs-3.12-bioc/R/library'
package 'TFEA.ChIP' successfully unpacked and MD5 sums checked
|
TFEA.ChIP.Rcheck/tests_i386/runTests.Rout
R version 4.0.5 (2021-03-31) -- "Shake and Throw"
Copyright (C) 2021 The R Foundation for Statistical Computing
Platform: i386-w64-mingw32/i386 (32-bit)
R is free software and comes with ABSOLUTELY NO WARRANTY.
You are welcome to redistribute it under certain conditions.
Type 'license()' or 'licence()' for distribution details.
R is a collaborative project with many contributors.
Type 'contributors()' for more information and
'citation()' on how to cite R or R packages in publications.
Type 'demo()' for some demos, 'help()' for on-line help, or
'help.start()' for an HTML browser interface to help.
Type 'q()' to quit R.
> BiocGenerics:::testPackage(pkgname = "TFEA.ChIP")
Because of space limitations, TFEA.ChIPs internal database only includes ChIP-seq experiments from the ENCODE project.
To download the full ReMap database, as well as other ready-to-use databases, visit https://github.com/LauraPS1/TFEA.ChIP_downloads
|
| | 0%
|
|======================================================================| 100%
|
| | 0%
|
|=================================== | 50%
|
|======================================================================| 100%
Done! 2 genes of 2 successfully converted.
Done! 1 genes of 1 successfully converted.
Done! 1 genes of 1 successfully converted.
Done! 2 genes of 2 successfully converted.
Done! 16714 genes of 17527 successfully converted.
Couldn't find Entrez IDs for 813 genes.
Loading required package: DESeq2
Loading required package: S4Vectors
Loading required package: stats4
Loading required package: BiocGenerics
Loading required package: parallel
Attaching package: 'BiocGenerics'
The following objects are masked from 'package:parallel':
clusterApply, clusterApplyLB, clusterCall, clusterEvalQ,
clusterExport, clusterMap, parApply, parCapply, parLapply,
parLapplyLB, parRapply, parSapply, parSapplyLB
The following objects are masked from 'package:stats':
IQR, mad, sd, var, xtabs
The following objects are masked from 'package:base':
Filter, Find, Map, Position, Reduce, anyDuplicated, append,
as.data.frame, basename, cbind, colnames, dirname, do.call,
duplicated, eval, evalq, get, grep, grepl, intersect, is.unsorted,
lapply, mapply, match, mget, order, paste, pmax, pmax.int, pmin,
pmin.int, rank, rbind, rownames, sapply, setdiff, sort, table,
tapply, union, unique, unsplit, which.max, which.min
Attaching package: 'S4Vectors'
The following object is masked from 'package:base':
expand.grid
Loading required package: IRanges
Attaching package: 'IRanges'
The following object is masked from 'package:grDevices':
windows
Loading required package: GenomicRanges
Loading required package: GenomeInfoDb
Loading required package: SummarizedExperiment
Loading required package: MatrixGenerics
Loading required package: matrixStats
Attaching package: 'MatrixGenerics'
The following objects are masked from 'package:matrixStats':
colAlls, colAnyNAs, colAnys, colAvgsPerRowSet, colCollapse,
colCounts, colCummaxs, colCummins, colCumprods, colCumsums,
colDiffs, colIQRDiffs, colIQRs, colLogSumExps, colMadDiffs,
colMads, colMaxs, colMeans2, colMedians, colMins, colOrderStats,
colProds, colQuantiles, colRanges, colRanks, colSdDiffs, colSds,
colSums2, colTabulates, colVarDiffs, colVars, colWeightedMads,
colWeightedMeans, colWeightedMedians, colWeightedSds,
colWeightedVars, rowAlls, rowAnyNAs, rowAnys, rowAvgsPerColSet,
rowCollapse, rowCounts, rowCummaxs, rowCummins, rowCumprods,
rowCumsums, rowDiffs, rowIQRDiffs, rowIQRs, rowLogSumExps,
rowMadDiffs, rowMads, rowMaxs, rowMeans2, rowMedians, rowMins,
rowOrderStats, rowProds, rowQuantiles, rowRanges, rowRanks,
rowSdDiffs, rowSds, rowSums2, rowTabulates, rowVarDiffs, rowVars,
rowWeightedMads, rowWeightedMeans, rowWeightedMedians,
rowWeightedSds, rowWeightedVars
Loading required package: Biobase
Welcome to Bioconductor
Vignettes contain introductory material; view with
'browseVignettes()'. To cite Bioconductor, see
'citation("Biobase")', and for packages 'citation("pkgname")'.
Attaching package: 'Biobase'
The following object is masked from 'package:MatrixGenerics':
rowMedians
The following objects are masked from 'package:matrixStats':
anyMissing, rowMedians
Done! 10515 genes of 11667 successfully converted.
Couldn't find Entrez IDs for 1152 genes.
Done! 16714 genes of 17527 successfully converted.
Couldn't find Entrez IDs for 813 genes.
Done! 10515 genes of 11667 successfully converted.
Couldn't find Entrez IDs for 1152 genes.
RUNIT TEST PROTOCOL -- Thu May 06 07:38:57 2021
***********************************************
Number of test functions: 11
Number of errors: 0
Number of failures: 0
1 Test Suite :
TFEA.ChIP RUnit Tests - 11 test functions, 0 errors, 0 failures
Number of test functions: 11
Number of errors: 0
Number of failures: 0
Warning message:
Some genes returned 1:many mapping to ENTREZ ID. Genes were assigned the first ENTREZ ID match found.
>
> proc.time()
user system elapsed
42.42 2.09 46.07
|
TFEA.ChIP.Rcheck/tests_x64/runTests.Rout
R version 4.0.5 (2021-03-31) -- "Shake and Throw"
Copyright (C) 2021 The R Foundation for Statistical Computing
Platform: x86_64-w64-mingw32/x64 (64-bit)
R is free software and comes with ABSOLUTELY NO WARRANTY.
You are welcome to redistribute it under certain conditions.
Type 'license()' or 'licence()' for distribution details.
R is a collaborative project with many contributors.
Type 'contributors()' for more information and
'citation()' on how to cite R or R packages in publications.
Type 'demo()' for some demos, 'help()' for on-line help, or
'help.start()' for an HTML browser interface to help.
Type 'q()' to quit R.
> BiocGenerics:::testPackage(pkgname = "TFEA.ChIP")
Because of space limitations, TFEA.ChIPs internal database only includes ChIP-seq experiments from the ENCODE project.
To download the full ReMap database, as well as other ready-to-use databases, visit https://github.com/LauraPS1/TFEA.ChIP_downloads
|
| | 0%
|
|======================================================================| 100%
|
| | 0%
|
|=================================== | 50%
|
|======================================================================| 100%
Done! 2 genes of 2 successfully converted.
Done! 1 genes of 1 successfully converted.
Done! 1 genes of 1 successfully converted.
Done! 2 genes of 2 successfully converted.
Done! 16714 genes of 17527 successfully converted.
Couldn't find Entrez IDs for 813 genes.
Loading required package: DESeq2
Loading required package: S4Vectors
Loading required package: stats4
Loading required package: BiocGenerics
Loading required package: parallel
Attaching package: 'BiocGenerics'
The following objects are masked from 'package:parallel':
clusterApply, clusterApplyLB, clusterCall, clusterEvalQ,
clusterExport, clusterMap, parApply, parCapply, parLapply,
parLapplyLB, parRapply, parSapply, parSapplyLB
The following objects are masked from 'package:stats':
IQR, mad, sd, var, xtabs
The following objects are masked from 'package:base':
Filter, Find, Map, Position, Reduce, anyDuplicated, append,
as.data.frame, basename, cbind, colnames, dirname, do.call,
duplicated, eval, evalq, get, grep, grepl, intersect, is.unsorted,
lapply, mapply, match, mget, order, paste, pmax, pmax.int, pmin,
pmin.int, rank, rbind, rownames, sapply, setdiff, sort, table,
tapply, union, unique, unsplit, which.max, which.min
Attaching package: 'S4Vectors'
The following object is masked from 'package:base':
expand.grid
Loading required package: IRanges
Attaching package: 'IRanges'
The following object is masked from 'package:grDevices':
windows
Loading required package: GenomicRanges
Loading required package: GenomeInfoDb
Loading required package: SummarizedExperiment
Loading required package: MatrixGenerics
Loading required package: matrixStats
Attaching package: 'MatrixGenerics'
The following objects are masked from 'package:matrixStats':
colAlls, colAnyNAs, colAnys, colAvgsPerRowSet, colCollapse,
colCounts, colCummaxs, colCummins, colCumprods, colCumsums,
colDiffs, colIQRDiffs, colIQRs, colLogSumExps, colMadDiffs,
colMads, colMaxs, colMeans2, colMedians, colMins, colOrderStats,
colProds, colQuantiles, colRanges, colRanks, colSdDiffs, colSds,
colSums2, colTabulates, colVarDiffs, colVars, colWeightedMads,
colWeightedMeans, colWeightedMedians, colWeightedSds,
colWeightedVars, rowAlls, rowAnyNAs, rowAnys, rowAvgsPerColSet,
rowCollapse, rowCounts, rowCummaxs, rowCummins, rowCumprods,
rowCumsums, rowDiffs, rowIQRDiffs, rowIQRs, rowLogSumExps,
rowMadDiffs, rowMads, rowMaxs, rowMeans2, rowMedians, rowMins,
rowOrderStats, rowProds, rowQuantiles, rowRanges, rowRanks,
rowSdDiffs, rowSds, rowSums2, rowTabulates, rowVarDiffs, rowVars,
rowWeightedMads, rowWeightedMeans, rowWeightedMedians,
rowWeightedSds, rowWeightedVars
Loading required package: Biobase
Welcome to Bioconductor
Vignettes contain introductory material; view with
'browseVignettes()'. To cite Bioconductor, see
'citation("Biobase")', and for packages 'citation("pkgname")'.
Attaching package: 'Biobase'
The following object is masked from 'package:MatrixGenerics':
rowMedians
The following objects are masked from 'package:matrixStats':
anyMissing, rowMedians
Done! 10515 genes of 11667 successfully converted.
Couldn't find Entrez IDs for 1152 genes.
Done! 16714 genes of 17527 successfully converted.
Couldn't find Entrez IDs for 813 genes.
Done! 10515 genes of 11667 successfully converted.
Couldn't find Entrez IDs for 1152 genes.
RUNIT TEST PROTOCOL -- Thu May 06 07:39:48 2021
***********************************************
Number of test functions: 11
Number of errors: 0
Number of failures: 0
1 Test Suite :
TFEA.ChIP RUnit Tests - 11 test functions, 0 errors, 0 failures
Number of test functions: 11
Number of errors: 0
Number of failures: 0
Warning message:
Some genes returned 1:many mapping to ENTREZ ID. Genes were assigned the first ENTREZ ID match found.
>
> proc.time()
user system elapsed
48.10 1.34 51.01
|
|
TFEA.ChIP.Rcheck/examples_i386/TFEA.ChIP-Ex.timings
|
TFEA.ChIP.Rcheck/examples_x64/TFEA.ChIP-Ex.timings
|