| Back to Multiple platform build/check report for BioC 3.12 |
|
This page was generated on 2021-05-06 12:33:56 -0400 (Thu, 06 May 2021).
|
To the developers/maintainers of the TFARM package: Please make sure to use the following settings in order to reproduce any error or warning you see on this page. |
| Package 1850/1974 | Hostname | OS / Arch | INSTALL | BUILD | CHECK | BUILD BIN | ||||||||
| TFARM 1.12.0 (landing page) Liuba Nausicaa Martino
| malbec1 | Linux (Ubuntu 18.04.5 LTS) / x86_64 | OK | OK | OK | |||||||||
| tokay1 | Windows Server 2012 R2 Standard / x64 | OK | OK | OK | OK | |||||||||
| merida1 | macOS 10.14.6 Mojave / x86_64 | OK | OK | OK | OK | |||||||||
| Package: TFARM |
| Version: 1.12.0 |
| Command: rm -rf TFARM.buildbin-libdir && mkdir TFARM.buildbin-libdir && C:\Users\biocbuild\bbs-3.12-bioc\R\bin\R.exe CMD INSTALL --merge-multiarch --build --library=TFARM.buildbin-libdir TFARM_1.12.0.tar.gz |
| StartedAt: 2021-05-06 10:15:41 -0400 (Thu, 06 May 2021) |
| EndedAt: 2021-05-06 10:16:21 -0400 (Thu, 06 May 2021) |
| EllapsedTime: 39.8 seconds |
| RetCode: 0 |
| Status: OK |
| PackageFile: TFARM_1.12.0.zip |
| PackageFileSize: 519.5 KiB |
##############################################################################
##############################################################################
###
### Running command:
###
### rm -rf TFARM.buildbin-libdir && mkdir TFARM.buildbin-libdir && C:\Users\biocbuild\bbs-3.12-bioc\R\bin\R.exe CMD INSTALL --merge-multiarch --build --library=TFARM.buildbin-libdir TFARM_1.12.0.tar.gz
###
##############################################################################
##############################################################################
install for i386
* installing *source* package 'TFARM' ...
** using staged installation
** R
** data
*** moving datasets to lazyload DB
** inst
** byte-compile and prepare package for lazy loading
** help
*** installing help indices
converting help for package 'TFARM'
finding HTML links ... done
DELTA html
IComp html
IMP html
IMP_Z html
IPCA html
I_c_2 html
MCF7_chr1 html
TF_Imp html
distribViz html
heatI html
imp_FOSL2 html
items html
itemset html
p_TFs html
presAbs html
r_FOSL2 html
r_TEAD4 html
r_noFOSL2 html
rulesGen html
rulesTF html
rulesTF0 html
search_rule html
** building package indices
** installing vignettes
** testing if installed package can be loaded from temporary location
** testing if installed package can be loaded from final location
** testing if installed package keeps a record of temporary installation path
install for x64
* installing *source* package 'TFARM' ...
** testing if installed package can be loaded
* MD5 sums
packaged installation of 'TFARM' as TFARM_1.12.0.zip
* DONE (TFARM)