| Back to Multiple platform build/check report for BioC 3.12 |
|
This page was generated on 2021-05-06 12:29:24 -0400 (Thu, 06 May 2021).
|
To the developers/maintainers of the TCGAbiolinks package: Please make sure to use the following settings in order to reproduce any error or warning you see on this page. |
| Package 1842/1974 | Hostname | OS / Arch | INSTALL | BUILD | CHECK | BUILD BIN | ||||||||
| TCGAbiolinks 2.18.0 (landing page) Tiago Chedraoui Silva
| malbec1 | Linux (Ubuntu 18.04.5 LTS) / x86_64 | OK | OK | OK | |||||||||
| tokay1 | Windows Server 2012 R2 Standard / x64 | OK | OK | OK | OK | |||||||||
| merida1 | macOS 10.14.6 Mojave / x86_64 | OK | OK | OK | OK | |||||||||
| Package: TCGAbiolinks |
| Version: 2.18.0 |
| Command: /home/biocbuild/bbs-3.12-bioc/R/bin/R CMD check --install=check:TCGAbiolinks.install-out.txt --library=/home/biocbuild/bbs-3.12-bioc/R/library --no-vignettes --timings TCGAbiolinks_2.18.0.tar.gz |
| StartedAt: 2021-05-06 06:34:47 -0400 (Thu, 06 May 2021) |
| EndedAt: 2021-05-06 06:44:38 -0400 (Thu, 06 May 2021) |
| EllapsedTime: 590.3 seconds |
| RetCode: 0 |
| Status: OK |
| CheckDir: TCGAbiolinks.Rcheck |
| Warnings: 0 |
##############################################################################
##############################################################################
###
### Running command:
###
### /home/biocbuild/bbs-3.12-bioc/R/bin/R CMD check --install=check:TCGAbiolinks.install-out.txt --library=/home/biocbuild/bbs-3.12-bioc/R/library --no-vignettes --timings TCGAbiolinks_2.18.0.tar.gz
###
##############################################################################
##############################################################################
* using log directory ‘/home/biocbuild/bbs-3.12-bioc/meat/TCGAbiolinks.Rcheck’
* using R version 4.0.5 (2021-03-31)
* using platform: x86_64-pc-linux-gnu (64-bit)
* using session charset: UTF-8
* using option ‘--no-vignettes’
* checking for file ‘TCGAbiolinks/DESCRIPTION’ ... OK
* checking extension type ... Package
* this is package ‘TCGAbiolinks’ version ‘2.18.0’
* checking package namespace information ... OK
* checking package dependencies ... OK
* checking if this is a source package ... OK
* checking if there is a namespace ... OK
* checking for hidden files and directories ... OK
* checking for portable file names ... OK
* checking for sufficient/correct file permissions ... OK
* checking whether package ‘TCGAbiolinks’ can be installed ... OK
* checking installed package size ... NOTE
installed size is 5.5Mb
sub-directories of 1Mb or more:
R 1.6Mb
data 3.6Mb
* checking package directory ... OK
* checking ‘build’ directory ... OK
* checking DESCRIPTION meta-information ... OK
* checking top-level files ... OK
* checking for left-over files ... OK
* checking index information ... OK
* checking package subdirectories ... OK
* checking R files for non-ASCII characters ... OK
* checking R files for syntax errors ... OK
* checking whether the package can be loaded ... OK
* checking whether the package can be loaded with stated dependencies ... OK
* checking whether the package can be unloaded cleanly ... OK
* checking whether the namespace can be loaded with stated dependencies ... OK
* checking whether the namespace can be unloaded cleanly ... OK
* checking dependencies in R code ... OK
* checking S3 generic/method consistency ... OK
* checking replacement functions ... OK
* checking foreign function calls ... OK
* checking R code for possible problems ... NOTE
GDCquery : <anonymous>: no visible binding for global variable
‘submitter_id’
GDCquery : <anonymous>: no visible binding for global variable
‘is_ffpe’
TCGAanalyze_DEA: no visible binding for global variable ‘barcode’
TCGAanalyze_DEA: no visible binding for global variable ‘clinical’
TCGAquery_recount2: no visible binding for global variable ‘rse_gene’
TCGAtumor_purity: no visible binding for global variable ‘Tumor.purity’
TCGAvisualize_oncoprint: no visible binding for global variable ‘value’
TCGAvisualize_starburst: no visible global function definition for
‘values’
getMetPlatInfo: no visible global function definition for
‘sesameDataCacheAll’
getMetPlatInfo: no visible global function definition for
‘sesameDataGet’
readExonQuantification: no visible binding for global variable ‘exon’
readExonQuantification: no visible binding for global variable
‘coordinates’
readGeneExpressionQuantification : <anonymous>: no visible binding for
'<<-' assignment to ‘assay.list’
readGeneExpressionQuantification: no visible binding for global
variable ‘assay.list’
Undefined global functions or variables:
Tumor.purity assay.list barcode clinical coordinates exon is_ffpe
rse_gene sesameDataCacheAll sesameDataGet submitter_id value values
* checking Rd files ... OK
* checking Rd metadata ... OK
* checking Rd cross-references ... OK
* checking for missing documentation entries ... OK
* checking for code/documentation mismatches ... OK
* checking Rd \usage sections ... OK
* checking Rd contents ... OK
* checking for unstated dependencies in examples ... OK
* checking contents of ‘data’ directory ... OK
* checking data for non-ASCII characters ... OK
* checking data for ASCII and uncompressed saves ... OK
* checking R/sysdata.rda ... OK
* checking files in ‘vignettes’ ... OK
* checking examples ... OK
Examples with CPU (user + system) or elapsed time > 5s
user system elapsed
TCGAanalyze_LevelTab 20.444 0.016 20.498
GDCquery_clinic 18.840 0.224 36.379
TCGAanalyze_DEA 15.784 0.056 15.861
TCGAanalyze_Filtering 12.228 0.004 12.242
TCGAanalyze_Stemness 6.472 0.004 6.484
TCGAvisualize_PCA 6.072 0.000 6.077
TCGAanalyze_Normalization 5.392 0.000 5.395
GDCdownload 4.284 0.168 34.225
GDCprepare_clinic 3.880 0.400 43.053
matchedMetExp 1.444 0.040 5.953
getResults 1.248 0.040 5.882
GDCquery 1.128 0.056 5.827
getManifest 0.964 0.036 5.226
* checking for unstated dependencies in ‘tests’ ... OK
* checking tests ...
Running ‘testthat.R’
OK
* checking for unstated dependencies in vignettes ... OK
* checking package vignettes in ‘inst/doc’ ... OK
* checking running R code from vignettes ... SKIPPED
* checking re-building of vignette outputs ... SKIPPED
* checking PDF version of manual ... OK
* DONE
Status: 2 NOTEs
See
‘/home/biocbuild/bbs-3.12-bioc/meat/TCGAbiolinks.Rcheck/00check.log’
for details.
TCGAbiolinks.Rcheck/00install.out
############################################################################## ############################################################################## ### ### Running command: ### ### /home/biocbuild/bbs-3.12-bioc/R/bin/R CMD INSTALL TCGAbiolinks ### ############################################################################## ############################################################################## * installing to library ‘/home/biocbuild/bbs-3.12-bioc/R/library’ * installing *source* package ‘TCGAbiolinks’ ... ** using staged installation ** R ** data *** moving datasets to lazyload DB ** inst ** byte-compile and prepare package for lazy loading ** help *** installing help indices ** building package indices ** installing vignettes ** testing if installed package can be loaded from temporary location ** testing if installed package can be loaded from final location ** testing if installed package keeps a record of temporary installation path * DONE (TCGAbiolinks)
TCGAbiolinks.Rcheck/tests/testthat.Rout
R version 4.0.5 (2021-03-31) -- "Shake and Throw"
Copyright (C) 2021 The R Foundation for Statistical Computing
Platform: x86_64-pc-linux-gnu (64-bit)
R is free software and comes with ABSOLUTELY NO WARRANTY.
You are welcome to redistribute it under certain conditions.
Type 'license()' or 'licence()' for distribution details.
R is a collaborative project with many contributors.
Type 'contributors()' for more information and
'citation()' on how to cite R or R packages in publications.
Type 'demo()' for some demos, 'help()' for on-line help, or
'help.start()' for an HTML browser interface to help.
Type 'q()' to quit R.
> library(testthat)
> library(TCGAbiolinks)
>
> test_check("TCGAbiolinks")
| | 0%
|========================== | 50% ~0 s remaining
|====================================================|100% ~0 s remaining
|====================================================|100% Completed after 0 s
| | 0%
|========================== | 50% ~0 s remaining
|====================================================|100% ~0 s remaining
|====================================================|100% Completed after 0 s
[1] "I need about 1 minute to finish complete Enrichment analysis GO[BP,MF,CC] and Pathways... "
[1] "GO Enrichment Analysis BP completed....done"
[1] "GO Enrichment Analysis MF completed....done"
[1] "GO Enrichment Analysis CC completed....done"
[1] "Pathway Enrichment Analysis completed....done"
══ Skipped tests ═══════════════════════════════════════════════════════════════
• On Bioconductor (21)
[ FAIL 0 | WARN 4 | SKIP 21 | PASS 45 ]
>
> proc.time()
user system elapsed
61.320 0.784 69.345
TCGAbiolinks.Rcheck/TCGAbiolinks-Ex.timings
| name | user | system | elapsed | |
| GDCdownload | 4.284 | 0.168 | 34.225 | |
| GDCprepare | 0 | 0 | 0 | |
| GDCprepare_clinic | 3.880 | 0.400 | 43.053 | |
| GDCquery | 1.128 | 0.056 | 5.827 | |
| GDCquery_ATAC_seq | 0.648 | 0.036 | 1.426 | |
| GDCquery_Maf | 0 | 0 | 0 | |
| GDCquery_clinic | 18.840 | 0.224 | 36.379 | |
| PanCancerAtlas_subtypes | 0.012 | 0.004 | 0.014 | |
| TCGAVisualize_volcano | 0.260 | 0.000 | 0.259 | |
| TCGA_MolecularSubtype | 0.640 | 0.000 | 0.643 | |
| TCGAanalyze_DEA | 15.784 | 0.056 | 15.861 | |
| TCGAanalyze_DEA_Affy | 0 | 0 | 0 | |
| TCGAanalyze_DMC | 0.996 | 0.028 | 1.026 | |
| TCGAanalyze_EA | 0 | 0 | 0 | |
| TCGAanalyze_EAcomplete | 3.268 | 0.008 | 3.282 | |
| TCGAanalyze_Filtering | 12.228 | 0.004 | 12.242 | |
| TCGAanalyze_LevelTab | 20.444 | 0.016 | 20.498 | |
| TCGAanalyze_Normalization | 5.392 | 0.000 | 5.395 | |
| TCGAanalyze_Pathview | 0.004 | 0.000 | 0.000 | |
| TCGAanalyze_Stemness | 6.472 | 0.004 | 6.484 | |
| TCGAanalyze_SurvivalKM | 0.100 | 0.004 | 0.104 | |
| TCGAanalyze_survival | 3.464 | 0.084 | 3.556 | |
| TCGAprepare_Affy | 0 | 0 | 0 | |
| TCGAquery_MatchedCoupledSampleTypes | 0.000 | 0.000 | 0.002 | |
| TCGAquery_SampleTypes | 0.000 | 0.004 | 0.001 | |
| TCGAquery_recount2 | 0 | 0 | 0 | |
| TCGAquery_subtype | 0.008 | 0.000 | 0.008 | |
| TCGAtumor_purity | 0.084 | 0.000 | 0.085 | |
| TCGAvisualize_EAbarplot | 3.136 | 0.056 | 3.212 | |
| TCGAvisualize_Heatmap | 3.220 | 0.004 | 3.237 | |
| TCGAvisualize_PCA | 6.072 | 0.000 | 6.077 | |
| TCGAvisualize_meanMethylation | 3.328 | 0.000 | 3.339 | |
| TCGAvisualize_oncoprint | 0.000 | 0.000 | 0.001 | |
| TCGAvisualize_starburst | 0 | 0 | 0 | |
| UseRaw_afterFilter | 0 | 0 | 0 | |
| colDataPrepare | 0.360 | 0.012 | 0.841 | |
| dmc.non.parametric | 0.224 | 0.012 | 0.237 | |
| dmc.non.parametric.se | 0.304 | 0.008 | 0.309 | |
| gaiaCNVplot | 0.040 | 0.000 | 0.043 | |
| getAdjacencyBiogrid | 0.000 | 0.000 | 0.003 | |
| getDataCategorySummary | 1.616 | 0.012 | 4.544 | |
| getGDCInfo | 0.084 | 0.004 | 0.288 | |
| getGDCprojects | 0.148 | 0.004 | 0.293 | |
| getLinkedOmicsData | 0.000 | 0.000 | 0.001 | |
| getMC3MAF | 0.000 | 0.000 | 0.001 | |
| getManifest | 0.964 | 0.036 | 5.226 | |
| getNbCases | 0 | 0 | 0 | |
| getNbFiles | 0 | 0 | 0 | |
| getProjectSummary | 0 | 0 | 0 | |
| getResults | 1.248 | 0.040 | 5.882 | |
| getSampleFilesSummary | 0.656 | 0.012 | 1.620 | |
| getTSS | 0 | 0 | 0 | |
| gliomaClassifier | 0 | 0 | 0 | |
| isServeOK | 0.108 | 0.000 | 0.278 | |
| matchedMetExp | 1.444 | 0.040 | 5.953 | |