| Back to Multiple platform build/check report for BioC 3.12 |
|
This page was generated on 2021-05-06 12:33:55 -0400 (Thu, 06 May 2021).
|
To the developers/maintainers of the TBSignatureProfiler package: Please make sure to use the following settings in order to reproduce any error or warning you see on this page. |
| Package 1840/1974 | Hostname | OS / Arch | INSTALL | BUILD | CHECK | BUILD BIN | ||||||||
| TBSignatureProfiler 1.2.0 (landing page) David Jenkins
| malbec1 | Linux (Ubuntu 18.04.5 LTS) / x86_64 | OK | OK | OK | |||||||||
| tokay1 | Windows Server 2012 R2 Standard / x64 | OK | OK | OK | OK | |||||||||
| merida1 | macOS 10.14.6 Mojave / x86_64 | OK | OK | OK | OK | |||||||||
| Package: TBSignatureProfiler |
| Version: 1.2.0 |
| Command: rm -rf TBSignatureProfiler.buildbin-libdir && mkdir TBSignatureProfiler.buildbin-libdir && C:\Users\biocbuild\bbs-3.12-bioc\R\bin\R.exe CMD INSTALL --merge-multiarch --build --library=TBSignatureProfiler.buildbin-libdir TBSignatureProfiler_1.2.0.tar.gz |
| StartedAt: 2021-05-06 10:15:01 -0400 (Thu, 06 May 2021) |
| EndedAt: 2021-05-06 10:15:48 -0400 (Thu, 06 May 2021) |
| EllapsedTime: 46.8 seconds |
| RetCode: 0 |
| Status: OK |
| PackageFile: TBSignatureProfiler_1.2.0.zip |
| PackageFileSize: 3.53 MiB |
##############################################################################
##############################################################################
###
### Running command:
###
### rm -rf TBSignatureProfiler.buildbin-libdir && mkdir TBSignatureProfiler.buildbin-libdir && C:\Users\biocbuild\bbs-3.12-bioc\R\bin\R.exe CMD INSTALL --merge-multiarch --build --library=TBSignatureProfiler.buildbin-libdir TBSignatureProfiler_1.2.0.tar.gz
###
##############################################################################
##############################################################################
install for i386
* installing *source* package 'TBSignatureProfiler' ...
** using staged installation
** R
** data
*** moving datasets to lazyload DB
** inst
** byte-compile and prepare package for lazy loading
** help
*** installing help indices
converting help for package 'TBSignatureProfiler'
finding HTML links ... done
Bootstrap_LOOCV_LR_AUC html
LOOAUC_simple_multiple_noplot_one_df html
SignatureQuantitative html
TBSPapp html
TB_hiv html
TB_indian html
TBcommon html
TBsignatures html
bootstrapAUC html
common_sigAnnotData html
compareAlgs html
compareBoxplots html
deseq2_norm_rle html
distinctColors html
mkAssay html
plotQuantitative html
runTBsigProfiler html
sigAnnotData html
signatureBoxplot html
signatureGeneHeatmap html
signatureHeatmap html
signatureROCplot html
signatureROCplot_CI html
tableAUC html
** building package indices
** installing vignettes
** testing if installed package can be loaded from temporary location
** testing if installed package can be loaded from final location
** testing if installed package keeps a record of temporary installation path
install for x64
* installing *source* package 'TBSignatureProfiler' ...
** testing if installed package can be loaded
* MD5 sums
packaged installation of 'TBSignatureProfiler' as TBSignatureProfiler_1.2.0.zip
* DONE (TBSignatureProfiler)