| Back to Multiple platform build/check report for BioC 3.12 |
|
This page was generated on 2021-05-06 12:29:23 -0400 (Thu, 06 May 2021).
|
To the developers/maintainers of the SwimR package: Please make sure to use the following settings in order to reproduce any error or warning you see on this page. |
| Package 1824/1974 | Hostname | OS / Arch | INSTALL | BUILD | CHECK | BUILD BIN | ||||||||
| SwimR 1.28.0 (landing page) Randy Blakely
| malbec1 | Linux (Ubuntu 18.04.5 LTS) / x86_64 | ERROR | ERROR | skipped | |||||||||
| tokay1 | Windows Server 2012 R2 Standard / x64 | ERROR | ERROR | skipped | skipped | |||||||||
| merida1 | macOS 10.14.6 Mojave / x86_64 | ERROR | ERROR | skipped | skipped | |||||||||
| Package: SwimR |
| Version: 1.28.0 |
| Command: /home/biocbuild/bbs-3.12-bioc/R/bin/R CMD INSTALL SwimR |
| StartedAt: 2021-05-05 17:29:17 -0400 (Wed, 05 May 2021) |
| EndedAt: 2021-05-05 17:29:18 -0400 (Wed, 05 May 2021) |
| EllapsedTime: 0.4 seconds |
| RetCode: 1 |
| Status: ERROR |
############################################################################## ############################################################################## ### ### Running command: ### ### /home/biocbuild/bbs-3.12-bioc/R/bin/R CMD INSTALL SwimR ### ############################################################################## ############################################################################## * installing to library ‘/home/biocbuild/bbs-3.12-bioc/R/library’ ERROR: dependency ‘heatmap.plus’ is not available for package ‘SwimR’ * removing ‘/home/biocbuild/bbs-3.12-bioc/R/library/SwimR’