| Back to Multiple platform build/check report for BioC 3.12 | 
  | 
This page was generated on 2021-05-06 12:33:48 -0400 (Thu, 06 May 2021).
| 
To the developers/maintainers of the StarBioTrek package: Please make sure to use the following settings in order to reproduce any error or warning you see on this page.  | 
| Package 1798/1974 | Hostname | OS / Arch | INSTALL | BUILD | CHECK | BUILD BIN | ||||||||
| StarBioTrek 1.16.0  (landing page) Claudia Cava 
  | malbec1 | Linux (Ubuntu 18.04.5 LTS) / x86_64 | OK | OK | WARNINGS | |||||||||
| tokay1 | Windows Server 2012 R2 Standard / x64 | OK | OK | WARNINGS | OK | |||||||||
| merida1 | macOS 10.14.6 Mojave / x86_64 | OK | OK | WARNINGS | OK | |||||||||
| Package: StarBioTrek | 
| Version: 1.16.0 | 
| Command: rm -rf StarBioTrek.buildbin-libdir && mkdir StarBioTrek.buildbin-libdir && C:\Users\biocbuild\bbs-3.12-bioc\R\bin\R.exe CMD INSTALL --merge-multiarch --build --library=StarBioTrek.buildbin-libdir StarBioTrek_1.16.0.tar.gz | 
| StartedAt: 2021-05-06 10:12:34 -0400 (Thu, 06 May 2021) | 
| EndedAt: 2021-05-06 10:13:20 -0400 (Thu, 06 May 2021) | 
| EllapsedTime: 45.7 seconds | 
| RetCode: 0 | 
| Status: OK | 
| PackageFile: StarBioTrek_1.16.0.zip | 
| PackageFileSize: 8.437 MiB | 
##############################################################################
##############################################################################
###
### Running command:
###
###   rm -rf StarBioTrek.buildbin-libdir && mkdir StarBioTrek.buildbin-libdir && C:\Users\biocbuild\bbs-3.12-bioc\R\bin\R.exe CMD INSTALL --merge-multiarch --build --library=StarBioTrek.buildbin-libdir StarBioTrek_1.16.0.tar.gz
###
##############################################################################
##############################################################################
install for i386
* installing *source* package 'StarBioTrek' ...
** using staged installation
** R
** data
*** moving datasets to lazyload DB
** inst
** byte-compile and prepare package for lazy loading
** help
*** installing help indices
  converting help for package 'StarBioTrek'
    finding HTML links ... done
    ConvertedIDgenes                        html  
    Data_CANCER_normUQ_fil                  html  
    GE_matrix                               html  
    GE_matrix_mean                          html  
    GOChord                                 html  
    GetData                                 html  
    GetPathData                             html  
    GetPathNet                              html  
    IPPI                                    html  
    SelectedSample                          html  
    StarBioTrek                             html  
    average                                 html  
    circleplot                              html  
    dsscorecrtlk                            html  
    eucdistcrtlk                            html  
    getNETdata                              html  
    listpathnet                             html  
    netw                                    html  
    netw_IPPI                               html  
    norm                                    html  
    path                                    html  
    path_KEGG                               html  
    pathnet                                 html  
    pathway                                 html  
    pathway_matrix                          html  
    plotcrosstalk                           html  
    score_euc_dista                         html  
    select_class                            html  
    stdv                                    html  
    svm_classification                      html  
    tumo                                    html  
** building package indices
** installing vignettes
** testing if installed package can be loaded from temporary location
** testing if installed package can be loaded from final location
** testing if installed package keeps a record of temporary installation path
install for x64
* installing *source* package 'StarBioTrek' ...
** testing if installed package can be loaded
* MD5 sums
packaged installation of 'StarBioTrek' as StarBioTrek_1.16.0.zip
* DONE (StarBioTrek)