| Back to Multiple platform build/check report for BioC 3.12 |
|
This page was generated on 2021-05-06 12:33:45 -0400 (Thu, 06 May 2021).
|
To the developers/maintainers of the SpidermiR package: Please make sure to use the following settings in order to reproduce any error or warning you see on this page. |
| Package 1769/1974 | Hostname | OS / Arch | INSTALL | BUILD | CHECK | BUILD BIN | ||||||||
| SpidermiR 1.20.0 (landing page) Claudia Cava
| malbec1 | Linux (Ubuntu 18.04.5 LTS) / x86_64 | OK | OK | WARNINGS | |||||||||
| tokay1 | Windows Server 2012 R2 Standard / x64 | OK | OK | ERROR | OK | |||||||||
| merida1 | macOS 10.14.6 Mojave / x86_64 | OK | OK | ERROR | OK | |||||||||
| Package: SpidermiR |
| Version: 1.20.0 |
| Command: rm -rf SpidermiR.buildbin-libdir && mkdir SpidermiR.buildbin-libdir && C:\Users\biocbuild\bbs-3.12-bioc\R\bin\R.exe CMD INSTALL --merge-multiarch --build --library=SpidermiR.buildbin-libdir SpidermiR_1.20.0.tar.gz |
| StartedAt: 2021-05-06 10:10:56 -0400 (Thu, 06 May 2021) |
| EndedAt: 2021-05-06 10:11:42 -0400 (Thu, 06 May 2021) |
| EllapsedTime: 45.4 seconds |
| RetCode: 0 |
| Status: OK |
| PackageFile: SpidermiR_1.20.0.zip |
| PackageFileSize: 493.3 KiB |
##############################################################################
##############################################################################
###
### Running command:
###
### rm -rf SpidermiR.buildbin-libdir && mkdir SpidermiR.buildbin-libdir && C:\Users\biocbuild\bbs-3.12-bioc\R\bin\R.exe CMD INSTALL --merge-multiarch --build --library=SpidermiR.buildbin-libdir SpidermiR_1.20.0.tar.gz
###
##############################################################################
##############################################################################
install for i386
* installing *source* package 'SpidermiR' ...
** using staged installation
** R
** inst
** byte-compile and prepare package for lazy loading
Note: possible error in 'simpleNetwork(NetworkData, ': unused argument (textColour = "black")
** help
*** installing help indices
converting help for package 'SpidermiR'
finding HTML links ... done
SpidermiRanalyze_Community_detection html
SpidermiRanalyze_Community_detection_bi
html
SpidermiRanalyze_Community_detection_net
html
SpidermiRanalyze_degree_centrality html
SpidermiRanalyze_direct_net html
SpidermiRanalyze_direct_subnetwork html
SpidermiRanalyze_subnetwork_neigh html
SpidermiRdownload_drug_gene html
SpidermiRdownload_miRNAextra_cir html
SpidermiRdownload_miRNAprediction html
SpidermiRdownload_miRNAprediction_mmu html
SpidermiRdownload_miRNAvalidate html
SpidermiRdownload_net html
SpidermiRdownload_pharmacomir html
SpidermiRprepare_NET html
SpidermiRquery_disease html
SpidermiRquery_networks_type html
SpidermiRquery_spec_networks html
SpidermiRquery_species html
SpidermiRvisualize_3Dbarplot html
SpidermiRvisualize_BI html
SpidermiRvisualize_adj_matrix html
SpidermiRvisualize_degree_dist html
SpidermiRvisualize_direction html
SpidermiRvisualize_mirnanet html
SpidermiRvisualize_plot_target html
** building package indices
** installing vignettes
** testing if installed package can be loaded from temporary location
** testing if installed package can be loaded from final location
** testing if installed package keeps a record of temporary installation path
install for x64
* installing *source* package 'SpidermiR' ...
** testing if installed package can be loaded
* MD5 sums
packaged installation of 'SpidermiR' as SpidermiR_1.20.0.zip
* DONE (SpidermiR)