| Back to Multiple platform build/check report for BioC 3.12 |
|
This page was generated on 2021-05-06 12:33:44 -0400 (Thu, 06 May 2021).
|
To the developers/maintainers of the SpatialExperiment package: Please make sure to use the following settings in order to reproduce any error or warning you see on this page. |
| Package 1760/1974 | Hostname | OS / Arch | INSTALL | BUILD | CHECK | BUILD BIN | ||||||||
| SpatialExperiment 1.0.0 (landing page) Dario Righelli
| malbec1 | Linux (Ubuntu 18.04.5 LTS) / x86_64 | OK | OK | OK | |||||||||
| tokay1 | Windows Server 2012 R2 Standard / x64 | OK | OK | OK | OK | |||||||||
| merida1 | macOS 10.14.6 Mojave / x86_64 | OK | OK | OK | OK | |||||||||
| Package: SpatialExperiment |
| Version: 1.0.0 |
| Command: rm -rf SpatialExperiment.buildbin-libdir && mkdir SpatialExperiment.buildbin-libdir && C:\Users\biocbuild\bbs-3.12-bioc\R\bin\R.exe CMD INSTALL --merge-multiarch --build --library=SpatialExperiment.buildbin-libdir SpatialExperiment_1.0.0.tar.gz |
| StartedAt: 2021-05-06 10:10:25 -0400 (Thu, 06 May 2021) |
| EndedAt: 2021-05-06 10:11:32 -0400 (Thu, 06 May 2021) |
| EllapsedTime: 67.0 seconds |
| RetCode: 0 |
| Status: OK |
| PackageFile: SpatialExperiment_1.0.0.zip |
| PackageFileSize: 1.967 MiB |
##############################################################################
##############################################################################
###
### Running command:
###
### rm -rf SpatialExperiment.buildbin-libdir && mkdir SpatialExperiment.buildbin-libdir && C:\Users\biocbuild\bbs-3.12-bioc\R\bin\R.exe CMD INSTALL --merge-multiarch --build --library=SpatialExperiment.buildbin-libdir SpatialExperiment_1.0.0.tar.gz
###
##############################################################################
##############################################################################
install for i386
* installing *source* package 'SpatialExperiment' ...
** using staged installation
** R
** inst
** byte-compile and prepare package for lazy loading
** help
*** installing help indices
converting help for package 'SpatialExperiment'
finding HTML links ... done
SpatialExperiment html
finding level-2 HTML links ... done
VisiumExperiment html
imagePaths-VisiumExperiment-method html
imagePaths-set-VisiumExperiment-method
html
isInTissue-VisiumExperiment-method html
scaleFactors-VisiumExperiment-method html
scaleFactors-set-VisiumExperiment-method
html
show-SpatialExperiment-method html
show-VisiumExperiment-method html
spatialCoords-SpatialExperiment-method
html
spatialCoords-set-SpatialExperiment-method
html
spatialCoordsNames-SpatialExperiment-method
html
** building package indices
** installing vignettes
** testing if installed package can be loaded from temporary location
** testing if installed package can be loaded from final location
** testing if installed package keeps a record of temporary installation path
install for x64
* installing *source* package 'SpatialExperiment' ...
** testing if installed package can be loaded
* MD5 sums
packaged installation of 'SpatialExperiment' as SpatialExperiment_1.0.0.zip
* DONE (SpatialExperiment)