| Back to Multiple platform build/check report for BioC 3.12 |
|
This page was generated on 2021-05-06 12:33:44 -0400 (Thu, 06 May 2021).
|
To the developers/maintainers of the SpatialDecon package: Please make sure to use the following settings in order to reproduce any error or warning you see on this page. |
| Package 1759/1974 | Hostname | OS / Arch | INSTALL | BUILD | CHECK | BUILD BIN | ||||||||
| SpatialDecon 1.0.0 (landing page) Patrick Danaher
| malbec1 | Linux (Ubuntu 18.04.5 LTS) / x86_64 | OK | OK | OK | |||||||||
| tokay1 | Windows Server 2012 R2 Standard / x64 | OK | OK | OK | OK | |||||||||
| merida1 | macOS 10.14.6 Mojave / x86_64 | OK | OK | OK | OK | |||||||||
| Package: SpatialDecon |
| Version: 1.0.0 |
| Command: rm -rf SpatialDecon.buildbin-libdir && mkdir SpatialDecon.buildbin-libdir && C:\Users\biocbuild\bbs-3.12-bioc\R\bin\R.exe CMD INSTALL --merge-multiarch --build --library=SpatialDecon.buildbin-libdir SpatialDecon_1.0.0.tar.gz |
| StartedAt: 2021-05-06 10:10:21 -0400 (Thu, 06 May 2021) |
| EndedAt: 2021-05-06 10:10:46 -0400 (Thu, 06 May 2021) |
| EllapsedTime: 24.7 seconds |
| RetCode: 0 |
| Status: OK |
| PackageFile: SpatialDecon_1.0.0.zip |
| PackageFileSize: 571 KiB |
##############################################################################
##############################################################################
###
### Running command:
###
### rm -rf SpatialDecon.buildbin-libdir && mkdir SpatialDecon.buildbin-libdir && C:\Users\biocbuild\bbs-3.12-bioc\R\bin\R.exe CMD INSTALL --merge-multiarch --build --library=SpatialDecon.buildbin-libdir SpatialDecon_1.0.0.tar.gz
###
##############################################################################
##############################################################################
install for i386
* installing *source* package 'SpatialDecon' ...
** using staged installation
** R
** data
*** moving datasets to lazyload DB
** inst
** byte-compile and prepare package for lazy loading
** help
*** installing help indices
converting help for package 'SpatialDecon'
finding HTML links ... done
SpatialDecon-package html
TIL_barplot html
algorithm2 html
cellcols html
collapseCellTypes html
convertCellScoresToCounts html
convertCellTypes html
deconLNR html
deriveWeights html
derive_GeoMx_background html
download_profile_matrix html
flagOutliers html
florets html
mean.resid.sd html
mergeTumorIntoX html
mini_geomx_dataset html
reverseDecon html
runErrorModel html
safeTME html
safeTME.matches html
spatialdecon html
tidy_X_and_Y html
** building package indices
** installing vignettes
** testing if installed package can be loaded from temporary location
** testing if installed package can be loaded from final location
** testing if installed package keeps a record of temporary installation path
install for x64
* installing *source* package 'SpatialDecon' ...
** testing if installed package can be loaded
* MD5 sums
packaged installation of 'SpatialDecon' as SpatialDecon_1.0.0.zip
* DONE (SpatialDecon)