| Back to Multiple platform build/check report for BioC 3.12 |
|
This page was generated on 2021-05-06 12:33:39 -0400 (Thu, 06 May 2021).
|
To the developers/maintainers of the SingleCellSignalR package: Please make sure to use the following settings in order to reproduce any error or warning you see on this page. |
| Package 1724/1974 | Hostname | OS / Arch | INSTALL | BUILD | CHECK | BUILD BIN | ||||||||
| SingleCellSignalR 1.2.0 (landing page) Jacques Colinge
| malbec1 | Linux (Ubuntu 18.04.5 LTS) / x86_64 | OK | OK | OK | |||||||||
| tokay1 | Windows Server 2012 R2 Standard / x64 | OK | OK | OK | OK | |||||||||
| merida1 | macOS 10.14.6 Mojave / x86_64 | OK | OK | OK | OK | |||||||||
| Package: SingleCellSignalR |
| Version: 1.2.0 |
| Command: C:\cygwin\bin\curl.exe -O http://172.29.0.3/BBS/3.12/bioc/src/contrib/SingleCellSignalR_1.2.0.tar.gz && rm -rf SingleCellSignalR.buildbin-libdir && mkdir SingleCellSignalR.buildbin-libdir && C:\Users\biocbuild\bbs-3.12-bioc\R\bin\R.exe CMD INSTALL --merge-multiarch --build --library=SingleCellSignalR.buildbin-libdir SingleCellSignalR_1.2.0.tar.gz && C:\Users\biocbuild\bbs-3.12-bioc\R\bin\R.exe CMD INSTALL SingleCellSignalR_1.2.0.zip && rm SingleCellSignalR_1.2.0.tar.gz SingleCellSignalR_1.2.0.zip |
| StartedAt: 2021-05-05 18:05:13 -0400 (Wed, 05 May 2021) |
| EndedAt: 2021-05-05 18:06:35 -0400 (Wed, 05 May 2021) |
| EllapsedTime: 82.5 seconds |
| RetCode: 0 |
| Status: OK |
##############################################################################
##############################################################################
###
### Running command:
###
### C:\cygwin\bin\curl.exe -O http://172.29.0.3/BBS/3.12/bioc/src/contrib/SingleCellSignalR_1.2.0.tar.gz && rm -rf SingleCellSignalR.buildbin-libdir && mkdir SingleCellSignalR.buildbin-libdir && C:\Users\biocbuild\bbs-3.12-bioc\R\bin\R.exe CMD INSTALL --merge-multiarch --build --library=SingleCellSignalR.buildbin-libdir SingleCellSignalR_1.2.0.tar.gz && C:\Users\biocbuild\bbs-3.12-bioc\R\bin\R.exe CMD INSTALL SingleCellSignalR_1.2.0.zip && rm SingleCellSignalR_1.2.0.tar.gz SingleCellSignalR_1.2.0.zip
###
##############################################################################
##############################################################################
% Total % Received % Xferd Average Speed Time Time Time Current
Dload Upload Total Spent Left Speed
0 0 0 0 0 0 0 0 --:--:-- --:--:-- --:--:-- 0
100 3775k 100 3775k 0 0 40.5M 0 --:--:-- --:--:-- --:--:-- 40.9M
install for i386
* installing *source* package 'SingleCellSignalR' ...
** using staged installation
** R
** data
*** moving datasets to lazyload DB
** inst
** byte-compile and prepare package for lazy loading
** help
*** installing help indices
converting help for package 'SingleCellSignalR'
finding HTML links ... done
LRdb html
LRscore html
PwC_ReactomeKEGG html
cell_classifier html
cell_signaling html
cluster_analysis html
clustering html
data_prepare html
example_dataset html
expression_plot html
expression_plot_2 html
inter_network html
intra_network html
markers html
markers_default html
mm2Hs html
mv_interactions html
simplify_interactions html
visualize_interactions html
** building package indices
** installing vignettes
** testing if installed package can be loaded from temporary location
** testing if installed package can be loaded from final location
** testing if installed package keeps a record of temporary installation path
install for x64
* installing *source* package 'SingleCellSignalR' ...
** testing if installed package can be loaded
* MD5 sums
packaged installation of 'SingleCellSignalR' as SingleCellSignalR_1.2.0.zip
* DONE (SingleCellSignalR)
* installing to library 'C:/Users/biocbuild/bbs-3.12-bioc/R/library'
package 'SingleCellSignalR' successfully unpacked and MD5 sums checked