| Back to Multiple platform build/check report for BioC 3.12 |
|
This page was generated on 2021-05-06 12:29:10 -0400 (Thu, 06 May 2021).
|
To the developers/maintainers of the SimFFPE package: Please make sure to use the following settings in order to reproduce any error or warning you see on this page. |
| Package 1716/1974 | Hostname | OS / Arch | INSTALL | BUILD | CHECK | BUILD BIN | ||||||||
| SimFFPE 1.2.0 (landing page) Lanying Wei
| malbec1 | Linux (Ubuntu 18.04.5 LTS) / x86_64 | OK | OK | OK | |||||||||
| tokay1 | Windows Server 2012 R2 Standard / x64 | OK | OK | WARNINGS | OK | |||||||||
| merida1 | macOS 10.14.6 Mojave / x86_64 | OK | OK | OK | OK | |||||||||
| Package: SimFFPE |
| Version: 1.2.0 |
| Command: /home/biocbuild/bbs-3.12-bioc/R/bin/R CMD check --install=check:SimFFPE.install-out.txt --library=/home/biocbuild/bbs-3.12-bioc/R/library --no-vignettes --timings SimFFPE_1.2.0.tar.gz |
| StartedAt: 2021-05-06 06:05:39 -0400 (Thu, 06 May 2021) |
| EndedAt: 2021-05-06 06:10:52 -0400 (Thu, 06 May 2021) |
| EllapsedTime: 312.3 seconds |
| RetCode: 0 |
| Status: OK |
| CheckDir: SimFFPE.Rcheck |
| Warnings: 0 |
##############################################################################
##############################################################################
###
### Running command:
###
### /home/biocbuild/bbs-3.12-bioc/R/bin/R CMD check --install=check:SimFFPE.install-out.txt --library=/home/biocbuild/bbs-3.12-bioc/R/library --no-vignettes --timings SimFFPE_1.2.0.tar.gz
###
##############################################################################
##############################################################################
* using log directory ‘/home/biocbuild/bbs-3.12-bioc/meat/SimFFPE.Rcheck’
* using R version 4.0.5 (2021-03-31)
* using platform: x86_64-pc-linux-gnu (64-bit)
* using session charset: UTF-8
* using option ‘--no-vignettes’
* checking for file ‘SimFFPE/DESCRIPTION’ ... OK
* checking extension type ... Package
* this is package ‘SimFFPE’ version ‘1.2.0’
* package encoding: UTF-8
* checking package namespace information ... OK
* checking package dependencies ... OK
* checking if this is a source package ... OK
* checking if there is a namespace ... OK
* checking for hidden files and directories ... OK
* checking for portable file names ... OK
* checking for sufficient/correct file permissions ... OK
* checking whether package ‘SimFFPE’ can be installed ... OK
* checking installed package size ... OK
* checking package directory ... OK
* checking ‘build’ directory ... OK
* checking DESCRIPTION meta-information ... OK
* checking top-level files ... OK
* checking for left-over files ... OK
* checking index information ... OK
* checking package subdirectories ... OK
* checking R files for non-ASCII characters ... OK
* checking R files for syntax errors ... OK
* checking whether the package can be loaded ... OK
* checking whether the package can be loaded with stated dependencies ... OK
* checking whether the package can be unloaded cleanly ... OK
* checking whether the namespace can be loaded with stated dependencies ... OK
* checking whether the namespace can be unloaded cleanly ... OK
* checking dependencies in R code ... OK
* checking S3 generic/method consistency ... OK
* checking replacement functions ... OK
* checking foreign function calls ... OK
* checking R code for possible problems ... OK
* checking Rd files ... OK
* checking Rd metadata ... OK
* checking Rd cross-references ... OK
* checking for missing documentation entries ... OK
* checking for code/documentation mismatches ... OK
* checking Rd \usage sections ... OK
* checking Rd contents ... OK
* checking for unstated dependencies in examples ... OK
* checking files in ‘vignettes’ ... OK
* checking examples ... OK
Examples with CPU (user + system) or elapsed time > 5s
user system elapsed
SimFFPE-package 2.828 0.316 80.954
readSimFFPE 2.688 0.352 76.839
targetReadSimFFPE 0.624 0.088 25.863
calcPhredScoreProfile 0.088 0.036 10.491
* checking for unstated dependencies in vignettes ... OK
* checking package vignettes in ‘inst/doc’ ... OK
* checking running R code from vignettes ... SKIPPED
* checking re-building of vignette outputs ... SKIPPED
* checking PDF version of manual ... OK
* DONE
Status: OK
SimFFPE.Rcheck/00install.out
############################################################################## ############################################################################## ### ### Running command: ### ### /home/biocbuild/bbs-3.12-bioc/R/bin/R CMD INSTALL SimFFPE ### ############################################################################## ############################################################################## * installing to library ‘/home/biocbuild/bbs-3.12-bioc/R/library’ * installing *source* package ‘SimFFPE’ ... ** using staged installation ** R ** inst ** byte-compile and prepare package for lazy loading ** help *** installing help indices ** building package indices ** installing vignettes ** testing if installed package can be loaded from temporary location ** testing if installed package can be loaded from final location ** testing if installed package keeps a record of temporary installation path * DONE (SimFFPE)
SimFFPE.Rcheck/SimFFPE-Ex.timings
| name | user | system | elapsed | |
| SimFFPE-package | 2.828 | 0.316 | 80.954 | |
| calcPhredScoreProfile | 0.088 | 0.036 | 10.491 | |
| readSimFFPE | 2.688 | 0.352 | 76.839 | |
| targetReadSimFFPE | 0.624 | 0.088 | 25.863 | |