| Back to Multiple platform build/check report for BioC 3.12 |
|
This page was generated on 2021-05-06 12:33:38 -0400 (Thu, 06 May 2021).
|
To the developers/maintainers of the SimBindProfiles package: Please make sure to use the following settings in order to reproduce any error or warning you see on this page. |
| Package 1714/1974 | Hostname | OS / Arch | INSTALL | BUILD | CHECK | BUILD BIN | ||||||||
| SimBindProfiles 1.28.0 (landing page) Bettina Fischer
| malbec1 | Linux (Ubuntu 18.04.5 LTS) / x86_64 | OK | OK | OK | |||||||||
| tokay1 | Windows Server 2012 R2 Standard / x64 | OK | OK | WARNINGS | OK | |||||||||
| merida1 | macOS 10.14.6 Mojave / x86_64 | OK | OK | OK | OK | |||||||||
| Package: SimBindProfiles |
| Version: 1.28.0 |
| Command: rm -rf SimBindProfiles.buildbin-libdir && mkdir SimBindProfiles.buildbin-libdir && C:\Users\biocbuild\bbs-3.12-bioc\R\bin\R.exe CMD INSTALL --merge-multiarch --build --library=SimBindProfiles.buildbin-libdir SimBindProfiles_1.28.0.tar.gz |
| StartedAt: 2021-05-06 10:07:55 -0400 (Thu, 06 May 2021) |
| EndedAt: 2021-05-06 10:08:40 -0400 (Thu, 06 May 2021) |
| EllapsedTime: 45.7 seconds |
| RetCode: 0 |
| Status: OK |
| PackageFile: SimBindProfiles_1.28.0.zip |
| PackageFileSize: 1.831 MiB |
##############################################################################
##############################################################################
###
### Running command:
###
### rm -rf SimBindProfiles.buildbin-libdir && mkdir SimBindProfiles.buildbin-libdir && C:\Users\biocbuild\bbs-3.12-bioc\R\bin\R.exe CMD INSTALL --merge-multiarch --build --library=SimBindProfiles.buildbin-libdir SimBindProfiles_1.28.0.tar.gz
###
##############################################################################
##############################################################################
install for i386
* installing *source* package 'SimBindProfiles' ...
** using staged installation
** R
** data
** inst
** byte-compile and prepare package for lazy loading
** help
*** installing help indices
converting help for package 'SimBindProfiles'
finding HTML links ... done
SGR html
SimBindProfiles-package html
compensationRegions html
eSetScatterPlot html
Rd warning: C:/Users/biocbuild/bbs-3.12-bioc/tmpdir/RtmpK8WWRi/R.INSTALL3bdcc57d57/SimBindProfiles/man/eSetScatterPlot.Rd:24: file link 'plot' in package 'graphics' does not exist and so has been treated as a topic
findBoundCutoff html
increasedBindingRegions html
pairwiseRegions html
plotBoundProbes html
Rd warning: C:/Users/biocbuild/bbs-3.12-bioc/tmpdir/RtmpK8WWRi/R.INSTALL3bdcc57d57/SimBindProfiles/man/plotBoundProbes.Rd:30: file link 'plot' in package 'graphics' does not exist and so has been treated as a topic
probeAnnoFromESet html
Rd warning: C:/Users/biocbuild/bbs-3.12-bioc/tmpdir/RtmpK8WWRi/R.INSTALL3bdcc57d57/SimBindProfiles/man/probeAnnoFromESet.Rd:33: file link 'probeAnno-class' in package 'Ringo' does not exist and so has been treated as a topic
probeLengthPlot html
readSgrFiles html
Rd warning: C:/Users/biocbuild/bbs-3.12-bioc/tmpdir/RtmpK8WWRi/R.INSTALL3bdcc57d57/SimBindProfiles/man/readSgrFiles.Rd:29: file link 'ExpressionSet' in package 'Biobase' does not exist and so has been treated as a topic
threewayRegions html
** building package indices
** installing vignettes
** testing if installed package can be loaded from temporary location
** testing if installed package can be loaded from final location
** testing if installed package keeps a record of temporary installation path
install for x64
* installing *source* package 'SimBindProfiles' ...
** testing if installed package can be loaded
* MD5 sums
packaged installation of 'SimBindProfiles' as SimBindProfiles_1.28.0.zip
* DONE (SimBindProfiles)