| Back to Multiple platform build/check report for BioC 3.12 |
|
This page was generated on 2021-05-06 12:33:36 -0400 (Thu, 06 May 2021).
|
To the developers/maintainers of the SigCheck package: Please make sure to use the following settings in order to reproduce any error or warning you see on this page. |
| Package 1701/1974 | Hostname | OS / Arch | INSTALL | BUILD | CHECK | BUILD BIN | ||||||||
| SigCheck 2.22.0 (landing page) Rory Stark
| malbec1 | Linux (Ubuntu 18.04.5 LTS) / x86_64 | OK | OK | OK | |||||||||
| tokay1 | Windows Server 2012 R2 Standard / x64 | OK | OK | OK | OK | |||||||||
| merida1 | macOS 10.14.6 Mojave / x86_64 | OK | OK | OK | OK | |||||||||
| Package: SigCheck |
| Version: 2.22.0 |
| Command: C:\cygwin\bin\curl.exe -O http://172.29.0.3/BBS/3.12/bioc/src/contrib/SigCheck_2.22.0.tar.gz && rm -rf SigCheck.buildbin-libdir && mkdir SigCheck.buildbin-libdir && C:\Users\biocbuild\bbs-3.12-bioc\R\bin\R.exe CMD INSTALL --merge-multiarch --build --library=SigCheck.buildbin-libdir SigCheck_2.22.0.tar.gz && C:\Users\biocbuild\bbs-3.12-bioc\R\bin\R.exe CMD INSTALL SigCheck_2.22.0.zip && rm SigCheck_2.22.0.tar.gz SigCheck_2.22.0.zip |
| StartedAt: 2021-05-05 19:16:25 -0400 (Wed, 05 May 2021) |
| EndedAt: 2021-05-05 19:17:03 -0400 (Wed, 05 May 2021) |
| EllapsedTime: 37.5 seconds |
| RetCode: 0 |
| Status: OK |
##############################################################################
##############################################################################
###
### Running command:
###
### C:\cygwin\bin\curl.exe -O http://172.29.0.3/BBS/3.12/bioc/src/contrib/SigCheck_2.22.0.tar.gz && rm -rf SigCheck.buildbin-libdir && mkdir SigCheck.buildbin-libdir && C:\Users\biocbuild\bbs-3.12-bioc\R\bin\R.exe CMD INSTALL --merge-multiarch --build --library=SigCheck.buildbin-libdir SigCheck_2.22.0.tar.gz && C:\Users\biocbuild\bbs-3.12-bioc\R\bin\R.exe CMD INSTALL SigCheck_2.22.0.zip && rm SigCheck_2.22.0.tar.gz SigCheck_2.22.0.zip
###
##############################################################################
##############################################################################
% Total % Received % Xferd Average Speed Time Time Time Current
Dload Upload Total Spent Left Speed
0 0 0 0 0 0 0 0 --:--:-- --:--:-- --:--:-- 0
100 110k 100 110k 0 0 1073k 0 --:--:-- --:--:-- --:--:-- 1082k
install for i386
* installing *source* package 'SigCheck' ...
** using staged installation
** R
** data
** inst
** byte-compile and prepare package for lazy loading
Creating a new generic function for 'signature' in package 'SigCheck'
** help
*** installing help indices
converting help for package 'SigCheck'
finding HTML links ... done
SigCheck-package html
finding level-2 HTML links ... done
SigCheckObject-class html
classifyResults html
knownSignatures html
nkiResults html
sigCheck html
sigCheckAll html
sigCheckKnown html
sigCheckPermuted html
sigCheckPlot html
sigCheckRandom html
** building package indices
** installing vignettes
** testing if installed package can be loaded from temporary location
** testing if installed package can be loaded from final location
** testing if installed package keeps a record of temporary installation path
install for x64
* installing *source* package 'SigCheck' ...
** testing if installed package can be loaded
* MD5 sums
packaged installation of 'SigCheck' as SigCheck_2.22.0.zip
* DONE (SigCheck)
* installing to library 'C:/Users/biocbuild/bbs-3.12-bioc/R/library'
package 'SigCheck' successfully unpacked and MD5 sums checked