| Back to Multiple platform build/check report for BioC 3.12 |
|
This page was generated on 2021-05-06 12:33:33 -0400 (Thu, 06 May 2021).
|
To the developers/maintainers of the SemDist package: Please make sure to use the following settings in order to reproduce any error or warning you see on this page. |
| Package 1671/1974 | Hostname | OS / Arch | INSTALL | BUILD | CHECK | BUILD BIN | ||||||||
| SemDist 1.24.0 (landing page) Ian Gonzalez
| malbec1 | Linux (Ubuntu 18.04.5 LTS) / x86_64 | OK | OK | OK | |||||||||
| tokay1 | Windows Server 2012 R2 Standard / x64 | OK | OK | OK | OK | |||||||||
| merida1 | macOS 10.14.6 Mojave / x86_64 | OK | OK | OK | OK | |||||||||
| Package: SemDist |
| Version: 1.24.0 |
| Command: C:\cygwin\bin\curl.exe -O http://172.29.0.3/BBS/3.12/bioc/src/contrib/SemDist_1.24.0.tar.gz && rm -rf SemDist.buildbin-libdir && mkdir SemDist.buildbin-libdir && C:\Users\biocbuild\bbs-3.12-bioc\R\bin\R.exe CMD INSTALL --merge-multiarch --build --library=SemDist.buildbin-libdir SemDist_1.24.0.tar.gz && C:\Users\biocbuild\bbs-3.12-bioc\R\bin\R.exe CMD INSTALL SemDist_1.24.0.zip && rm SemDist_1.24.0.tar.gz SemDist_1.24.0.zip |
| StartedAt: 2021-05-05 17:56:22 -0400 (Wed, 05 May 2021) |
| EndedAt: 2021-05-05 17:58:50 -0400 (Wed, 05 May 2021) |
| EllapsedTime: 147.9 seconds |
| RetCode: 0 |
| Status: OK |
##############################################################################
##############################################################################
###
### Running command:
###
### C:\cygwin\bin\curl.exe -O http://172.29.0.3/BBS/3.12/bioc/src/contrib/SemDist_1.24.0.tar.gz && rm -rf SemDist.buildbin-libdir && mkdir SemDist.buildbin-libdir && C:\Users\biocbuild\bbs-3.12-bioc\R\bin\R.exe CMD INSTALL --merge-multiarch --build --library=SemDist.buildbin-libdir SemDist_1.24.0.tar.gz && C:\Users\biocbuild\bbs-3.12-bioc\R\bin\R.exe CMD INSTALL SemDist_1.24.0.zip && rm SemDist_1.24.0.tar.gz SemDist_1.24.0.zip
###
##############################################################################
##############################################################################
% Total % Received % Xferd Average Speed Time Time Time Current
Dload Upload Total Spent Left Speed
0 0 0 0 0 0 0 0 --:--:-- --:--:-- --:--:-- 0
0 0 0 0 0 0 0 0 --:--:-- --:--:-- --:--:-- 0
100 1941k 100 1941k 0 0 15.1M 0 --:--:-- --:--:-- --:--:-- 15.1M
install for i386
* installing *source* package 'SemDist' ...
** using staged installation
** R
** data
** inst
** byte-compile and prepare package for lazy loading
** help
*** installing help indices
converting help for package 'SemDist'
finding HTML links ... done
IAccr html
RUMIcurve html
computeIA html
findRUMI html
parentcnt html
termcnt html
** building package indices
** installing vignettes
** testing if installed package can be loaded from temporary location
** testing if installed package can be loaded from final location
** testing if installed package keeps a record of temporary installation path
install for x64
* installing *source* package 'SemDist' ...
** testing if installed package can be loaded
* MD5 sums
packaged installation of 'SemDist' as SemDist_1.24.0.zip
* DONE (SemDist)
* installing to library 'C:/Users/biocbuild/bbs-3.12-bioc/R/library'
package 'SemDist' successfully unpacked and MD5 sums checked