| Back to Multiple platform build/check report for BioC 3.12 |
|
This page was generated on 2021-05-06 12:36:42 -0400 (Thu, 06 May 2021).
|
To the developers/maintainers of the Sconify package: Please make sure to use the following settings in order to reproduce any error or warning you see on this page. |
| Package 1651/1974 | Hostname | OS / Arch | INSTALL | BUILD | CHECK | BUILD BIN | ||||||||
| Sconify 1.10.0 (landing page) Tyler J Burns
| malbec1 | Linux (Ubuntu 18.04.5 LTS) / x86_64 | OK | OK | OK | |||||||||
| tokay1 | Windows Server 2012 R2 Standard / x64 | OK | OK | OK | OK | |||||||||
| merida1 | macOS 10.14.6 Mojave / x86_64 | OK | OK | OK | OK | |||||||||
| Package: Sconify |
| Version: 1.10.0 |
| Command: /Library/Frameworks/R.framework/Versions/Current/Resources/bin/R CMD check --install=check:Sconify.install-out.txt --library=/Library/Frameworks/R.framework/Versions/Current/Resources/library --no-vignettes --timings Sconify_1.10.0.tar.gz |
| StartedAt: 2021-05-06 05:59:37 -0400 (Thu, 06 May 2021) |
| EndedAt: 2021-05-06 06:02:13 -0400 (Thu, 06 May 2021) |
| EllapsedTime: 156.1 seconds |
| RetCode: 0 |
| Status: OK |
| CheckDir: Sconify.Rcheck |
| Warnings: 0 |
##############################################################################
##############################################################################
###
### Running command:
###
### /Library/Frameworks/R.framework/Versions/Current/Resources/bin/R CMD check --install=check:Sconify.install-out.txt --library=/Library/Frameworks/R.framework/Versions/Current/Resources/library --no-vignettes --timings Sconify_1.10.0.tar.gz
###
##############################################################################
##############################################################################
* using log directory ‘/Users/biocbuild/bbs-3.12-bioc/meat/Sconify.Rcheck’
* using R version 4.0.5 (2021-03-31)
* using platform: x86_64-apple-darwin17.0 (64-bit)
* using session charset: UTF-8
* using option ‘--no-vignettes’
* checking for file ‘Sconify/DESCRIPTION’ ... OK
* checking extension type ... Package
* this is package ‘Sconify’ version ‘1.10.0’
* package encoding: UTF-8
* checking package namespace information ... OK
* checking package dependencies ... OK
* checking if this is a source package ... OK
* checking if there is a namespace ... OK
* checking for hidden files and directories ... OK
* checking for portable file names ... OK
* checking for sufficient/correct file permissions ... OK
* checking whether package ‘Sconify’ can be installed ... OK
* checking installed package size ... OK
* checking package directory ... OK
* checking ‘build’ directory ... OK
* checking DESCRIPTION meta-information ... OK
* checking top-level files ... OK
* checking for left-over files ... OK
* checking index information ... OK
* checking package subdirectories ... OK
* checking R files for non-ASCII characters ... OK
* checking R files for syntax errors ... OK
* checking whether the package can be loaded ... OK
* checking whether the package can be loaded with stated dependencies ... OK
* checking whether the package can be unloaded cleanly ... OK
* checking whether the namespace can be loaded with stated dependencies ... OK
* checking whether the namespace can be unloaded cleanly ... OK
* checking dependencies in R code ... OK
* checking S3 generic/method consistency ... OK
* checking replacement functions ... OK
* checking foreign function calls ... OK
* checking R code for possible problems ... OK
* checking Rd files ... OK
* checking Rd metadata ... OK
* checking Rd cross-references ... OK
* checking for missing documentation entries ... OK
* checking for code/documentation mismatches ... OK
* checking Rd \usage sections ... OK
* checking Rd contents ... OK
* checking for unstated dependencies in examples ... OK
* checking contents of ‘data’ directory ... OK
* checking data for non-ASCII characters ... OK
* checking data for ASCII and uncompressed saves ... OK
* checking files in ‘vignettes’ ... OK
* checking examples ... OK
Examples with CPU (user + system) or elapsed time > 5s
user system elapsed
SconeValues 19.131 0.201 19.583
* checking for unstated dependencies in ‘tests’ ... OK
* checking tests ...
Running ‘testthat.R’
OK
* checking for unstated dependencies in vignettes ... OK
* checking package vignettes in ‘inst/doc’ ... OK
* checking running R code from vignettes ... SKIPPED
* checking re-building of vignette outputs ... SKIPPED
* checking PDF version of manual ... OK
* DONE
Status: OK
Sconify.Rcheck/00install.out
############################################################################## ############################################################################## ### ### Running command: ### ### /Library/Frameworks/R.framework/Versions/Current/Resources/bin/R CMD INSTALL Sconify ### ############################################################################## ############################################################################## * installing to library ‘/Library/Frameworks/R.framework/Versions/4.0/Resources/library’ * installing *source* package ‘Sconify’ ... ** using staged installation ** R ** data *** moving datasets to lazyload DB ** inst ** byte-compile and prepare package for lazy loading Note: wrong number of arguments to '/' Note: wrong number of arguments to 'asinh' ** help *** installing help indices ** building package indices ** installing vignettes ** testing if installed package can be loaded from temporary location ** testing if installed package can be loaded from final location ** testing if installed package keeps a record of temporary installation path * DONE (Sconify)
Sconify.Rcheck/tests/testthat.Rout
R version 4.0.5 (2021-03-31) -- "Shake and Throw"
Copyright (C) 2021 The R Foundation for Statistical Computing
Platform: x86_64-apple-darwin17.0 (64-bit)
R is free software and comes with ABSOLUTELY NO WARRANTY.
You are welcome to redistribute it under certain conditions.
Type 'license()' or 'licence()' for distribution details.
R is a collaborative project with many contributors.
Type 'contributors()' for more information and
'citation()' on how to cite R or R packages in publications.
Type 'demo()' for some demos, 'help()' for on-line help, or
'help.start()' for an HTML browser interface to help.
Type 'q()' to quit R.
> library(testthat)
> library(Sconify)
>
> test_check("Sconify")
Read the 100 x 27 data matrix successfully!
Using no_dims = 2, perplexity = 30.000000, and theta = 0.500000
Computing input similarities...
Building tree...
Done in 0.01 seconds (sparsity = 0.966800)!
Learning embedding...
Iteration 50: error is 53.003779 (50 iterations in 0.02 seconds)
Iteration 100: error is 52.379890 (50 iterations in 0.02 seconds)
Iteration 150: error is 54.047763 (50 iterations in 0.02 seconds)
Iteration 200: error is 52.769878 (50 iterations in 0.01 seconds)
Iteration 250: error is 50.708143 (50 iterations in 0.02 seconds)
Iteration 300: error is 1.509838 (50 iterations in 0.01 seconds)
Iteration 350: error is 0.861724 (50 iterations in 0.01 seconds)
Iteration 400: error is 0.498759 (50 iterations in 0.01 seconds)
Iteration 450: error is 0.182580 (50 iterations in 0.01 seconds)
Iteration 500: error is 0.169628 (50 iterations in 0.02 seconds)
Iteration 550: error is 0.171050 (50 iterations in 0.02 seconds)
Iteration 600: error is 0.170803 (50 iterations in 0.01 seconds)
Iteration 650: error is 0.169386 (50 iterations in 0.01 seconds)
Iteration 700: error is 0.169893 (50 iterations in 0.01 seconds)
Iteration 750: error is 0.169420 (50 iterations in 0.01 seconds)
Iteration 800: error is 0.169605 (50 iterations in 0.01 seconds)
Iteration 850: error is 0.169320 (50 iterations in 0.02 seconds)
Iteration 900: error is 0.170108 (50 iterations in 0.01 seconds)
Iteration 950: error is 0.170540 (50 iterations in 0.01 seconds)
Iteration 1000: error is 0.170050 (50 iterations in 0.01 seconds)
Fitting performed in 0.27 seconds.
Read the 1000 x 27 data matrix successfully!
Using no_dims = 2, perplexity = 30.000000, and theta = 0.500000
Computing input similarities...
Building tree...
Done in 0.15 seconds (sparsity = 0.129120)!
Learning embedding...
Iteration 50: error is 65.709472 (50 iterations in 0.30 seconds)
Iteration 100: error is 60.961144 (50 iterations in 0.25 seconds)
Iteration 150: error is 60.404198 (50 iterations in 0.26 seconds)
Iteration 200: error is 60.217490 (50 iterations in 0.29 seconds)
Iteration 250: error is 60.128956 (50 iterations in 0.26 seconds)
Iteration 300: error is 1.346008 (50 iterations in 0.21 seconds)
Iteration 350: error is 1.243553 (50 iterations in 0.20 seconds)
Iteration 400: error is 1.209299 (50 iterations in 0.21 seconds)
Iteration 450: error is 1.191961 (50 iterations in 0.20 seconds)
Iteration 500: error is 1.182135 (50 iterations in 0.21 seconds)
Iteration 550: error is 1.176765 (50 iterations in 0.20 seconds)
Iteration 600: error is 1.171473 (50 iterations in 0.21 seconds)
Iteration 650: error is 1.168589 (50 iterations in 0.20 seconds)
Iteration 700: error is 1.165077 (50 iterations in 0.20 seconds)
Iteration 750: error is 1.163356 (50 iterations in 0.18 seconds)
Iteration 800: error is 1.160084 (50 iterations in 0.20 seconds)
Iteration 850: error is 1.158201 (50 iterations in 0.20 seconds)
Iteration 900: error is 1.156624 (50 iterations in 0.21 seconds)
Iteration 950: error is 1.154513 (50 iterations in 0.20 seconds)
Iteration 1000: error is 1.152714 (50 iterations in 0.20 seconds)
Fitting performed in 4.40 seconds.
[ FAIL 0 | WARN 3 | SKIP 0 | PASS 72 ]
>
> proc.time()
user system elapsed
28.919 0.548 29.479
Sconify.Rcheck/Sconify-Ex.timings
| name | user | system | elapsed | |
| FcsToTibble | 0.231 | 0.007 | 0.239 | |
| Fnn | 0.553 | 1.279 | 1.880 | |
| GetKnnDe | 0.078 | 0.007 | 0.085 | |
| GetMarkerNames | 0.034 | 0.002 | 0.035 | |
| ImputeTesting | 4.213 | 0.019 | 4.237 | |
| MakeHist | 0.281 | 0.006 | 0.287 | |
| MakeKnnList | 0.461 | 0.010 | 0.471 | |
| MeaningOfLife | 0.001 | 0.000 | 0.000 | |
| ParseMarkers | 0.071 | 0.010 | 0.086 | |
| PostProcessing | 0.091 | 0.001 | 0.093 | |
| ProcessMultipleFiles | 0.140 | 0.010 | 0.151 | |
| QuantNormalizeElements | 0.203 | 0.023 | 0.226 | |
| SconeValues | 19.131 | 0.201 | 19.583 | |
| SplitFile | 0.106 | 0.002 | 0.107 | |
| StringToNumbers | 0.001 | 0.000 | 0.001 | |
| SubsampleAndTsne | 2.220 | 0.010 | 2.232 | |
| TsneVis | 0.206 | 0.003 | 0.210 | |