| Back to Multiple platform build/check report for BioC 3.12 |
|
This page was generated on 2021-05-06 12:37:04 -0400 (Thu, 06 May 2021).
|
To the developers/maintainers of the SWATH2stats package: Please make sure to use the following settings in order to reproduce any error or warning you see on this page. |
| Package 1821/1974 | Hostname | OS / Arch | INSTALL | BUILD | CHECK | BUILD BIN | ||||||||
| SWATH2stats 1.20.1 (landing page) Peter Blattmann
| malbec1 | Linux (Ubuntu 18.04.5 LTS) / x86_64 | OK | OK | OK | |||||||||
| tokay1 | Windows Server 2012 R2 Standard / x64 | OK | OK | OK | OK | |||||||||
| merida1 | macOS 10.14.6 Mojave / x86_64 | OK | OK | OK | OK | |||||||||
| Package: SWATH2stats |
| Version: 1.20.1 |
| Command: /Library/Frameworks/R.framework/Versions/Current/Resources/bin/R CMD check --install=check:SWATH2stats.install-out.txt --library=/Library/Frameworks/R.framework/Versions/Current/Resources/library --no-vignettes --timings SWATH2stats_1.20.1.tar.gz |
| StartedAt: 2021-05-06 06:43:45 -0400 (Thu, 06 May 2021) |
| EndedAt: 2021-05-06 06:47:07 -0400 (Thu, 06 May 2021) |
| EllapsedTime: 201.8 seconds |
| RetCode: 0 |
| Status: OK |
| CheckDir: SWATH2stats.Rcheck |
| Warnings: 0 |
##############################################################################
##############################################################################
###
### Running command:
###
### /Library/Frameworks/R.framework/Versions/Current/Resources/bin/R CMD check --install=check:SWATH2stats.install-out.txt --library=/Library/Frameworks/R.framework/Versions/Current/Resources/library --no-vignettes --timings SWATH2stats_1.20.1.tar.gz
###
##############################################################################
##############################################################################
* using log directory ‘/Users/biocbuild/bbs-3.12-bioc/meat/SWATH2stats.Rcheck’
* using R version 4.0.5 (2021-03-31)
* using platform: x86_64-apple-darwin17.0 (64-bit)
* using session charset: UTF-8
* using option ‘--no-vignettes’
* checking for file ‘SWATH2stats/DESCRIPTION’ ... OK
* checking extension type ... Package
* this is package ‘SWATH2stats’ version ‘1.20.1’
* package encoding: UTF-8
* checking package namespace information ... OK
* checking package dependencies ... NOTE
Package which this enhances but not available for checking: ‘aLFQ’
* checking if this is a source package ... OK
* checking if there is a namespace ... OK
* checking for hidden files and directories ... OK
* checking for portable file names ... OK
* checking for sufficient/correct file permissions ... OK
* checking whether package ‘SWATH2stats’ can be installed ... OK
* checking installed package size ... OK
* checking package directory ... OK
* checking ‘build’ directory ... OK
* checking DESCRIPTION meta-information ... OK
* checking top-level files ... OK
* checking for left-over files ... OK
* checking index information ... OK
* checking package subdirectories ... OK
* checking R files for non-ASCII characters ... OK
* checking R files for syntax errors ... OK
* checking whether the package can be loaded ... OK
* checking whether the package can be loaded with stated dependencies ... OK
* checking whether the package can be unloaded cleanly ... OK
* checking whether the namespace can be loaded with stated dependencies ... OK
* checking whether the namespace can be unloaded cleanly ... OK
* checking dependencies in R code ... OK
* checking S3 generic/method consistency ... OK
* checking replacement functions ... OK
* checking foreign function calls ... OK
* checking R code for possible problems ... OK
* checking Rd files ... OK
* checking Rd metadata ... OK
* checking Rd cross-references ... OK
* checking for missing documentation entries ... OK
* checking for code/documentation mismatches ... OK
* checking Rd \usage sections ... OK
* checking Rd contents ... OK
* checking for unstated dependencies in examples ... OK
* checking contents of ‘data’ directory ... OK
* checking data for non-ASCII characters ... OK
* checking data for ASCII and uncompressed saves ... OK
* checking sizes of PDF files under ‘inst/doc’ ... OK
* checking files in ‘vignettes’ ... OK
* checking examples ... OK
Examples with CPU (user + system) or elapsed time > 5s
user system elapsed
load_mart 10.105 0.427 18.222
* checking for unstated dependencies in ‘tests’ ... OK
* checking tests ...
Running ‘test-all.R’
OK
* checking for unstated dependencies in vignettes ... OK
* checking package vignettes in ‘inst/doc’ ... OK
* checking running R code from vignettes ... SKIPPED
* checking re-building of vignette outputs ... SKIPPED
* checking PDF version of manual ... OK
* DONE
Status: 1 NOTE
See
‘/Users/biocbuild/bbs-3.12-bioc/meat/SWATH2stats.Rcheck/00check.log’
for details.
SWATH2stats.Rcheck/00install.out
############################################################################## ############################################################################## ### ### Running command: ### ### /Library/Frameworks/R.framework/Versions/Current/Resources/bin/R CMD INSTALL SWATH2stats ### ############################################################################## ############################################################################## * installing to library ‘/Library/Frameworks/R.framework/Versions/4.0/Resources/library’ * installing *source* package ‘SWATH2stats’ ... ** using staged installation ** R ** data ** inst ** byte-compile and prepare package for lazy loading ** help *** installing help indices ** building package indices ** installing vignettes ** testing if installed package can be loaded from temporary location ** testing if installed package can be loaded from final location ** testing if installed package keeps a record of temporary installation path * DONE (SWATH2stats)
SWATH2stats.Rcheck/tests/test-all.Rout
R version 4.0.5 (2021-03-31) -- "Shake and Throw"
Copyright (C) 2021 The R Foundation for Statistical Computing
Platform: x86_64-apple-darwin17.0 (64-bit)
R is free software and comes with ABSOLUTELY NO WARRANTY.
You are welcome to redistribute it under certain conditions.
Type 'license()' or 'licence()' for distribution details.
R is a collaborative project with many contributors.
Type 'contributors()' for more information and
'citation()' on how to cite R or R packages in publications.
Type 'demo()' for some demos, 'help()' for on-line help, or
'help.start()' for an HTML browser interface to help.
Type 'q()' to quit R.
> library(testthat)
> test_check("SWATH2stats")
Loading required package: SWATH2stats
[1] "peterb_J131223_054"
[1] "peterb_L150425_011_SW"
[1] "peterb_L150514_002_SW"
[ FAIL 0 | WARN 73 | SKIP 0 | PASS 113 ]
>
> proc.time()
user system elapsed
19.830 0.575 28.571
SWATH2stats.Rcheck/SWATH2stats-Ex.timings
| name | user | system | elapsed | |
| JPP_update | 0.145 | 0.004 | 0.148 | |
| add_genesymbol | 0.013 | 0.001 | 0.013 | |
| assess_decoy_rate | 0.143 | 0.003 | 0.147 | |
| assess_fdr_byrun | 0.243 | 0.008 | 0.253 | |
| assess_fdr_overall | 0.257 | 0.009 | 0.268 | |
| convert4MSstats | 0.891 | 0.024 | 0.916 | |
| convert4PECA | 0.194 | 0.004 | 0.199 | |
| convert4aLFQ | 0.813 | 0.018 | 0.832 | |
| convert4mapDIA | 0.953 | 0.023 | 0.979 | |
| convert4pythonscript | 0.196 | 0.003 | 0.199 | |
| convert_protein_ids | 0.000 | 0.000 | 0.001 | |
| count_analytes | 0.171 | 0.003 | 0.175 | |
| disaggregate | 0.451 | 0.013 | 0.465 | |
| filter_all_peptides | 0.177 | 0.004 | 0.180 | |
| filter_mscore | 0.247 | 0.007 | 0.254 | |
| filter_mscore_condition | 0.227 | 0.003 | 0.232 | |
| filter_mscore_fdr | 0.561 | 0.012 | 0.574 | |
| filter_mscore_freqobs | 0.231 | 0.005 | 0.235 | |
| filter_on_max_peptides | 0.221 | 0.005 | 0.226 | |
| filter_on_min_peptides | 0.241 | 0.003 | 0.246 | |
| filter_proteotypic_peptides | 0.189 | 0.002 | 0.196 | |
| import_data | 0.578 | 0.021 | 0.599 | |
| load_mart | 10.105 | 0.427 | 18.222 | |
| mscore4assayfdr | 0.418 | 0.014 | 0.433 | |
| mscore4pepfdr | 0.376 | 0.016 | 0.391 | |
| mscore4protfdr | 0.351 | 0.011 | 0.362 | |
| plot.fdr_cube | 0.213 | 0.007 | 0.259 | |
| plot.fdr_table | 0.221 | 0.005 | 0.227 | |
| plot_correlation_between_samples | 0.501 | 0.009 | 0.511 | |
| plot_variation | 0.612 | 0.006 | 0.619 | |
| plot_variation_vs_total | 0.509 | 0.005 | 0.514 | |
| reduce_OpenSWATH_output | 0.169 | 0.002 | 0.171 | |
| removeDecoyProteins | 0.191 | 0.003 | 0.194 | |
| sample_annotation | 0.252 | 0.006 | 0.259 | |
| transform_MSstats_OpenSWATH | 0.004 | 0.000 | 0.005 | |
| unifyProteinGroupLabels | 0.190 | 0.002 | 0.192 | |
| validate_columns | 0.001 | 0.001 | 0.002 | |
| write_matrix_peptides | 0.178 | 0.002 | 0.180 | |
| write_matrix_proteins | 0.193 | 0.002 | 0.195 | |