| Back to Multiple platform build/check report for BioC 3.12 |
|
This page was generated on 2021-05-06 12:33:46 -0400 (Thu, 06 May 2021).
|
To the developers/maintainers of the SRGnet package: Please make sure to use the following settings in order to reproduce any error or warning you see on this page. |
| Package 1785/1974 | Hostname | OS / Arch | INSTALL | BUILD | CHECK | BUILD BIN | ||||||||
| SRGnet 1.16.0 (landing page) Isar Nassiri
| malbec1 | Linux (Ubuntu 18.04.5 LTS) / x86_64 | ERROR | ERROR | skipped | |||||||||
| tokay1 | Windows Server 2012 R2 Standard / x64 | ERROR | ERROR | skipped | skipped | |||||||||
| merida1 | macOS 10.14.6 Mojave / x86_64 | ERROR | ERROR | skipped | skipped | |||||||||
| Package: SRGnet |
| Version: 1.16.0 |
| Command: chmod a+r SRGnet -R && C:\Users\biocbuild\bbs-3.12-bioc\R\bin\R.exe CMD build --keep-empty-dirs --no-resave-data SRGnet |
| StartedAt: 2021-05-05 23:44:07 -0400 (Wed, 05 May 2021) |
| EndedAt: 2021-05-05 23:44:27 -0400 (Wed, 05 May 2021) |
| EllapsedTime: 19.4 seconds |
| RetCode: 1 |
| Status: ERROR |
| PackageFile: SRGnet_1.16.0.tar.gz |
| PackageFileSize: 160.4 KiB |
##############################################################################
##############################################################################
###
### Running command:
###
### chmod a+r SRGnet -R && C:\Users\biocbuild\bbs-3.12-bioc\R\bin\R.exe CMD build --keep-empty-dirs --no-resave-data SRGnet
###
##############################################################################
##############################################################################
* checking for file 'SRGnet/DESCRIPTION' ... OK
* preparing 'SRGnet':
* checking DESCRIPTION meta-information ... OK
* installing the package to build vignettes
-----------------------------------
ERROR: dependency 'DMwR' is not available for package 'SRGnet'
* removing 'C:/Users/biocbuild/bbs-3.12-bioc/tmpdir/Rtmpe8LYFX/Rinst2160242f19dd/SRGnet'
-----------------------------------
ERROR: package installation failed