| Back to Multiple platform build/check report for BioC 3.12 |
|
This page was generated on 2021-05-06 12:36:56 -0400 (Thu, 06 May 2021).
|
To the developers/maintainers of the SQUADD package: Please make sure to use the following settings in order to reproduce any error or warning you see on this page. |
| Package 1782/1974 | Hostname | OS / Arch | INSTALL | BUILD | CHECK | BUILD BIN | ||||||||
| SQUADD 1.40.0 (landing page) Martial Sankar
| malbec1 | Linux (Ubuntu 18.04.5 LTS) / x86_64 | OK | OK | OK | |||||||||
| tokay1 | Windows Server 2012 R2 Standard / x64 | OK | OK | OK | OK | |||||||||
| merida1 | macOS 10.14.6 Mojave / x86_64 | OK | OK | OK | OK | |||||||||
| Package: SQUADD |
| Version: 1.40.0 |
| Command: rm -rf SQUADD.buildbin-libdir && mkdir SQUADD.buildbin-libdir && /Users/biocbuild/BBS/utils/build-universal.sh SQUADD_1.40.0.tar.gz /Library/Frameworks/R.framework/Versions/Current/Resources/bin/R SQUADD.buildbin-libdir |
| StartedAt: 2021-05-06 10:07:15 -0400 (Thu, 06 May 2021) |
| EndedAt: 2021-05-06 10:08:27 -0400 (Thu, 06 May 2021) |
| EllapsedTime: 71.5 seconds |
| RetCode: 0 |
| Status: OK |
| PackageFile: SQUADD_1.40.0.tgz |
| PackageFileSize: 815.7 KiB |
############################################################################## ############################################################################## ### ### Running command: ### ### rm -rf SQUADD.buildbin-libdir && mkdir SQUADD.buildbin-libdir && /Users/biocbuild/BBS/utils/build-universal.sh SQUADD_1.40.0.tar.gz /Library/Frameworks/R.framework/Versions/Current/Resources/bin/R SQUADD.buildbin-libdir ### ############################################################################## ############################################################################## >>>>>>> >>>>>>> INSTALLATION WITH 'R CMD INSTALL --preclean --no-multiarch --library=SQUADD.buildbin-libdir SQUADD_1.40.0.tar.gz' >>>>>>> * installing *source* package ‘SQUADD’ ... ** using staged installation ** R ** inst ** byte-compile and prepare package for lazy loading ** help *** installing help indices ** building package indices ** installing vignettes ** testing if installed package can be loaded from temporary location ** testing if installed package can be loaded from final location ** testing if installed package keeps a record of temporary installation path * DONE (SQUADD)