| Back to Multiple platform build/check report for BioC 3.12 |
|
This page was generated on 2021-05-06 12:29:17 -0400 (Thu, 06 May 2021).
|
To the developers/maintainers of the SPLINTER package: Please make sure to use the following settings in order to reproduce any error or warning you see on this page. |
| Package 1775/1974 | Hostname | OS / Arch | INSTALL | BUILD | CHECK | BUILD BIN | ||||||||
| SPLINTER 1.16.0 (landing page) Diana Low
| malbec1 | Linux (Ubuntu 18.04.5 LTS) / x86_64 | OK | OK | OK | |||||||||
| tokay1 | Windows Server 2012 R2 Standard / x64 | OK | OK | WARNINGS | OK | |||||||||
| merida1 | macOS 10.14.6 Mojave / x86_64 | OK | OK | OK | OK | |||||||||
| Package: SPLINTER |
| Version: 1.16.0 |
| Command: /home/biocbuild/bbs-3.12-bioc/R/bin/R CMD check --install=check:SPLINTER.install-out.txt --library=/home/biocbuild/bbs-3.12-bioc/R/library --no-vignettes --timings SPLINTER_1.16.0.tar.gz |
| StartedAt: 2021-05-06 06:18:58 -0400 (Thu, 06 May 2021) |
| EndedAt: 2021-05-06 06:25:30 -0400 (Thu, 06 May 2021) |
| EllapsedTime: 392.7 seconds |
| RetCode: 0 |
| Status: OK |
| CheckDir: SPLINTER.Rcheck |
| Warnings: 0 |
##############################################################################
##############################################################################
###
### Running command:
###
### /home/biocbuild/bbs-3.12-bioc/R/bin/R CMD check --install=check:SPLINTER.install-out.txt --library=/home/biocbuild/bbs-3.12-bioc/R/library --no-vignettes --timings SPLINTER_1.16.0.tar.gz
###
##############################################################################
##############################################################################
* using log directory ‘/home/biocbuild/bbs-3.12-bioc/meat/SPLINTER.Rcheck’
* using R version 4.0.5 (2021-03-31)
* using platform: x86_64-pc-linux-gnu (64-bit)
* using session charset: UTF-8
* using option ‘--no-vignettes’
* checking for file ‘SPLINTER/DESCRIPTION’ ... OK
* checking extension type ... Package
* this is package ‘SPLINTER’ version ‘1.16.0’
* package encoding: UTF-8
* checking package namespace information ... OK
* checking package dependencies ... OK
* checking if this is a source package ... OK
* checking if there is a namespace ... OK
* checking for hidden files and directories ... OK
* checking for portable file names ... OK
* checking for sufficient/correct file permissions ... OK
* checking whether package ‘SPLINTER’ can be installed ... OK
* checking installed package size ... OK
* checking package directory ... OK
* checking ‘build’ directory ... OK
* checking DESCRIPTION meta-information ... OK
* checking top-level files ... OK
* checking for left-over files ... OK
* checking index information ... OK
* checking package subdirectories ... OK
* checking R files for non-ASCII characters ... OK
* checking R files for syntax errors ... OK
* checking whether the package can be loaded ... OK
* checking whether the package can be loaded with stated dependencies ... OK
* checking whether the package can be unloaded cleanly ... OK
* checking whether the namespace can be loaded with stated dependencies ... OK
* checking whether the namespace can be unloaded cleanly ... OK
* checking dependencies in R code ... OK
* checking S3 generic/method consistency ... OK
* checking replacement functions ... OK
* checking foreign function calls ... OK
* checking R code for possible problems ... OK
* checking Rd files ... OK
* checking Rd metadata ... OK
* checking Rd cross-references ... OK
* checking for missing documentation entries ... OK
* checking for code/documentation mismatches ... OK
* checking Rd \usage sections ... OK
* checking Rd contents ... OK
* checking for unstated dependencies in examples ... OK
* checking contents of ‘data’ directory ... OK
* checking data for non-ASCII characters ... OK
* checking data for ASCII and uncompressed saves ... OK
* checking files in ‘vignettes’ ... OK
* checking examples ... OK
Examples with CPU (user + system) or elapsed time > 5s
user system elapsed
getPCRsizes 15.564 0.096 16.062
eventPlot 13.076 0.184 13.328
* checking for unstated dependencies in vignettes ... OK
* checking package vignettes in ‘inst/doc’ ... OK
* checking running R code from vignettes ... SKIPPED
* checking re-building of vignette outputs ... SKIPPED
* checking PDF version of manual ... OK
* DONE
Status: OK
SPLINTER.Rcheck/00install.out
############################################################################## ############################################################################## ### ### Running command: ### ### /home/biocbuild/bbs-3.12-bioc/R/bin/R CMD INSTALL SPLINTER ### ############################################################################## ############################################################################## * installing to library ‘/home/biocbuild/bbs-3.12-bioc/R/library’ * installing *source* package ‘SPLINTER’ ... ** using staged installation ** R ** data *** moving datasets to lazyload DB ** inst ** byte-compile and prepare package for lazy loading Creating a generic function for 'toJSON' from package 'jsonlite' in package 'googleVis' ** help *** installing help indices ** building package indices ** installing vignettes ** testing if installed package can be loaded from temporary location Creating a generic function for 'toJSON' from package 'jsonlite' in package 'googleVis' ** testing if installed package can be loaded from final location Creating a generic function for 'toJSON' from package 'jsonlite' in package 'googleVis' ** testing if installed package keeps a record of temporary installation path * DONE (SPLINTER)
SPLINTER.Rcheck/SPLINTER-Ex.timings
| name | user | system | elapsed | |
| acceptor.m | 0.000 | 0.004 | 0.004 | |
| addEnsemblAnnotation | 0.008 | 0.000 | 0.021 | |
| callPrimer3 | 0 | 0 | 0 | |
| checkPrimer | 0.096 | 0.000 | 0.094 | |
| compatible_cds | 0.000 | 0.000 | 0.001 | |
| compatible_tx | 0.004 | 0.000 | 0.001 | |
| donor.m | 0 | 0 | 0 | |
| eventOutcomeCompare | 2.028 | 0.068 | 2.125 | |
| eventOutcomeTranslate | 0.668 | 0.000 | 0.668 | |
| eventPlot | 13.076 | 0.184 | 13.328 | |
| extendROI | 1.528 | 0.000 | 1.527 | |
| extractSpliceEvents | 0.004 | 0.000 | 0.005 | |
| extractSpliceSites | 0.112 | 0.000 | 0.110 | |
| findCompatibleEvents | 0.572 | 0.008 | 0.581 | |
| findCompatibleExon | 0.476 | 0.000 | 0.491 | |
| findTX | 0.044 | 0.000 | 0.043 | |
| getPCRsizes | 15.564 | 0.096 | 16.062 | |
| getRegionDNA | 0.436 | 0.000 | 0.436 | |
| insertRegion | 0.328 | 0.000 | 0.328 | |
| makeROI | 0.664 | 0.000 | 0.665 | |
| makeUniqueIDs | 0.008 | 0.000 | 0.006 | |
| pcr_result1 | 0.000 | 0.000 | 0.001 | |
| plot_seqlogo | 0.068 | 0.000 | 0.072 | |
| primers | 0.000 | 0.000 | 0.001 | |
| psiPlot | 0.356 | 0.000 | 0.357 | |
| region_minus_exon | 0.000 | 0.000 | 0.002 | |
| roi | 0.004 | 0.000 | 0.002 | |
| shapiroAcceptor | 0.664 | 0.004 | 0.733 | |
| shapiroDonor | 0.700 | 0.004 | 0.702 | |
| splice_data | 0.000 | 0.000 | 0.001 | |
| splice_fasta | 0.000 | 0.000 | 0.002 | |
| splitPCRhit | 0.016 | 0.004 | 0.020 | |
| thecds | 0.000 | 0.000 | 0.001 | |
| theexons | 0.004 | 0.000 | 0.002 | |
| valid_cds | 0.000 | 0.000 | 0.001 | |
| valid_tx | 0.004 | 0.000 | 0.001 | |