| Back to Multiple platform build/check report for BioC 3.12 |
|
This page was generated on 2021-05-06 12:33:41 -0400 (Thu, 06 May 2021).
|
To the developers/maintainers of the SMAP package: Please make sure to use the following settings in order to reproduce any error or warning you see on this page. |
| Package 1738/1974 | Hostname | OS / Arch | INSTALL | BUILD | CHECK | BUILD BIN | ||||||||
| SMAP 1.54.0 (landing page) Robin Andersson
| malbec1 | Linux (Ubuntu 18.04.5 LTS) / x86_64 | OK | OK | OK | |||||||||
| tokay1 | Windows Server 2012 R2 Standard / x64 | OK | OK | OK | OK | |||||||||
| merida1 | macOS 10.14.6 Mojave / x86_64 | OK | OK | OK | OK | |||||||||
| Package: SMAP |
| Version: 1.54.0 |
| Command: rm -rf SMAP.buildbin-libdir && mkdir SMAP.buildbin-libdir && C:\Users\biocbuild\bbs-3.12-bioc\R\bin\R.exe CMD INSTALL --merge-multiarch --build --library=SMAP.buildbin-libdir SMAP_1.54.0.tar.gz |
| StartedAt: 2021-05-06 10:09:15 -0400 (Thu, 06 May 2021) |
| EndedAt: 2021-05-06 10:09:39 -0400 (Thu, 06 May 2021) |
| EllapsedTime: 24.3 seconds |
| RetCode: 0 |
| Status: OK |
| PackageFile: SMAP_1.54.0.zip |
| PackageFileSize: 4.542 MiB |
##############################################################################
##############################################################################
###
### Running command:
###
### rm -rf SMAP.buildbin-libdir && mkdir SMAP.buildbin-libdir && C:\Users\biocbuild\bbs-3.12-bioc\R\bin\R.exe CMD INSTALL --merge-multiarch --build --library=SMAP.buildbin-libdir SMAP_1.54.0.tar.gz
###
##############################################################################
##############################################################################
install for i386
* installing *source* package 'SMAP' ...
** using staged installation
** libs
"C:/rtools40/mingw32/bin/"gcc -I"C:/Users/BIOCBU~1/BBS-3~1.12-/R/include" -DNDEBUG -I"C:/extsoft/include" -O2 -Wall -std=gnu99 -mfpmath=sse -msse2 -mstackrealign -c gradient.c -o gradient.o
gradient.c: In function 'prior_gradient':
gradient.c:142:7: warning: variable 'lower' set but not used [-Wunused-but-set-variable]
int lower;
^~~~~
gradient.c: In function 'hmm_update':
gradient.c:247:10: warning: unused variable 'tmp' [-Wunused-variable]
double tmp;
^~~
"C:/rtools40/mingw32/bin/"gcc -I"C:/Users/BIOCBU~1/BBS-3~1.12-/R/include" -DNDEBUG -I"C:/extsoft/include" -O2 -Wall -std=gnu99 -mfpmath=sse -msse2 -mstackrealign -c init.c -o init.o
"C:/rtools40/mingw32/bin/"gcc -I"C:/Users/BIOCBU~1/BBS-3~1.12-/R/include" -DNDEBUG -I"C:/extsoft/include" -O2 -Wall -std=gnu99 -mfpmath=sse -msse2 -mstackrealign -c overlap.c -o overlap.o
"C:/rtools40/mingw32/bin/"gcc -I"C:/Users/BIOCBU~1/BBS-3~1.12-/R/include" -DNDEBUG -I"C:/extsoft/include" -O2 -Wall -std=gnu99 -mfpmath=sse -msse2 -mstackrealign -c prob.c -o prob.o
"C:/rtools40/mingw32/bin/"gcc -I"C:/Users/BIOCBU~1/BBS-3~1.12-/R/include" -DNDEBUG -I"C:/extsoft/include" -O2 -Wall -std=gnu99 -mfpmath=sse -msse2 -mstackrealign -c viterbi.c -o viterbi.o
C:/rtools40/mingw32/bin/gcc -shared -s -static-libgcc -o SMAP.dll tmp.def gradient.o init.o overlap.o prob.o viterbi.o -LC:/extsoft/lib/i386 -LC:/extsoft/lib -LC:/Users/BIOCBU~1/BBS-3~1.12-/R/bin/i386 -lR
installing to C:/Users/biocbuild/bbs-3.12-bioc/meat/SMAP.buildbin-libdir/00LOCK-SMAP/00new/SMAP/libs/i386
** R
** data
** inst
** byte-compile and prepare package for lazy loading
** help
*** installing help indices
converting help for package 'SMAP'
finding HTML links ... done
GBM html
SMAP-internal html
SMAPHMM-class html
SMAPHMM html
SMAPObservations-class html
SMAPObservations html
SMAPProfile-class html
SMAPProfiles-class html
smap html
** building package indices
** installing vignettes
** testing if installed package can be loaded from temporary location
** testing if installed package can be loaded from final location
** testing if installed package keeps a record of temporary installation path
install for x64
* installing *source* package 'SMAP' ...
** libs
"C:/rtools40/mingw64/bin/"gcc -I"C:/Users/BIOCBU~1/BBS-3~1.12-/R/include" -DNDEBUG -I"C:/extsoft/include" -O2 -Wall -std=gnu99 -mfpmath=sse -msse2 -mstackrealign -c gradient.c -o gradient.o
gradient.c: In function 'prior_gradient':
gradient.c:142:7: warning: variable 'lower' set but not used [-Wunused-but-set-variable]
int lower;
^~~~~
gradient.c: In function 'hmm_update':
gradient.c:247:10: warning: unused variable 'tmp' [-Wunused-variable]
double tmp;
^~~
"C:/rtools40/mingw64/bin/"gcc -I"C:/Users/BIOCBU~1/BBS-3~1.12-/R/include" -DNDEBUG -I"C:/extsoft/include" -O2 -Wall -std=gnu99 -mfpmath=sse -msse2 -mstackrealign -c init.c -o init.o
"C:/rtools40/mingw64/bin/"gcc -I"C:/Users/BIOCBU~1/BBS-3~1.12-/R/include" -DNDEBUG -I"C:/extsoft/include" -O2 -Wall -std=gnu99 -mfpmath=sse -msse2 -mstackrealign -c overlap.c -o overlap.o
"C:/rtools40/mingw64/bin/"gcc -I"C:/Users/BIOCBU~1/BBS-3~1.12-/R/include" -DNDEBUG -I"C:/extsoft/include" -O2 -Wall -std=gnu99 -mfpmath=sse -msse2 -mstackrealign -c prob.c -o prob.o
"C:/rtools40/mingw64/bin/"gcc -I"C:/Users/BIOCBU~1/BBS-3~1.12-/R/include" -DNDEBUG -I"C:/extsoft/include" -O2 -Wall -std=gnu99 -mfpmath=sse -msse2 -mstackrealign -c viterbi.c -o viterbi.o
C:/rtools40/mingw64/bin/gcc -shared -s -static-libgcc -o SMAP.dll tmp.def gradient.o init.o overlap.o prob.o viterbi.o -LC:/extsoft/lib/x64 -LC:/extsoft/lib -LC:/Users/BIOCBU~1/BBS-3~1.12-/R/bin/x64 -lR
installing to C:/Users/biocbuild/bbs-3.12-bioc/meat/SMAP.buildbin-libdir/SMAP/libs/x64
** testing if installed package can be loaded
* MD5 sums
packaged installation of 'SMAP' as SMAP_1.54.0.zip
* DONE (SMAP)