| Back to Multiple platform build/check report for BioC 3.12 |
|
This page was generated on 2021-05-06 12:33:39 -0400 (Thu, 06 May 2021).
|
To the developers/maintainers of the SISPA package: Please make sure to use the following settings in order to reproduce any error or warning you see on this page. |
| Package 1728/1974 | Hostname | OS / Arch | INSTALL | BUILD | CHECK | BUILD BIN | ||||||||
| SISPA 1.20.0 (landing page) Bhakti Dwivedi
| malbec1 | Linux (Ubuntu 18.04.5 LTS) / x86_64 | OK | OK | OK | |||||||||
| tokay1 | Windows Server 2012 R2 Standard / x64 | OK | OK | OK | OK | |||||||||
| merida1 | macOS 10.14.6 Mojave / x86_64 | OK | OK | OK | OK | |||||||||
| Package: SISPA |
| Version: 1.20.0 |
| Command: rm -rf SISPA.buildbin-libdir && mkdir SISPA.buildbin-libdir && C:\Users\biocbuild\bbs-3.12-bioc\R\bin\R.exe CMD INSTALL --merge-multiarch --build --library=SISPA.buildbin-libdir SISPA_1.20.0.tar.gz |
| StartedAt: 2021-05-06 10:08:40 -0400 (Thu, 06 May 2021) |
| EndedAt: 2021-05-06 10:09:32 -0400 (Thu, 06 May 2021) |
| EllapsedTime: 51.9 seconds |
| RetCode: 0 |
| Status: OK |
| PackageFile: SISPA_1.20.0.zip |
| PackageFileSize: 157.8 KiB |
##############################################################################
##############################################################################
###
### Running command:
###
### rm -rf SISPA.buildbin-libdir && mkdir SISPA.buildbin-libdir && C:\Users\biocbuild\bbs-3.12-bioc\R\bin\R.exe CMD INSTALL --merge-multiarch --build --library=SISPA.buildbin-libdir SISPA_1.20.0.tar.gz
###
##############################################################################
##############################################################################
install for i386
* installing *source* package 'SISPA' ...
** using staged installation
** R
** data
*** moving datasets to lazyload DB
** inst
** byte-compile and prepare package for lazy loading
** help
*** installing help indices
converting help for package 'SISPA'
finding HTML links ... done
ExpressionSet html
SISPA html
VariantSet html
callGSVA html
callZSCORE html
cptSamples html
filterVars html
freqplot html
sortData html
waterfallplot html
** building package indices
** installing vignettes
** testing if installed package can be loaded from temporary location
** testing if installed package can be loaded from final location
** testing if installed package keeps a record of temporary installation path
install for x64
* installing *source* package 'SISPA' ...
** testing if installed package can be loaded
* MD5 sums
packaged installation of 'SISPA' as SISPA_1.20.0.zip
* DONE (SISPA)