| Back to Multiple platform build/check report for BioC 3.12 |
|
This page was generated on 2021-05-06 12:33:36 -0400 (Thu, 06 May 2021).
|
To the developers/maintainers of the SIAMCAT package: Please make sure to use the following settings in order to reproduce any error or warning you see on this page. |
| Package 1698/1974 | Hostname | OS / Arch | INSTALL | BUILD | CHECK | BUILD BIN | ||||||||
| SIAMCAT 1.10.0 (landing page) Jakob Wirbel
| malbec1 | Linux (Ubuntu 18.04.5 LTS) / x86_64 | OK | OK | OK | |||||||||
| tokay1 | Windows Server 2012 R2 Standard / x64 | OK | OK | OK | OK | |||||||||
| merida1 | macOS 10.14.6 Mojave / x86_64 | OK | OK | OK | OK | |||||||||
| Package: SIAMCAT |
| Version: 1.10.0 |
| Command: rm -rf SIAMCAT.buildbin-libdir && mkdir SIAMCAT.buildbin-libdir && C:\Users\biocbuild\bbs-3.12-bioc\R\bin\R.exe CMD INSTALL --merge-multiarch --build --library=SIAMCAT.buildbin-libdir SIAMCAT_1.10.0.tar.gz |
| StartedAt: 2021-05-06 10:07:02 -0400 (Thu, 06 May 2021) |
| EndedAt: 2021-05-06 10:07:55 -0400 (Thu, 06 May 2021) |
| EllapsedTime: 52.5 seconds |
| RetCode: 0 |
| Status: OK |
| PackageFile: SIAMCAT_1.10.0.zip |
| PackageFileSize: 5.184 MiB |
##############################################################################
##############################################################################
###
### Running command:
###
### rm -rf SIAMCAT.buildbin-libdir && mkdir SIAMCAT.buildbin-libdir && C:\Users\biocbuild\bbs-3.12-bioc\R\bin\R.exe CMD INSTALL --merge-multiarch --build --library=SIAMCAT.buildbin-libdir SIAMCAT_1.10.0.tar.gz
###
##############################################################################
##############################################################################
install for i386
* installing *source* package 'SIAMCAT' ...
** using staged installation
** R
** data
*** moving datasets to lazyload DB
** inst
** byte-compile and prepare package for lazy loading
** help
*** installing help indices
converting help for package 'SIAMCAT'
finding HTML links ... done
SIAMCAT-package html
accessSlot html
add.meta.pred html
assign-associations html
assign-data_split html
assign-eval_data html
assign-filt_feat html
assign-label html
assign-meta html
assign-model_list html
assign-norm_feat html
assign-orig_feat html
assign-physeq html
assign-pred_matrix html
assoc_param-methods html
associations-methods html
check.associations html
check.confounders html
create.data.split html
create.label html
data_split-methods html
eval_data-methods html
evaluate.predictions html
feat.crc.zeller html
feature_type-methods html
feature_weights-methods html
filt_feat-methods html
filt_params-methods html
filter.features html
filter.label html
get.component.classes html
get.filt_feat.matrix html
get.norm_feat.matrix html
get.orig_feat.matrix html
label-methods html
make.predictions html
meta-methods html
meta.crc.zeller html
model.evaluation.plot html
model.interpretation.plot html
model_list-methods html
model_type-methods html
models-methods html
norm_feat-methods html
norm_params-methods html
normalize.features html
orig_feat-methods html
parse.label.header html
physeq-methods html
pred_matrix-methods html
read.label html
read.lefse html
select.samples html
show-methods html
siamcat-class html
siamcat html
siamcat.to.lefse html
siamcat.to.maaslin html
siamcat_example html
summarize.features html
finding level-2 HTML links ... done
train.model html
validate.data html
weight_matrix-methods html
*** copying figures
** building package indices
** installing vignettes
** testing if installed package can be loaded from temporary location
** testing if installed package can be loaded from final location
** testing if installed package keeps a record of temporary installation path
install for x64
* installing *source* package 'SIAMCAT' ...
** testing if installed package can be loaded
* MD5 sums
packaged installation of 'SIAMCAT' as SIAMCAT_1.10.0.zip
* DONE (SIAMCAT)