| Back to Multiple platform build/check report for BioC 3.12 | 
  | 
This page was generated on 2021-05-06 12:28:58 -0400 (Thu, 06 May 2021).
| 
To the developers/maintainers of the SAGx package: Please make sure to use the following settings in order to reproduce any error or warning you see on this page.  | 
| Package 1611/1974 | Hostname | OS / Arch | INSTALL | BUILD | CHECK | BUILD BIN | ||||||||
| SAGx 1.64.0  (landing page) Per Broberg, 
  | malbec1 | Linux (Ubuntu 18.04.5 LTS) / x86_64 | OK | OK | OK | |||||||||
| tokay1 | Windows Server 2012 R2 Standard / x64 | OK | OK | OK | OK | |||||||||
| merida1 | macOS 10.14.6 Mojave / x86_64 | OK | OK | OK | OK | |||||||||
| Package: SAGx | 
| Version: 1.64.0 | 
| Command: /home/biocbuild/bbs-3.12-bioc/R/bin/R CMD INSTALL SAGx | 
| StartedAt: 2021-05-05 16:08:28 -0400 (Wed, 05 May 2021) | 
| EndedAt: 2021-05-05 16:08:38 -0400 (Wed, 05 May 2021) | 
| EllapsedTime: 10.6 seconds | 
| RetCode: 0 | 
| Status: OK | 
##############################################################################
##############################################################################
###
### Running command:
###
###   /home/biocbuild/bbs-3.12-bioc/R/bin/R CMD INSTALL SAGx
###
##############################################################################
##############################################################################
* installing to library ‘/home/biocbuild/bbs-3.12-bioc/R/library’
* installing *source* package ‘SAGx’ ...
** using staged installation
** libs
gcc -I"/home/biocbuild/bbs-3.12-bioc/R/include" -DNDEBUG   -I/usr/local/include   -fpic  -g -O2  -Wall -c minigsea.c -o minigsea.o
minigsea.c: In function ‘MiniGSEA’:
minigsea.c:8:12: warning: variable ‘k’ set but not used [-Wunused-but-set-variable]
    int i,j,k,I;
            ^
gcc -I"/home/biocbuild/bbs-3.12-bioc/R/include" -DNDEBUG   -I/usr/local/include   -fpic  -g -O2  -Wall -c newboot.c -o newboot.o
gcc -I"/home/biocbuild/bbs-3.12-bioc/R/include" -DNDEBUG   -I/usr/local/include   -fpic  -g -O2  -Wall -c samrocNboot.c -o samrocNboot.o
gcc -shared -L/home/biocbuild/bbs-3.12-bioc/R/lib -L/usr/local/lib -o SAGx.so minigsea.o newboot.o samrocNboot.o -L/home/biocbuild/bbs-3.12-bioc/R/lib -lR
installing to /home/biocbuild/bbs-3.12-bioc/R/library/00LOCK-SAGx/00new/SAGx/libs
** R
** byte-compile and prepare package for lazy loading
** help
*** installing help indices
** building package indices
** installing vignettes
** testing if installed package can be loaded from temporary location
** checking absolute paths in shared objects and dynamic libraries
** testing if installed package can be loaded from final location
** testing if installed package keeps a record of temporary installation path
* DONE (SAGx)