| Back to Multiple platform build/check report for BioC 3.12 |
|
This page was generated on 2021-05-06 12:33:23 -0400 (Thu, 06 May 2021).
|
To the developers/maintainers of the Rtpca package: Please make sure to use the following settings in order to reproduce any error or warning you see on this page. |
| Package 1597/1974 | Hostname | OS / Arch | INSTALL | BUILD | CHECK | BUILD BIN | ||||||||
| Rtpca 1.0.0 (landing page) Nils Kurzawa
| malbec1 | Linux (Ubuntu 18.04.5 LTS) / x86_64 | OK | OK | OK | |||||||||
| tokay1 | Windows Server 2012 R2 Standard / x64 | OK | OK | OK | OK | |||||||||
| merida1 | macOS 10.14.6 Mojave / x86_64 | OK | OK | OK | OK | |||||||||
| Package: Rtpca |
| Version: 1.0.0 |
| Command: rm -rf Rtpca.buildbin-libdir && mkdir Rtpca.buildbin-libdir && C:\Users\biocbuild\bbs-3.12-bioc\R\bin\R.exe CMD INSTALL --merge-multiarch --build --library=Rtpca.buildbin-libdir Rtpca_1.0.0.tar.gz |
| StartedAt: 2021-05-06 10:01:12 -0400 (Thu, 06 May 2021) |
| EndedAt: 2021-05-06 10:01:37 -0400 (Thu, 06 May 2021) |
| EllapsedTime: 25.0 seconds |
| RetCode: 0 |
| Status: OK |
| PackageFile: Rtpca_1.0.0.zip |
| PackageFileSize: 2.302 MiB |
##############################################################################
##############################################################################
###
### Running command:
###
### rm -rf Rtpca.buildbin-libdir && mkdir Rtpca.buildbin-libdir && C:\Users\biocbuild\bbs-3.12-bioc\R\bin\R.exe CMD INSTALL --merge-multiarch --build --library=Rtpca.buildbin-libdir Rtpca_1.0.0.tar.gz
###
##############################################################################
##############################################################################
install for i386
* installing *source* package 'Rtpca' ...
** using staged installation
** R
** data
** inst
** byte-compile and prepare package for lazy loading
** help
*** installing help indices
converting help for package 'Rtpca'
finding HTML links ... done
CommonFeatures-tpcaResult-method html
ComplexAnnotation-tpcaResult-method html
ComplexBackgroundDistributionList-tpcaResult-method
html
ComplexRocTable-tpcaResult-method html
ContrastCondName-tpcaResult-method html
ContrastDistMat-tpcaResult-method html
ContrastList-tpcaResult-method html
CtrlCondName-tpcaResult-method html
DistMat-tpcaResult-method html
DistMethod-tpcaResult-method html
ObjList-tpcaResult-method html
PPiAnnotation-tpcaResult-method html
PPiRocTable-tpcaResult-method html
PPiRocTableAnno-tpcaResult-method html
SetCommonFeatures-tpcaResult-method html
SetComplexAnnotation-tpcaResult-method
html
SetComplexBackgroundDistributionList-tpcaResult-method
html
SetComplexRocTable-tpcaResult-method html
SetContrastCondName-tpcaResult-method html
SetContrastDistMat-tpcaResult-method html
SetCtrlCondName-tpcaResult-method html
SetDiffTpcaResultTable-tpcaResult-method
html
SetDistMat-tpcaResult-method html
SetDistMethod-tpcaResult-method html
SetPPiRocTable-tpcaResult-method html
SetPPiRocTableAnno-tpcaResult-method html
SetSummaryMethod-tpcaResult-method html
SetTpcaResultTable-tpcaResult-method html
SummaryMethod-tpcaResult-method html
createDistMat html
diffTpcaResultTable-tpcaResult-method html
ori_et_al_complex_ppis html
ori_et_al_complexes_df html
plotComplexRoc html
plotDiffTpcaVolcano html
plotPPiProfiles html
plotPPiRoc html
plotTpcaVolcano html
runDiffTPCA html
runTPCA html
string_ppi_df html
tpcaResult-class html
tpcaResultTable-tpcaResult-method html
** building package indices
** installing vignettes
** testing if installed package can be loaded from temporary location
** testing if installed package can be loaded from final location
** testing if installed package keeps a record of temporary installation path
install for x64
* installing *source* package 'Rtpca' ...
** testing if installed package can be loaded
* MD5 sums
packaged installation of 'Rtpca' as Rtpca_1.0.0.zip
* DONE (Rtpca)