| Back to Multiple platform build/check report for BioC 3.12 |
|
This page was generated on 2021-05-06 12:28:52 -0400 (Thu, 06 May 2021).
|
To the developers/maintainers of the RmiR package: Please make sure to use the following settings in order to reproduce any error or warning you see on this page. |
| Package 1542/1974 | Hostname | OS / Arch | INSTALL | BUILD | CHECK | BUILD BIN | ||||||||
| RmiR 1.46.0 (landing page) Francesco Favero
| malbec1 | Linux (Ubuntu 18.04.5 LTS) / x86_64 | OK | OK | OK | |||||||||
| tokay1 | Windows Server 2012 R2 Standard / x64 | OK | OK | ERROR | OK | |||||||||
| merida1 | macOS 10.14.6 Mojave / x86_64 | OK | OK | OK | OK | |||||||||
| Package: RmiR |
| Version: 1.46.0 |
| Command: /home/biocbuild/bbs-3.12-bioc/R/bin/R CMD check --install=check:RmiR.install-out.txt --library=/home/biocbuild/bbs-3.12-bioc/R/library --no-vignettes --timings RmiR_1.46.0.tar.gz |
| StartedAt: 2021-05-06 05:19:56 -0400 (Thu, 06 May 2021) |
| EndedAt: 2021-05-06 05:21:27 -0400 (Thu, 06 May 2021) |
| EllapsedTime: 91.1 seconds |
| RetCode: 0 |
| Status: OK |
| CheckDir: RmiR.Rcheck |
| Warnings: 0 |
##############################################################################
##############################################################################
###
### Running command:
###
### /home/biocbuild/bbs-3.12-bioc/R/bin/R CMD check --install=check:RmiR.install-out.txt --library=/home/biocbuild/bbs-3.12-bioc/R/library --no-vignettes --timings RmiR_1.46.0.tar.gz
###
##############################################################################
##############################################################################
* using log directory ‘/home/biocbuild/bbs-3.12-bioc/meat/RmiR.Rcheck’
* using R version 4.0.5 (2021-03-31)
* using platform: x86_64-pc-linux-gnu (64-bit)
* using session charset: UTF-8
* using option ‘--no-vignettes’
* checking for file ‘RmiR/DESCRIPTION’ ... OK
* this is package ‘RmiR’ version ‘1.46.0’
* checking package namespace information ... OK
* checking package dependencies ... OK
* checking if this is a source package ... OK
* checking if there is a namespace ... OK
* checking for hidden files and directories ... OK
* checking for portable file names ... OK
* checking for sufficient/correct file permissions ... OK
* checking whether package ‘RmiR’ can be installed ... OK
* checking installed package size ... OK
* checking package directory ... OK
* checking ‘build’ directory ... OK
* checking DESCRIPTION meta-information ... NOTE
Malformed Description field: should contain one or more complete sentences.
* checking top-level files ... OK
* checking for left-over files ... OK
* checking index information ... OK
* checking package subdirectories ... OK
* checking R files for non-ASCII characters ... OK
* checking R files for syntax errors ... OK
* checking whether the package can be loaded ... OK
* checking whether the package can be loaded with stated dependencies ... OK
* checking whether the package can be unloaded cleanly ... OK
* checking whether the namespace can be loaded with stated dependencies ... OK
* checking whether the namespace can be unloaded cleanly ... OK
* checking dependencies in R code ... NOTE
'library' or 'require' call to ‘RSVGTipsDevice’ which was already attached by Depends.
Please remove these calls from your code.
Packages in Depends field not imported from:
‘RSVGTipsDevice’ ‘RmiR.Hs.miRNA’
These packages need to be imported from (in the NAMESPACE file)
for when this namespace is loaded but not attached.
* checking S3 generic/method consistency ... OK
* checking replacement functions ... OK
* checking foreign function calls ... OK
* checking R code for possible problems ... NOTE
plotRmiRtc: no visible global function definition for ‘devSVGTips’
plotRmiRtc: no visible global function definition for
‘setSVGShapeToolTip’
plotRmiRtc: no visible global function definition for ‘setSVGShapeURL’
plotRmiRtc: no visible global function definition for ‘points’
plotRmiRtc: no visible global function definition for ‘lines’
plotRmiRtc: no visible global function definition for ‘legend’
plotRmiRtc: no visible global function definition for ‘dev.off’
readRmiRtc: no visible global function definition for ‘write.table’
Undefined global functions or variables:
dev.off devSVGTips legend lines points setSVGShapeToolTip
setSVGShapeURL write.table
Consider adding
importFrom("grDevices", "dev.off")
importFrom("graphics", "legend", "lines", "points")
importFrom("utils", "write.table")
to your NAMESPACE file.
* checking Rd files ... OK
* checking Rd metadata ... OK
* checking Rd cross-references ... OK
* checking for missing documentation entries ... OK
* checking for code/documentation mismatches ... OK
* checking Rd \usage sections ... OK
* checking Rd contents ... OK
* checking for unstated dependencies in examples ... OK
* checking contents of ‘data’ directory ... OK
* checking data for non-ASCII characters ... OK
* checking data for ASCII and uncompressed saves ... OK
* checking files in ‘vignettes’ ... OK
* checking examples ... OK
Examples with CPU (user + system) or elapsed time > 5s
user system elapsed
RmiR 14.512 0.348 15.312
plotRmiRtc 6.260 0.028 6.293
RmiRtc 5.912 0.032 5.960
* checking for unstated dependencies in vignettes ... OK
* checking package vignettes in ‘inst/doc’ ... OK
* checking running R code from vignettes ... SKIPPED
* checking re-building of vignette outputs ... SKIPPED
* checking PDF version of manual ... OK
* DONE
Status: 3 NOTEs
See
‘/home/biocbuild/bbs-3.12-bioc/meat/RmiR.Rcheck/00check.log’
for details.
RmiR.Rcheck/00install.out
############################################################################## ############################################################################## ### ### Running command: ### ### /home/biocbuild/bbs-3.12-bioc/R/bin/R CMD INSTALL RmiR ### ############################################################################## ############################################################################## * installing to library ‘/home/biocbuild/bbs-3.12-bioc/R/library’ * installing *source* package ‘RmiR’ ... ** using staged installation ** R ** data ** byte-compile and prepare package for lazy loading ** help *** installing help indices ** building package indices ** installing vignettes ** testing if installed package can be loaded from temporary location ** testing if installed package can be loaded from final location ** testing if installed package keeps a record of temporary installation path * DONE (RmiR)
RmiR.Rcheck/RmiR-Ex.timings
| name | user | system | elapsed | |
| RmiR | 14.512 | 0.348 | 15.312 | |
| RmiRtc | 5.912 | 0.032 | 5.960 | |
| data | 0.020 | 0.000 | 0.019 | |
| plotRmiRtc | 6.260 | 0.028 | 6.293 | |