| Back to Multiple platform build/check report for BioC 3.12 |
|
This page was generated on 2021-05-06 12:33:17 -0400 (Thu, 06 May 2021).
|
To the developers/maintainers of the Risa package: Please make sure to use the following settings in order to reproduce any error or warning you see on this page. |
| Package 1534/1974 | Hostname | OS / Arch | INSTALL | BUILD | CHECK | BUILD BIN | ||||||||
| Risa 1.32.0 (landing page) Alejandra Gonzalez-Beltran
| malbec1 | Linux (Ubuntu 18.04.5 LTS) / x86_64 | OK | OK | OK | |||||||||
| tokay1 | Windows Server 2012 R2 Standard / x64 | OK | OK | OK | OK | |||||||||
| merida1 | macOS 10.14.6 Mojave / x86_64 | OK | OK | OK | OK | |||||||||
| Package: Risa |
| Version: 1.32.0 |
| Command: rm -rf Risa.buildbin-libdir && mkdir Risa.buildbin-libdir && C:\Users\biocbuild\bbs-3.12-bioc\R\bin\R.exe CMD INSTALL --merge-multiarch --build --library=Risa.buildbin-libdir Risa_1.32.0.tar.gz |
| StartedAt: 2021-05-06 09:57:06 -0400 (Thu, 06 May 2021) |
| EndedAt: 2021-05-06 09:58:01 -0400 (Thu, 06 May 2021) |
| EllapsedTime: 54.2 seconds |
| RetCode: 0 |
| Status: OK |
| PackageFile: Risa_1.32.0.zip |
| PackageFileSize: 2.79 MiB |
##############################################################################
##############################################################################
###
### Running command:
###
### rm -rf Risa.buildbin-libdir && mkdir Risa.buildbin-libdir && C:\Users\biocbuild\bbs-3.12-bioc\R\bin\R.exe CMD INSTALL --merge-multiarch --build --library=Risa.buildbin-libdir Risa_1.32.0.tar.gz
###
##############################################################################
##############################################################################
install for i386
* installing *source* package 'Risa' ...
** using staged installation
** R
** inst
** byte-compile and prepare package for lazy loading
** help
*** installing help indices
converting help for package 'Risa'
finding HTML links ... done
AssayTab-class html
ISAtab-class html
Risa-package html
getAnnotatedDataFrameAssay html
getAssayRawDataFilenames-methods html
getExpressionSet html
getMIAMEMetadata html
getMSAssayFilenames html
getMicroarrayAssayFilenames html
getRawDataFilenames-methods html
getStudyFilename html
isMSAssay html
isMicroarrayAssay html
processAssayXcmsSet.1factor html
processAssayXcmsSet html
readISAtab html
suggestBiocPackage html
updateAssayMetadata html
write.assay.file html
write.investigation.file html
write.isatab html
write.study.file html
** building package indices
** installing vignettes
** testing if installed package can be loaded from temporary location
** testing if installed package can be loaded from final location
** testing if installed package keeps a record of temporary installation path
install for x64
* installing *source* package 'Risa' ...
** testing if installed package can be loaded
* MD5 sums
packaged installation of 'Risa' as Risa_1.32.0.zip
* DONE (Risa)